{"text_format":"1","workbook":"xlsx","n_sheets":6,"sheets":["Eingabe Email","H1","H2","H1 Originaldaten","H2 Originaldaten","H1 Originaldaten (2)"],"not_rendered":{"charts":8,"images":0,"macros":1,"external_links":0,"defined_names":0,"comments":0,"pivot_tables":0},"unopened":[],"bounds":{"document_bytes":16777216,"sheet_cells":100000,"rows_first":2000,"rows_last":500,"rows_between":2000,"halvings":0,"cell_chars":16384,"cell_head_chars":4096},"cells_cut":0,"cells_raw":0,"read":"whole","date_system":"1900"}

{"sheet":"Eingabe Email","index":0,"n_rows":10000,"n_cols":2,"rows_kept":10000,"cut":false,"hidden":false,"merged":[]}
["Emailadresse eingeben:",{"$f":"strcode(A2)","v":5999}]
["stxxyyyy@stud.h-da.de",{"$f":"prnd(B1)","v":272087}]
[null,{"$f":"prnd(B2)","v":1103626}]
[null,{"$f":"prnd(B3)","v":619092}]
[null,1040706]
[null,1030009]
[null,826773]
[null,866190]
[null,795932]
[null,583982]
[null,939709]
[null,562575]
[null,529831]
[null,1048726]
[null,531871]
[null,283517]
[null,199219]
[null,207856]
[null,1171061]
[null,91416]
[null,556628]
[null,271406]
[null,925204]
[null,661332]
[null,410385]
[null,946410]
[null,1018548]
[null,423369]
[null,449151]
[null,705590]
[null,308780]
[null,319680]
[null,576102]
[null,174838]
[null,318479]
[null,261440]
[null,913490]
[null,191642]
[null,822060]
[null,931073]
[null,899321]
[null,378431]
[null,372596]
[null,143515]
[null,1209676]
[null,1110723]
[null,1178817]
[null,823799]
[null,87002]
[null,699849]
[null,104327]
[null,40243]
[null,146192]
[null,611361]
[null,314873]
[null,616357]
[null,324136]
[null,443885]
[null,625587]
[null,143018]
[null,1079462]
[null,786569]
[null,730254]
[null,272303]
[null,1160218]
[null,1149617]
[null,971533]
[null,{"$f":"prnd(B67)","v":1102329}]
[null,279278]
[null,388290]
[null,356276]
[null,1066431]
[null,1271514]
[null,416322]
[null,1202215]
[null,455630]
[null,1103399]
[null,559618]
[null,1054786]
[null,819902]
[null,365677]
[null,930115]
[null,648325]
[null,901618]
[null,980245]
[null,785495]
[null,448866]
[null,630920]
[null,240575]
[null,645616]
[null,191860]
[null,879176]
[null,299197]
[null,408312]
[null,403284]
[null,385637]
[null,960879]
[null,910359]
[null,671009]
[null,346381]
[null,1073319]
[null,476792]
[null,149398]
[null,151644]
[null,740096]
[null,251529]
[null,916186]
[null,897994]
[null,30757]
[null,260238]
[null,598566]
[null,861650]
[null,906141]
[null,865582]
[null,636636]
[null,438478]
[null,508642]
[null,695964]
[null,386146]
[null,1094237]
[null,758552]
[null,1187934]
[null,613075]
[null,763941]
[null,474]
[null,124226]
[null,55025]
[null,120009]
[null,249860]
[null,478908]
[null,703790]
[null,{"$f":"prnd(B131)","v":1136869}]
[null,230935]
[null,719314]
[null,5401]
[null,115411]
[null,344873]
[null,678223]
[null,936760]
[null,1089626]
[null,850159]
[null,494877]
[null,988601]
[null,375389]
[null,875281]
[null,578396]
[null,775866]
[null,525446]
[null,1199545]
[null,1055779]
[null,1080068]
[null,945341]
[null,738470]
[null,1125206]
[null,1074296]
[null,732766]
[null,930447]
[null,735309]
[null,297024]
[null,1138675]
[null,704107]
[null,1219923]
[null,1196059]
[null,142447]
[null,929860]
[null,581515]
[null,293355]
[null,177397]
[null,988937]
[null,463421]
[null,545263]
[null,1192843]
[null,599544]
[null,1117886]
[null,456145]
[null,1238329]
[null,819675]
[null,306203]
[null,944195]
[null,438218]
[null,440522]
[null,1044170]
[null,637888]
[null,766502]
[null,671456]
[null,463495]
[null,564651]
[null,1073743]
[null,587880]
[null,661296]
[null,400953]
[null,1074604]
[null,813462]
[null,1277775]
[null,757015]
[null,{"$f":"prnd(B195)","v":785240}]
[null,382056]
[null,22657]
[null,737416]
[null,849058]
[null,206415]
[null,793519]
[null,1251465]
[null,362240]
[null,29621]
[null,1262295]
[null,600322]
[null,22033]
[null,573928]
[null,904939]
[null,550658]
[null,6955]
[null,522559]
[null,443151]
[null,433279]
[null,446193]
[null,1230283]
[null,11312]
[null,364404]
[null,596589]
[null,343676]
[null,364609]
[null,650299]
[null,119117]
[null,16156]
[null,333843]
[null,387741]
[null,212438]
[null,1071856]
[null,93486]
[null,1098968]
[null,698385]
[null,1020448]
[null,921169]
[null,903851]
[null,265602]
[null,704245]
[null,1256079]
[null,271419]
[null,928610]
[null,254015]
[null,267829]
[null,1287719]
[null,762965]
[null,1044451]
[null,711510]
[null,560131]
[null,1189192]
[null,942671]
[null,38930]
[null,1101875]
[null,160330]
[null,416450]
[null,1235751]
[null,144239]
[null,99675]
[null,121108]
[null,537798]
[null,536702]
[null,{"$f":"prnd(B259)","v":249550}]
[null,397688]
[null,219174]
[null,237310]
[null,1089875]
[null,915397]
[null,691276]
[null,457579]
[null,314348]
[null,478807]
[null,677328]
[null,702270]
[null,738629]
[null,1166864]
[null,291491]
[null,988718]
[null,406043]
[null,1108495]
[null,595081]
[null,1248269]
[null,824577]
[null,290838]
[null,817632]
[null,1070626]
[null,1070915]
[null,1146633]
[null,189725]
[null,319806]
[null,609114]
[null,1025848]
[null,1036280]
[null,1170086]
[null,1135655]
[null,1212556]
[null,565594]
[null,21120]
[null,334722]
[null,618039]
[null,764820]
[null,230772]
[null,676608]
[null,513630]
[null,703131]
[null,964211]
[null,483654]
[null,647553]
[null,699354]
[null,1274326]
[null,1153066]
[null,575482]
[null,12398]
[null,648936]
[null,1061700]
[null,31992]
[null,583808]
[null,894121]
[null,315720]
[null,838271]
[null,1279288]
[null,1153421]
[null,668492]
[null,986616]
[null,1155008]
[null,1084286]
[null,{"$f":"prnd(B323)","v":750768}]
[null,448215]
[null,460358]
[null,1042446]
[null,186200]
[null,695945]
[null,381168]
[null,1089690]
[null,866927]
[null,989026]
[null,486739]
[null,156134]
[null,616787]
[null,436796]
[null,67958]
[null,909077]
[null,335125]
[null,723625]
[null,1134883]
[null,1010292]
[null,859675]
[null,388691]
[null,461338]
[null,1299206]
[null,1173181]
[null,646856]
[null,516740]
[null,218262]
[null,1298055]
[null,871619]
[null,918641]
[null,241515]
[null,891896]
[null,1032459]
[null,168984]
[null,84420]
[null,23365]
[null,922912]
[null,60828]
[null,340706]
[null,886158]
[null,828792]
[null,95479]
[null,321445]
[null,1038532]
[null,460421]
[null,1058952]
[null,611705]
[null,405001]
[null,835491]
[null,550928]
[null,77695]
[null,860793]
[null,681607]
[null,523679]
[null,736591]
[null,632908]
[null,761431]
[null,642543]
[null,686423]
[null,485782]
[null,1205089]
[null,1208618]
[null,833527]
[null,{"$f":"prnd(B387)","v":36360}]
[null,428535]
[null,502954]
[null,505397]
[null,1145463]
[null,1182874]
[null,587044]
[null,442264]
[null,200885]
[null,644348]
[null,1159333]
[null,917747]
[null,7287]
[null,609543]
[null,1138246]
[null,591709]
[null,364805]
[null,701651]
[null,576451]
[null,266276]
[null,880833]
[null,733331]
[null,1078477]
[null,528499]
[null,699742]
[null,76293]
[null,493469]
[null,619705]
[null,1201312]
[null,219044]
[null,203250]
[null,1263978]
[null,1041268]
[null,1177253]
[null,414031]
[null,601973]
[null,454595]
[null,832229]
[null,995973]
[null,1007164]
[null,40139]
[null,118944]
[null,1270519]
[null,155632]
[null,485263]
[null,1069111]
[null,673985]
[null,1126093]
[null,7001]
[null,534611]
[null,1001397]
[null,1128563]
[null,654141]
[null,1125721]
[null,1209226]
[null,992823]
[null,181864]
[null,859602]
[null,369565]
[null,649082]
[null,1099952]
[null,956193]
[null,982316]
[null,28408]
[null,{"$f":"prnd(B451)","v":944489}]
[null,515246]
[null,1126523]
[null,119661]
[null,158684]
[null,1284887]
[null,20981]
[null,298304]
[null,174346]
[null,189575]
[null,280506]
[null,710026]
[null,171323]
[null,697238]
[null,719934]
[null,167841]
[null,1084643]
[null,844302]
[null,260032]
[null,544594]
[null,1017565]
[null,165823]
[null,555927]
[null,87744]
[null,894253]
[null,350304]
[null,801456]
[null,731581]
[null,619977]
[null,1272576]
[null,694566]
[null,19870]
[null,7222]
[null,592513]
[null,575453]
[null,4800]
[null,1257638]
[null,679877]
[null,70419]
[null,254170]
[null,308439]
[null,230338]
[null,562900]
[null,614981]
[null,1263313]
[null,867038]
[null,1018108]
[null,308089]
[null,138638]
[null,1231591]
[null,354008]
[null,472215]
[null,249913]
[null,492794]
[null,442855]
[null,355727]
[null,922593]
[null,1276939]
[null,537983]
[null,585172]
[null,1251489]
[null,368528]
[null,377388]
[null,99330]
[null,{"$f":"prnd(B515)","v":30718}]
[null,250020]
[null,520828]
[null,1289318]
[null,1181903]
[null,332642]
[null,73079]
[null,951090]
[null,945019]
[null,654106]
[null,1116551]
[null,106375]
[null,576819]
[null,362692]
[null,148045]
[null,1096847]
[null,142683]
[null,991692]
[null,1185231]
[null,1204578]
[null,1074736]
[null,848046]
[null,1240960]
[null,209308]
[null,251796]
[null,986140]
[null,1030296]
[null,901967]
[null,1071683]
[null,48160]
[null,920757]
[null,795907]
[null,577432]
[null,523298]
[null,636769]
[null,473324]
[null,540471]
[null,1237028]
[null,478813]
[null,678900]
[null,1114134]
[null,772810]
[null,1024463]
[null,673410]
[null,975443]
[null,827060]
[null,941384]
[null,1001425]
[null,1135899]
[null,1276484]
[null,418773]
[null,544688]
[null,1042193]
[null,119914]
[null,224970]
[null,456173]
[null,1245665]
[null,142329]
[null,898944]
[null,279657]
[null,487588]
[null,378572]
[null,409538]
[null,724496]
[null,{"$f":"prnd(B579)","v":63396}]
[null,1013522]
[null,406246]
[null,1161681]
[null,233234]
[null,21963]
[null,555588]
[null,1298615]
[null,1018339]
[null,368611]
[null,399134]
[null,598026]
[null,720170]
[null,229673]
[null,388670]
[null,455836]
[null,1157371]
[null,403703]
[null,495415]
[null,1129557]
[null,914569]
[null,474340]
[null,806663]
[null,796126]
[null,634810]
[null,1259755]
[null,1234531]
[null,1124288]
[null,833780]
[null,102646]
[null,899510]
[null,427949]
[null,349422]
[null,570372]
[null,1272956]
[null,794126]
[null,110810]
[null,439100]
[null,671606]
[null,502795]
[null,463739]
[null,628579]
[null,926922]
[null,1111448]
[null,69078]
[null,1202517]
[null,534754]
[null,1038863]
[null,547143]
[null,385714]
[null,981053]
[null,997191]
[null,26591]
[null,468435]
[null,559242]
[null,956274]
[null,1003538]
[null,389816]
[null,756088]
[null,542366]
[null,433829]
[null,590293]
[null,1293502]
[null,978422]
[null,{"$f":"prnd(B643)","v":307869}]
[null,80998]
[null,426490]
[null,1266853]
[null,494829]
[null,976025]
[null,979544]
[null,601833]
[null,417915]
[null,319892]
[null,631646]
[null,430787]
[null,1092978]
[null,428694]
[null,544612]
[null,1022281]
[null,101726]
[null,658470]
[null,960230]
[null,740321]
[null,310479]
[null,764818]
[null,230248]
[null,539320]
[null,935466]
[null,750598]
[null,403675]
[null,488079]
[null,507214]
[null,321828]
[null,1138878]
[null,757293]
[null,858076]
[null,1269442]
[null,1173147]
[null,637948]
[null,782222]
[null,891029]
[null,805305]
[null,440330]
[null,993866]
[null,455130]
[null,972399]
[null,29532]
[null,1238977]
[null,989451]
[null,598089]
[null,736676]
[null,655178]
[null,97726]
[null,910159]
[null,618609]
[null,914160]
[null,367182]
[null,24736]
[null,1282114]
[null,594144]
[null,1002775]
[null,189910]
[null,368276]
[null,311364]
[null,996688]
[null,1194494]
[null,1032106]
[null,{"$f":"prnd(B707)","v":76498}]
[null,547179]
[null,395146]
[null,852859]
[null,1202277]
[null,471874]
[null,160571]
[null,479592]
[null,882998]
[null,872]
[null,228502]
[null,81868]
[null,654430]
[null,1201439]
[null,252318]
[null,1122904]
[null,471172]
[null,1276336]
[null,379997]
[null,782888]
[null,1065521]
[null,1033094]
[null,335354]
[null,783623]
[null,1258091]
[null,798563]
[null,1273304]
[null,885302]
[null,604520]
[null,1121909]
[null,210482]
[null,559384]
[null,993478]
[null,353474]
[null,332307]
[null,1284998]
[null,50063]
[null,119654]
[null,156850]
[null,804379]
[null,197718]
[null,1114283]
[null,811848]
[null,854907]
[null,439164]
[null,688374]
[null,996944]
[null,1261566]
[null,409324]
[null,668428]
[null,969848]
[null,660859]
[null,286459]
[null,970023]
[null,706709]
[null,601958]
[null,450665]
[null,1102258]
[null,260676]
[null,713322]
[null,1034875]
[null,801976]
[null,867821]
[null,1223254]
[null,{"$f":"prnd(B771)","v":769092}]
[null,50347]
[null,194062]
[null,156411]
[null,689361]
[null,1255538]
[null,129677]
[null,183498]
[null,1287710]
[null,760607]
[null,426655]
[null,10394]
[null,123888]
[null,1266158]
[null,312739]
[null,57249]
[null,702697]
[null,850503]
[null,585005]
[null,1207735]
[null,602181]
[null,509091]
[null,813602]
[null,14766]
[null,1269352]
[null,1149567]
[null,958433]
[null,269507]
[null,427666]
[null,275276]
[null,639455]
[null,1177056]
[null,362417]
[null,75995]
[null,415393]
[null,958817]
[null,370115]
[null,793182]
[null,1163171]
[null,623614]
[null,925781]
[null,812506]
[null,1027303]
[null,117801]
[null,971053]
[null,976569]
[null,1122072]
[null,253188]
[null,51155]
[null,405758]
[null,1033825]
[null,526876]
[null,274516]
[null,440335]
[null,995176]
[null,798350]
[null,1217498]
[null,560709]
[null,40939]
[null,328544]
[null,299092]
[null,380802]
[null,993798]
[null,437314]
[null,{"$f":"prnd(B835)","v":203674}]
[null,75377]
[null,253477]
[null,126873]
[null,748539]
[null,1163906]
[null,816184]
[null,691250]
[null,450767]
[null,1128982]
[null,763919]
[null,1294399]
[null,1213436]
[null,796154]
[null,642146]
[null,582409]
[null,527583]
[null,459750]
[null,883150]
[null,40696]
[null,264878]
[null,514557]
[null,946005]
[null,912438]
[null,1215707]
[null,91467]
[null,569990]
[null,1172872]
[null,565898]
[null,100768]
[null,407474]
[null,183728]
[null,48281]
[null,952459]
[null,4008]
[null,1050134]
[null,900767]
[null,757283]
[null,855456]
[null,583002]
[null,682949]
[null,875283]
[null,578920]
[null,913154]
[null,103610]
[null,1152078]
[null,316626]
[null,1075643]
[null,1085680]
[null,1115996]
[null,1260654]
[null,170380]
[null,450172]
[null,973092]
[null,211098]
[null,720776]
[null,388445]
[null,396886]
[null,9050]
[null,1071449]
[null,1286541]
[null,454329]
[null,762537]
[null,932315]
[null,{"$f":"prnd(B899)","v":1224725}]
[null,1154494]
[null,949618]
[null,559355]
[null,985880]
[null,962176]
[null,1250173]
[null,23736]
[null,1020114]
[null,833661]
[null,71468]
[null,529008]
[null,833100]
[null,1224175]
[null,1010394]
[null,886399]
[null,891934]
[null,1042415]
[null,178078]
[null,1167359]
[null,421181]
[null,1175584]
[null,1276442]
[null,407769]
[null,261018]
[null,802926]
[null,1116721]
[null,150915]
[null,549098]
[null,897924]
[null,12417]
[null,653914]
[null,1066247]
[null,1223306]
[null,782716]
[null,1020457]
[null,923527]
[null,221958]
[null,966718]
[null,1140488]
[null,1179113]
[null,901351]
[null,910291]
[null,653193]
[null,877345]
[null,1119164]
[null,790981]
[null,586509]
[null,302094]
[null,1167326]
[null,412535]
[null,210021]
[null,438602]
[null,541130]
[null,109997]
[null,226094]
[null,750661]
[null,420181]
[null,913584]
[null,216270]
[null,776151]
[null,600116]
[null,1267750]
[null,729843]
[null,{"$f":"prnd(B963)","v":164621}]
[null,241003]
[null,757752]
[null,978334]
[null,284813]
[null,538771]
[null,791628]
[null,756023]
[null,525336]
[null,1170725]
[null,3384]
[null,886646]
[null,956648]
[null,1101526]
[null,68892]
[null,1153785]
[null,763860]
[null,1278941]
[null,1062507]
[null,243426]
[null,92889]
[null,942554]
[null,8276]
[null,868661]
[null,143645]
[null,1243736]
[null,936620]
[null,1052946]
[null,337822]
[null,130550]
[null,412224]
[null,128539]
[null,1185031]
[null,1152178]
[null,342826]
[null,141909]
[null,788904]
[null,42335]
[null,694296]
[null,1248819]
[null,968677]
[null,354057]
[null,485053]
[null,1014091]
[null,555324]
[null,1229447]
[null,1091969]
[null,164336]
[null,166333]
[null,689547]
[null,4581]
[null,1200260]
[null,1243109]
[null,772346]
[null,902895]
[null,15130]
[null,65031]
[null,142203]
[null,865932]
[null,728336]
[null,1069476]
[null,769615]
[null,187373]
[null,1003271]
[null,{"$f":"prnd(B1027)","v":319862}]
[null,623786]
[null,970845]
[null,922073]
[null,1140699]
[null,1234395]
[null,1088656]
[null,596019]
[null,194336]
[null,228199]
[null,2482]
[null,650322]
[null,125143]
[null,295279]
[null,681485]
[null,491715]
[null,160157]
[null,371124]
[null,1057540]
[null,241761]
[null,956348]
[null,1022926]
[null,270716]
[null,744424]
[null,85776]
[null,378637]
[null,426568]
[null,1287289]
[null,650305]
[null,120689]
[null,428020]
[null,368024]
[null,245340]
[null,594357]
[null,1058581]
[null,514503]
[null,931857]
[null,1104729]
[null,908078]
[null,73387]
[null,1031786]
[null,1292347]
[null,675812]
[null,305078]
[null,649445]
[null,1195058]
[null,1179874]
[null,1100733]
[null,1160815]
[null,6342]
[null,361953]
[null,1254116]
[null,1056802]
[null,48405]
[null,984947]
[null,717730]
[null,890082]
[null,557191]
[null,418912]
[null,581106]
[null,186197]
[null,695159]
[null,175236]
[null,422755]
[null,{"$f":"prnd(B1091)","v":288283}]
[null,148222]
[null,1143221]
[null,595470]
[null,50498]
[null,233624]
[null,124143]
[null,33279]
[null,921002]
[null,860097]
[null,499255]
[null,835948]
[null,670662]
[null,255467]
[null,648253]
[null,882754]
[null,1236633]
[null,375323]
[null,857989]
[null,1246648]
[null,399875]
[null,792168]
[null,897503]
[null,1201804]
[null,347948]
[null,184184]
[null,167753]
[null,1061587]
[null,2386]
[null,625170]
[null,33764]
[null,1048072]
[null,360523]
[null,879456]
[null,372557]
[null,133297]
[null,1131938]
[null,238702]
[null,154890]
[null,290859]
[null,823134]
[null,1212461]
[null,540704]
[null,1298074]
[null,876597]
[null,923188]
[null,133140]
[null,1090804]
[null,1158795]
[null,776791]
[null,767796]
[null,1010484]
[null,909979]
[null,571449]
[null,255441]
[null,641441]
[null,397699]
[null,222056]
[null,992394]
[null,69466]
[null,4484]
[null,1174846]
[null,1083086]
[null,436368]
[null,{"$f":"prnd(B1155)","v":1255511}]
[null,122603]
[null,929488]
[null,484051]
[null,751567]
[null,657553]
[null,719976]
[null,178845]
[null,68624]
[null,1083569]
[null,562914]
[null,618649]
[null,924640]
[null,513564]
[null,685839]
[null,332774]
[null,107663]
[null,914275]
[null,397312]
[null,120662]
[null,420946]
[null,1114014]
[null,741370]
[null,585317]
[null,1289479]
[null,1224085]
[null,986814]
[null,1206884]
[null,379219]
[null,579052]
[null,947738]
[null,66795]
[null,604371]
[null,1082871]
[null,380038]
[null,793630]
[null,1280547]
[null,183590]
[null,12125]
[null,577410]
[null,517534]
[null,426290]
[null,1214453]
[null,1062608]
[null,269888]
[null,527488]
[null,434860]
[null,860415]
[null,582571]
[null,570027]
[null,1182566]
[null,506348]
[null,94936]
[null,179179]
[null,156132]
[null,616263]
[null,299508]
[null,489794]
[null,956544]
[null,1074278]
[null,728050]
[null,994544]
[null,632766]
[null,724227]
[null,{"$f":"prnd(B1219)","v":1292607}]
[null,743932]
[null,1256561]
[null,397703]
[null,223104]
[null,1266970]
[null,525483]
[null,1209239]
[null,996229]
[null,1074236]
[null,717046]
[null,710874]
[null,393499]
[null,421345]
[null,1218552]
[null,836857]
[null,908820]
[null,267791]
[null,1277763]
[null,753871]
[null,1261201]
[null,313694]
[null,307459]
[null,1273267]
[null,875608]
[null,664070]
[null,1127741]
[null,438777]
[null,586980]
[null,425496]
[null,1006425]
[null,1146210]
[null,78899]
[null,1176241]
[null,148887]
[null,17762]
[null,754615]
[null,156440]
[null,696959]
[null,646836]
[null,511500]
[null,145071]
[null,317659]
[null,46600]
[null,512037]
[null,285765]
[null,788195]
[null,1156266]
[null,114193]
[null,25757]
[null,249927]
[null,496462]
[null,104182]
[null,2253]
[null,590324]
[null,1935]
[null,507008]
[null,267856]
[null,1294793]
[null,16975]
[null,548421]
[null,720550]
[null,329233]
[null,479610]
[null,{"$f":"prnd(B1283)","v":887714}]
[null,1236464]
[null,331045]
[null,954354]
[null,500498]
[null,1161614]
[null,215680]
[null,621571]
[null,390515]
[null,939226]
[null,436029]
[null,1166693]
[null,246689]
[null,947795]
[null,81729]
[null,618012]
[null,757746]
[null,976762]
[null,1172638]
[null,504590]
[null,934029]
[null,374104]
[null,538611]
[null,749708]
[null,170495]
[null,480302]
[null,1069018]
[null,649619]
[null,1240646]
[null,127040]
[null,792293]
[null,930253]
[null,684481]
[null,1276667]
[null,466719]
[null,109650]
[null,135180]
[null,325595]
[null,826143]
[null,701130]
[null,439949]
[null,894044]
[null,295546]
[null,751439]
[null,624017]
[null,1031367]
[null,1182569]
[null,507134]
[null,300868]
[null,846114]
[null,734776]
[null,157378]
[null,942715]
[null,50458]
[null,223144]
[null,1277450]
[null,671865]
[null,570653]
[null,46889]
[null,587755]
[null,628546]
[null,918276]
[null,145885]
[null,530927]
[null,{"$f":"prnd(B1347)","v":36189}]
[null,383733]
[null,462031]
[null,181083]
[null,654980]
[null,45850]
[null,315537]
[null,790325]
[null,414637]
[null,760745]
[null,462811]
[null,385443]
[null,910051]
[null,590313]
[null,1298742]
[null,1051613]
[null,1288265]
[null,906017]
[null,833094]
[null,1222603]
[null,598530]
[null,852218]
[null,1034335]
[null,660496]
[null,191353]
[null,746342]
[null,588292]
[null,769240]
[null,89123]
[null,1255551]
[null,133083]
[null,1075870]
[null,1145154]
[null,1101916]
[null,171072]
[null,631476]
[null,386247]
[null,1120699]
[null,1193151]
[null,680240]
[null,165525]
[null,477851]
[null,426856]
[null,63056]
[null,924442]
[null,461688]
[null,91217]
[null,504490]
[null,907829]
[null,8149]
[null,835387]
[null,523680]
[null,736853]
[null,701552]
[null,550513]
[null,1268654]
[null,966691]
[null,1133414]
[null,625414]
[null,97692]
[null,901251]
[null,884091]
[null,287238]
[null,1174121]
[null,{"$f":"prnd(B1411)","v":893136}]
[null,57650]
[null,807759]
[null,1083278]
[null,486672]
[null,138580]
[null,1216395]
[null,271723]
[null,1008258]
[null,326767]
[null,1133207]
[null,571180]
[null,184963]
[null,371851]
[null,1248014]
[null,757767]
[null,982264]
[null,14784]
[null,1274068]
[null,1085470]
[null,1060976]
[null,1141993]
[null,273734]
[null,235451]
[null,602817]
[null,675723]
[null,281760]
[null,1038574]
[null,471425]
[null,42933]
[null,850972]
[null,707883]
[null,909546]
[null,458003]
[null,425436]
[null,990705]
[null,926637]
[null,1036778]
[null,873]
[null,228764]
[null,150512]
[null,443512]
[null,527861]
[null,532586]
[null,470847]
[null,1191186]
[null,165410]
[null,447721]
[null,330930]
[null,924224]
[null,404572]
[null,723093]
[null,995499]
[null,882976]
[null,1294797]
[null,18023]
[null,822997]
[null,1176567]
[null,234299]
[null,300993]
[null,878864]
[null,217453]
[null,1086097]
[null,1225250]
[null,{"$f":"prnd(B1475)","v":1292044}]
[null,596426]
[null,300970]
[null,872838]
[null,1238019]
[null,738455]
[null,1121276]
[null,44636]
[null,1297158]
[null,636605]
[null,430356]
[null,980056]
[null,735977]
[null,472040]
[null,204063]
[null,177295]
[null,962213]
[null,1259867]
[null,1263875]
[null,1014282]
[null,605366]
[null,43872]
[null,1096990]
[null,180149]
[null,410272]
[null,916804]
[null,1059910]
[null,862701]
[null,1181503]
[null,227842]
[null,1208637]
[null,838505]
[null,40907]
[null,320160]
[null,701862]
[null,631733]
[null,453581]
[null,566561]
[null,274474]
[null,429331]
[null,711506]
[null,559083]
[null,914616]
[null,486654]
[null,133864]
[null,1280492]
[null,169180]
[null,135772]
[null,480699]
[null,1173032]
[null,607818]
[null,686296]
[null,452508]
[null,285435]
[null,701735]
[null,598459]
[null,833616]
[null,59678]
[null,39406]
[null,1226587]
[null,342649]
[null,95535]
[null,336117]
[null,983529]
[null,{"$f":"prnd(B1539)","v":346214}]
[null,1029565]
[null,710445]
[null,281101]
[null,865916]
[null,724144]
[null,1270861]
[null,245236]
[null,567109]
[null,418050]
[null,355262]
[null,800763]
[null,550015]
[null,1138178]
[null,573893]
[null,895769]
[null,747496]
[null,890640]
[null,703387]
[null,1031283]
[null,1160561]
[null,1239483]
[null,1122023]
[null,240350]
[null,586666]
[null,343228]
[null,247233]
[null,1090323]
[null,1032773]
[null,251252]
[null,843612]
[null,79252]
[null,1268727]
[null,985817]
[null,945670]
[null,824668]
[null,314680]
[null,565791]
[null,72734]
[null,860700]
[null,657241]
[null,638232]
[null,856630]
[null,890590]
[null,690287]
[null,198461]
[null,9260]
[null,1126469]
[null,105513]
[null,350975]
[null,977258]
[null,2901]
[null,760100]
[null,293821]
[null,299489]
[null,484816]
[null,951997]
[null,1182653]
[null,529142]
[null,868208]
[null,24959]
[null,40851]
[null,305488]
[null,756865]
[null,{"$f":"prnd(B1603)","v":745940}]
[null,482968]
[null,467821]
[null,398374]
[null,398906]
[null,538290]
[null,665606]
[null,230484]
[null,601152]
[null,239493]
[null,362132]
[null,1325]
[null,347188]
[null,1284753]
[null,1285562]
[null,197831]
[null,1143889]
[null,770486]
[null,415575]
[null,1006501]
[null,1166122]
[null,97087]
[null,742741]
[null,944519]
[null,523106]
[null,586465]
[null,290566]
[null,746368]
[null,595104]
[null,1254295]
[null,1103700]
[null,638480]
[null,921606]
[null,1018345]
[null,370183]
[null,810998]
[null,632207]
[null,577769]
[null,611592]
[null,375395]
[null,876853]
[null,990260]
[null,810047]
[null,383045]
[null,281775]
[null,1042504]
[null,201396]
[null,778230]
[null,1144814]
[null,1012836]
[null,226514]
[null,860701]
[null,657503]
[null,706876]
[null,645712]
[null,217012]
[null,970555]
[null,846093]
[null,729274]
[null,15543]
[null,173237]
[null,1198706]
[null,835961]
[null,674068]
[null,{"$f":"prnd(B1667)","v":1147839}]
[null,505697]
[null,1224063]
[null,981050]
[null,996405]
[null,1120348]
[null,1101189]
[null,1280287]
[null,115470]
[null,360331]
[null,829152]
[null,189799]
[null,339194]
[null,490014]
[null,1014184]
[null,579690]
[null,1114894]
[null,971930]
[null,1206343]
[null,237477]
[null,1133629]
[null,681744]
[null,559573]
[null,1042996]
[null,330300]
[null,759164]
[null,48589]
[null,1033155]
[null,351336]
[null,1071840]
[null,89294]
[null,664]
[null,174006]
[null,100495]
[null,335948]
[null,939251]
[null,442579]
[null,283415]
[null,172495]
[null,1004302]
[null,589984]
[null,1212544]
[null,562450]
[null,497081]
[null,266360]
[null,902841]
[null,982]
[null,257322]
[null,1134263]
[null,847852]
[null,1190132]
[null,1188951]
[null,879529]
[null,391683]
[null,1245242]
[null,31503]
[null,455690]
[null,1119119]
[null,779191]
[null,96907]
[null,695581]
[null,285800]
[null,797365]
[null,959428]
[null,{"$f":"prnd(B1731)","v":530197}]
[null,1144618]
[null,961484]
[null,1068869]
[null,610581]
[null,110513]
[null,361286]
[null,1079362]
[null,760369]
[null,364299]
[null,569079]
[null,934190]
[null,416286]
[null,1192783]
[null,583824]
[null,898313]
[null,114335]
[null,62961]
[null,899552]
[null,438953]
[null,633092]
[null,809639]
[null,276149]
[null,868181]
[null,17885]
[null,786841]
[null,801518]
[null,747825]
[null,976838]
[null,1192550]
[null,522778]
[null,500529]
[null,1169736]
[null,1043955]
[null,581558]
[null,304621]
[null,529711]
[null,1017286]
[null,92725]
[null,899586]
[null,447861]
[null,367610]
[null,136872]
[null,768899]
[null,1299470]
[null,1242349]
[null,573226]
[null,721015]
[null,451063]
[null,1206534]
[null,287519]
[null,1247743]
[null,686765]
[null,575386]
[null,1286935]
[null,557557]
[null,514804]
[null,1010719]
[null,971549]
[null,1106521]
[null,77893]
[null,912669]
[null,1276229]
[null,351963]
[null,{"$f":"prnd(B1795)","v":1236114}]
[null,239345]
[null,323356]
[null,239525]
[null,370516]
[null,898244]
[null,96257]
[null,525281]
[null,1156315]
[null,127031]
[null,789935]
[null,312457]
[null,1283054]
[null,840424]
[null,543685]
[null,779407]
[null,153499]
[null,1226106]
[null,216627]
[null,869685]
[null,411933]
[null,52297]
[null,704962]
[null,144244]
[null,100985]
[null,464328]
[null,782897]
[null,1067879]
[null,351201]
[null,1036470]
[null,1219866]
[null,1181125]
[null,128806]
[null,1254985]
[null,1284480]
[null,1214036]
[null,953354]
[null,238498]
[null,101442]
[null,584062]
[null,960669]
[null,855339]
[null,552348]
[null,449735]
[null,858598]
[null,106517]
[null,614023]
[null,1012317]
[null,90536]
[null,326068]
[null,950069]
[null,677517]
[null,751788]
[null,715455]
[null,294032]
[null,354771]
[null,672121]
[null,637725]
[null,723796]
[null,1179685]
[null,1051215]
[null,1183989]
[null,879174]
[null,298673]
[null,{"$f":"prnd(B1859)","v":271024}]
[null,825120]
[null,433104]
[null,400343]
[null,914784]
[null,530670]
[null,1268544]
[null,937871]
[null,81019]
[null,431992]
[null,108999]
[null,1264307]
[null,1127466]
[null,366727]
[null,1205215]
[null,1241630]
[null,384848]
[null,754161]
[null,37492]
[null,725119]
[null,226622]
[null,888997]
[null,272921]
[null,22445]
[null,681872]
[null,593109]
[null,731605]
[null,626265]
[null,320654]
[null,831290]
[null,749955]
[null,235209]
[null,539413]
[null,959832]
[null,636045]
[null,283636]
[null,230397]
[null,578358]
[null,765910]
[null,516352]
[null,116606]
[null,657963]
[null,827396]
[null,1029416]
[null,671407]
[null,450657]
[null,1100162]
[null,1011213]
[null,1100977]
[null,1224743]
[null,1159210]
[null,885521]
[null,661898]
[null,558677]
[null,808244]
[null,1210348]
[null,1286787]
[null,518781]
[null,753004]
[null,1034047]
[null,585040]
[null,1216905]
[null,405343]
[null,925095]
[null,{"$f":"prnd(B1923)","v":632774}]
[null,726323]
[null,542070]
[null,356277]
[null,1066693]
[null,40469]
[null,205404]
[null,528637]
[null,735898]
[null,451342]
[null,1279632]
[null,1243549]
[null,887626]
[null,1213408]
[null,788818]
[null,19803]
[null,1289357]
[null,1192121]
[null,410380]
[null,945100]
[null,675328]
[null,178270]
[null,1217663]
[null,603939]
[null,969687]
[null,618677]
[null,931976]
[null,1135907]
[null,1278580]
[null,967925]
[null,157033]
[null,852325]
[null,1062369]
[null,207270]
[null,1017529]
[null,156391]
[null,684121]
[null,1182347]
[null,448970]
[null,658168]
[null,881106]
[null,804857]
[null,322954]
[null,134201]
[null,69097]
[null,1207495]
[null,539301]
[null,930488]
[null,746051]
[null,512050]
[null,289171]
[null,380878]
[null,1013710]
[null,455502]
[null,1069863]
[null,871009]
[null,758821]
[null,1258412]
[null,882665]
[null,1213315]
[null,764452]
[null,134356]
[null,109707]
[null,150114]
[null,{"$f":"prnd(B1987)","v":339236}]
[null,501018]
[null,1297854]
[null,818957]
[null,118087]
[null,1045985]
[null,1113418]
[null,585218]
[null,1263541]
[null,926774]
[null,1072672]
[null,307278]
[null,1225845]
[null,148245]
[null,1149247]
[null,874593]
[null,398140]
[null,337598]
[null,71862]
[null,632236]
[null,585367]
[null,2890]
[null,757218]
[null,838426]
[null,20209]
[null,96040]
[null,468427]
[null,557146]
[null,407122]
[null,91504]
[null,579684]
[null,1113322]
[null,560066]
[null,1172162]
[null,379878]
[null,751710]
[null,695019]
[null,138556]
[null,1210107]
[null,1223645]
[null,871534]
[null,896371]
[null,905220]
[null,624280]
[null,1100273]
[null,1040295]
[null,922327]
[null,1207247]
[null,474325]
[null,802733]
[null,1066155]
[null,1199202]
[null,965913]
[null,929578]
[null,507631]
[null,431082]
[null,1170268]
[null,1183339]
[null,708874]
[null,1169188]
[null,900379]
[null,655627]
[null,215364]
[null,538779]
[null,{"$f":"prnd(B2051)","v":793724}]
[null,5486]
[null,137681]
[null,980857]
[null,945839]
[null,868946]
[null,218315]
[null,12252]
[null,610684]
[null,137499]
[null,933173]
[null,149832]
[null,265352]
[null,638745]
[null,991036]
[null,1013359]
[null,363540]
[null,370221]
[null,820954]
[null,641301]
[null,361019]
[null,1009408]
[null,628067]
[null,792778]
[null,1057323]
[null,184907]
[null,357179]
[null,3328]
[null,871974]
[null,1011651]
[null,1215733]
[null,98279]
[null,1055045]
[null,887760]
[null,1248516]
[null,889291]
[null,349949]
[null,708446]
[null,1057052]
[null,113905]
[null,1249990]
[null,1275479]
[null,155463]
[null,440985]
[null,1165476]
[null,1227524]
[null,588143]
[null,730202]
[null,258679]
[null,190108]
[null,420152]
[null,905986]
[null,824972]
[null,394328]
[null,638543]
[null,938112]
[null,144161]
[null,79239]
[null,1265321]
[null,93445]
[null,1088226]
[null,483359]
[null,570263]
[null,1244398]
[null,{"$f":"prnd(B2115)","v":1110064}]
[null,1006159]
[null,1076518]
[null,15241]
[null,94113]
[null,1263242]
[null,848436]
[null,43451]
[null,986688]
[null,1173872]
[null,827898]
[null,1160940]
[null,39092]
[null,1144319]
[null,883146]
[null,39648]
[null,1289991]
[null,58540]
[null,1040939]
[null,1091055]
[null,1224557]
[null,1110478]
[null,1114627]
[null,901976]
[null,1074041]
[null,665956]
[null,322184]
[null,1232150]
[null,500466]
[null,1153230]
[null,618450]
[null,872502]
[null,1149987]
[null,1068473]
[null,506829]
[null,220958]
[null,704718]
[null,80316]
[null,247806]
[null,1240449]
[null,75426]
[null,266315]
[null,891051]
[null,811069]
[null,650809]
[null,252737]
[null,1232682]
[null,639850]
[null,1280546]
[null,183328]
[null,1243170]
[null,788328]
[null,1191112]
[null,146022]
[null,566821]
[null,342594]
[null,81125]
[null,459764]
[null,886818]
[null,1001712]
[null,1211093]
[null,182288]
[null,970690]
[null,881463]
[null,{"$f":"prnd(B2179)","v":898391}]
[null,134771]
[null,218437]
[null,44216]
[null,1187118]
[null,399283]
[null,637064]
[null,550614]
[null,1295116]
[null,101601]
[null,625720]
[null,177864]
[null,1111291]
[null,27944]
[null,822921]
[null,1156655]
[null,216111]
[null,734493]
[null,83232]
[null,1011798]
[null,1254247]
[null,1091124]
[null,1242635]
[null,648158]
[null,857864]
[null,1213898]
[null,917198]
[null,1163138]
[null,614968]
[null,1259907]
[null,1274355]
[null,1160664]
[null,1266469]
[null,394221]
[null,610509]
[null,91649]
[null,617674]
[null,669190]
[null,1169492]
[null,980027]
[null,728379]
[null,1080742]
[null,1121929]
[null,215722]
[null,632575]
[null,674185]
[null,1178493]
[null,738911]
[null,1240748]
[null,153764]
[null,1295536]
[null,211641]
[null,863042]
[null,1270845]
[null,241044]
[null,768494]
[null,1193360]
[null,734998]
[null,215542]
[null,585415]
[null,15466]
[null,153063]
[null,1111874]
[null,180690]
[null,{"$f":"prnd(B2243)","v":552014}]
[null,362227]
[null,26215]
[null,369923]
[null,742878]
[null,980413]
[null,829511]
[null,283857]
[null,288299]
[null,152414]
[null,941836]
[null,1119849]
[null,970451]
[null,818845]
[null,88743]
[null,1155991]
[null,42143]
[null,643992]
[null,1066061]
[null,1174574]
[null,1011822]
[null,1260535]
[null,139202]
[null,79670]
[null,78554]
[null,1085851]
[null,1160798]
[null,1888]
[null,494694]
[null,940655]
[null,810427]
[null,482605]
[null,372715]
[null,174693]
[null,280489]
[null,705572]
[null,304064]
[null,383777]
[null,473559]
[null,602041]
[null,472411]
[null,301265]
[null,950128]
[null,692975]
[null,902717]
[null,1268183]
[null,843289]
[null,1294315]
[null,1191428]
[null,228814]
[null,163612]
[null,1276334]
[null,379473]
[null,645600]
[null,187668]
[null,1080561]
[null,1074507]
[null,788048]
[null,1117752]
[null,421037]
[null,1137856]
[null,489529]
[null,887114]
[null,1079264]
[null,{"$f":"prnd(B2307)","v":734693}]
[null,135632]
[null,444019]
[null,660695]
[null,243491]
[null,109919]
[null,205658]
[null,595185]
[null,1275517]
[null,165419]
[null,450079]
[null,948726]
[null,325651]
[null,840815]
[null,646127]
[null,325742]
[null,864657]
[null,394286]
[null,627539]
[null,654442]
[null,1204583]
[null,1076046]
[null,1191266]
[null,186370]
[null,740485]
[null,353447]
[null,325233]
[null,731299]
[null,546093]
[null,110614]
[null,387748]
[null,214272]
[null,252675]
[null,1216438]
[null,282989]
[null,60883]
[null,355116]
[null,762511]
[null,925503]
[null,739670]
[null,139917]
[null,267000]
[null,1070521]
[null,1043405]
[null,437458]
[null,241402]
[null,862290]
[null,1073821]
[null,608316]
[null,816772]
[null,845306]
[null,523080]
[null,579653]
[null,1105200]
[null,1031480]
[null,1212175]
[null,465772]
[null,1161225]
[null,113762]
[null,1212524]
[null,557210]
[null,423890]
[null,585653]
[null,77822]
[null,{"$f":"prnd(B2371)","v":894067}]
[null,301572]
[null,1030562]
[null,971659]
[null,1135341]
[null,1130288]
[null,1106091]
[null,1264922]
[null,1288596]
[null,992739]
[null,159856]
[null,292262]
[null,1190720]
[null,43318]
[null,951842]
[null,1142043]
[null,286834]
[null,1068273]
[null,454429]
[null,788737]
[null,1298270]
[null,927949]
[null,80833]
[null,383260]
[null,338105]
[null,204696]
[null,343141]
[null,224439]
[null,317051]
[null,1186993]
[null,366533]
[null,1154387]
[null,921584]
[null,1012581]
[null,159704]
[null,252438]
[null,1154344]
[null,910318]
[null,660267]
[null,131355]
[null,623134]
[null,800021]
[null,355611]
[null,892201]
[null,1112369]
[null,310380]
[null,738880]
[null,1232626]
[null,625178]
[null,35860]
[null,297535]
[null,1272557]
[null,689588]
[null,15323]
[null,115597]
[null,393605]
[null,449117]
[null,696682]
[null,574262]
[null,992447]
[null,83352]
[null,1043238]
[null,393704]
[null,475055]
[null,{"$f":"prnd(B2435)","v":993993}]
[null,488404]
[null,592364]
[null,536415]
[null,174356]
[null,192195]
[null,966946]
[null,1200224]
[null,1233677]
[null,900540]
[null,697809]
[null,869536]
[null,372895]
[null,221853]
[null,939208]
[null,431313]
[null,1230790]
[null,144146]
[null,75309]
[null,235661]
[null,657837]
[null,794384]
[null,178406]
[null,1253295]
[null,841700]
[null,877997]
[null,1289988]
[null,57754]
[null,835007]
[null,424120]
[null,645913]
[null,269674]
[null,471420]
[null,41623]
[null,507752]
[null,462784]
[null,378369]
[null,356352]
[null,1086343]
[null,1289702]
[null,1282511]
[null,698158]
[null,960974]
[null,935249]
[null,693744]
[null,1104195]
[null,768170]
[null,1108472]
[null,589055]
[null,969146]
[null,476935]
[null,186864]
[null,869913]
[null,471669]
[null,106861]
[null,704151]
[null,1231451]
[null,317328]
[null,1259567]
[null,1185275]
[null,1216106]
[null,196005]
[null,665477]
[null,196686]
[null,{"$f":"prnd(B2499)","v":843899}]
[null,154446]
[null,174531]
[null,238045]
[null,1282445]
[null,680866]
[null,329537]
[null,559258]
[null,960466]
[null,802153]
[null,914195]
[null,376352]
[null,1127587]
[null,398429]
[null,413316]
[null,414643]
[null,762317]
[null,874675]
[null,419624]
[null,767650]
[null,972232]
[null,1285467]
[null,172941]
[null,1121154]
[null,12672]
[null,720724]
[null,374821]
[null,726465]
[null,579274]
[null,1005902]
[null,1009184]
[null,569379]
[null,1012790]
[null,214462]
[null,302455]
[null,1261908]
[null,498928]
[null,750274]
[null,318787]
[null,342136]
[null,1260818]
[null,213348]
[null,10587]
[null,174454]
[null,217871]
[null,1195613]
[null,25595]
[null,207483]
[null,1073335]
[null,480984]
[null,1247702]
[null,676023]
[null,360360]
[null,836750]
[null,880786]
[null,721017]
[null,451587]
[null,44133]
[null,1165372]
[null,1200276]
[null,1247301]
[null,570961]
[null,127585]
[null,935083]
[null,{"$f":"prnd(B2563)","v":650252}]
[null,106803]
[null,688955]
[null,1149166]
[null,853371]
[null,36732]
[null,525999]
[null,44742]
[null,25241]
[null,114735]
[null,167761]
[null,1063683]
[null,551538]
[null,237515]
[null,1143585]
[null,690838]
[null,342823]
[null,141123]
[null,582972]
[null,675089]
[null,115652]
[null,408015]
[null,325470]
[null,793393]
[null,1218453]
[null,810919]
[null,611509]
[null,353649]
[null,378157]
[null,300808]
[null,830394]
[null,515203]
[null,1115257]
[null,1067036]
[null,130335]
[null,355894]
[null,966347]
[null,1043286]
[null,406280]
[null,1170589]
[null,1267441]
[null,648885]
[null,1048338]
[null,430215]
[null,943114]
[null,154996]
[null,318631]
[null,301264]
[null,949866]
[null,624331]
[null,1113635]
[null,642072]
[null,563021]
[null,646683]
[null,471414]
[null,40051]
[null,95888]
[null,428603]
[null,520770]
[null,1274122]
[null,1099618]
[null,868685]
[null,149933]
[null,291814]
[null,{"$f":"prnd(B2627)","v":1073344}]
[null,483342]
[null,565809]
[null,77450]
[null,796603]
[null,759784]
[null,211029]
[null,702698]
[null,850765]
[null,653649]
[null,996817]
[null,1228292]
[null,789359]
[null,161545]
[null,734780]
[null,158426]
[null,1217291]
[null,506475]
[null,128210]
[null,1098833]
[null,663015]
[null,851331]
[null,801941]
[null,858651]
[null,120403]
[null,353088]
[null,231175]
[null,782194]
[null,883693]
[null,182962]
[null,1147278]
[null,358715]
[null,405760]
[null,1034349]
[null,664164]
[null,1152369]
[null,392868]
[null,256023]
[null,793925]
[null,58148]
[null,938235]
[null,176387]
[null,724317]
[null,16498]
[null,423447]
[null,469587]
[null,861066]
[null,753133]
[null,1067845]
[null,342293]
[null,2263]
[null,592944]
[null,688375]
[null,997206]
[null,30521]
[null,198406]
[null,1294539]
[null,1250116]
[null,8802]
[null,1006473]
[null,1158786]
[null,774433]
[null,150000]
[null,309368]
[null,{"$f":"prnd(B2691)","v":473736}]
[null,648415]
[null,925198]
[null,659760]
[null,1298210]
[null,912229]
[null,1160949]
[null,41450]
[null,462426]
[null,284573]
[null,475891]
[null,1213025]
[null,688472]
[null,1022620]
[null,190544]
[null,534384]
[null,941923]
[null,1142643]
[null,444034]
[null,664625]
[null,1273151]
[null,845216]
[null,499500]
[null,900138]
[null,592485]
[null,568117]
[null,682146]
[null,664897]
[null,44726]
[null,21049]
[null,316120]
[null,943071]
[null,143730]
[null,1266006]
[null,272915]
[null,20873]
[null,270008]
[null,558928]
[null,874006]
[null,244346]
[null,333929]
[null,410273]
[null,917066]
[null,1128554]
[null,651783]
[null,507925]
[null,508110]
[null,556580]
[null,258830]
[null,229670]
[null,387884]
[null,249904]
[null,490436]
[null,1124748]
[null,954300]
[null,486350]
[null,54216]
[null,1207740]
[null,603491]
[null,852311]
[null,1058701]
[null,545943]
[null,71314]
[null,488660]
[null,{"$f":"prnd(B2755)","v":659436}]
[null,1213322]
[null,766286]
[null,614864]
[null,1232659]
[null,633824]
[null,1001423]
[null,1135375]
[null,1139196]
[null,840609]
[null,592155]
[null,481657]
[null,124339]
[null,84631]
[null,78647]
[null,1110217]
[null,1046245]
[null,1181538]
[null,237012]
[null,1011799]
[null,1254509]
[null,1159768]
[null,1031717]
[null,1274269]
[null,1138132]
[null,561841]
[null,337523]
[null,52212]
[null,682692]
[null,807949]
[null,1133058]
[null,532142]
[null,354519]
[null,606097]
[null,235394]
[null,587883]
[null,662082]
[null,606885]
[null,441850]
[null,92417]
[null,818890]
[null,100533]
[null,345904]
[null,948345]
[null,225829]
[null,681231]
[null,425167]
[null,920227]
[null,657047]
[null,587404]
[null,536584]
[null,218634]
[null,95830]
[null,413407]
[null,438485]
[null,510476]
[null,1176472]
[null,209409]
[null,278258]
[null,121050]
[null,522602]
[null,454417]
[null,785593]
[null,474542]
[null,{"$f":"prnd(B2819)","v":859587}]
[null,365635]
[null,919111]
[null,364655]
[null,662351]
[null,677363]
[null,711440]
[null,541791]
[null,283179]
[null,110663]
[null,400586]
[null,978450]
[null,315205]
[null,703341]
[null,1019231]
[null,602315]
[null,544199]
[null,914075]
[null,344912]
[null,688441]
[null,1014498]
[null,661958]
[null,574397]
[null,1027817]
[null,252469]
[null,1162466]
[null,438904]
[null,620254]
[null,45461]
[null,213619]
[null,81589]
[null,581332]
[null,245409]
[null,612435]
[null,596261]
[null,257740]
[null,1243779]
[null,947886]
[null,105571]
[null,366171]
[null,1059543]
[null,766547]
[null,683246]
[null,953097]
[null,171164]
[null,655580]
[null,203050]
[null,1211578]
[null,309358]
[null,471116]
[null,1261664]
[null,435000]
[null,897095]
[null,1094908]
[null,934354]
[null,459254]
[null,753198]
[null,1084875]
[null,905086]
[null,589172]
[null,999800]
[null,710149]
[null,203549]
[null,42627]
[null,{"$f":"prnd(B2883)","v":770800}]
[null,497843]
[null,466004]
[null,1222009]
[null,442902]
[null,368041]
[null,249794]
[null,461616]
[null,72353]
[null,760878]
[null,497657]
[null,417272]
[null,151426]
[null,682980]
[null,883405]
[null,107506]
[null,873141]
[null,17716]
[null,742563]
[null,897883]
[null,1675]
[null,438888]
[null,616062]
[null,246846]
[null,988929]
[null,461325]
[null,1295800]
[null,280809]
[null,789412]
[null,175431]
[null,473845]
[null,676973]
[null,609260]
[null,1064100]
[null,660792]
[null,268905]
[null,269942]
[null,541636]
[null,242569]
[null,1168044]
[null,600651]
[null,108231]
[null,1063091]
[null,396434]
[null,1190315]
[null,1236897]
[null,444491]
[null,784359]
[null,151234]
[null,632676]
[null,700647]
[null,313403]
[null,231217]
[null,793198]
[null,1167363]
[null,422229]
[null,150471]
[null,432770]
[null,312835]
[null,82401]
[null,794076]
[null,97710]
[null,905967]
[null,819994]
[null,{"$f":"prnd(B2947)","v":389781}]
[null,746918]
[null,739204]
[null,17825]
[null,771121]
[null,581945]
[null,406015]
[null,1101159]
[null,1272427]
[null,655528]
[null,189426]
[null,241468]
[null,879582]
[null,405569]
[null,984307]
[null,550050]
[null,1147348]
[null,377055]
[null,12084]
[null,566668]
[null,302508]
[null,1275794]
[null,237993]
[null,1268821]
[null,1010445]
[null,899761]
[null,493711]
[null,683109]
[null,917203]
[null,1164448]
[null,958188]
[null,205317]
[null,505843]
[null,1262315]
[null,605562]
[null,95224]
[null,254635]
[null,430269]
[null,957262]
[null,1262394]
[null,626260]
[null,319344]
[null,488070]
[null,504856]
[null,1003721]
[null,437762]
[null,321050]
[null,935042]
[null,639510]
[null,1191466]
[null,238770]
[null,172706]
[null,1059584]
[null,777289]
[null,898272]
[null,103593]
[null,1147624]
[null,449367]
[null,762182]
[null,839305]
[null,250507]
[null,648422]
[null,927032]
[null,1140268]
[null,{"$f":"prnd(B3011)","v":1121473}]
[null,96250]
[null,523447]
[null,675807]
[null,303768]
[null,306225]
[null,949959]
[null,648697]
[null,999082]
[null,522033]
[null,305339]
[null,717827]
[null,915496]
[null,717214]
[null,754890]
[null,228490]
[null,78724]
[null,1130391]
[null,1133077]
[null,537120]
[null,359066]
[null,497722]
[null,434302]
[null,714219]
[null,1269889]
[null,1290261]
[null,129280]
[null,79484]
[null,29822]
[null,15268]
[null,101187]
[null,517252]
[null,352406]
[null,52491]
[null,755790]
[null,464290]
[null,772941]
[null,1058785]
[null,567951]
[null,638654]
[null,967194]
[null,1265200]
[null,61743]
[null,580436]
[null,10657]
[null,192794]
[null,1123884]
[null,727932]
[null,963628]
[null,330908]
[null,918460]
[null,194093]
[null,164533]
[null,217947]
[null,1215525]
[null,43783]
[null,1073672]
[null,569278]
[null,986328]
[null,1079552]
[null,810149]
[null,409769]
[null,785018]
[null,323892]
[null,{"$f":"prnd(B3075)","v":379957}]
[null,772408]
[null,919139]
[null,371991]
[null,1284694]
[null,1270104]
[null,46902]
[null,591161]
[null,221229]
[null,775720]
[null,487194]
[null,275344]
[null,657271]
[null,646092]
[null,316572]
[null,1061495]
[null,1277971]
[null,808367]
[null,1242574]
[null,632176]
[null,569647]
[null,1083006]
[null,415408]
[null,962747]
[null,100086]
[null,228790]
[null,157324]
[null,928567]
[null,242749]
[null,1215204]
[null,1259370]
[null,1133661]
[null,690128]
[null,156803]
[null,792065]
[null,870517]
[null,629917]
[null,1277478]
[null,679201]
[null,1192996]
[null,639630]
[null,1222906]
[null,677916]
[null,856326]
[null,810942]
[null,617535]
[null,632772]
[null,725799]
[null,404782]
[null,778113]
[null,1114160]
[null,779622]
[null,209829]
[null,388298]
[null,358372]
[null,315894]
[null,883859]
[null,226454]
[null,844981]
[null,437930]
[null,365066]
[null,770033]
[null,296889]
[null,1103305]
[null,{"$f":"prnd(B3139)","v":534990}]
[null,1100695]
[null,1150859]
[null,1296937]
[null,578703]
[null,856300]
[null,804130]
[null,132480]
[null,917884]
[null,43181]
[null,915948]
[null,835638]
[null,589442]
[null,1070540]
[null,1048383]
[null,442005]
[null,133027]
[null,1061198]
[null,1200157]
[null,1216123]
[null,200459]
[null,532736]
[null,510147]
[null,1090274]
[null,1019935]
[null,786763]
[null,781082]
[null,592349]
[null,532485]
[null,444385]
[null,756587]
[null,673104]
[null,895271]
[null,617020]
[null,497842]
[null,465742]
[null,1153365]
[null,653820]
[null,1041619]
[null,1269215]
[null,1113673]
[null,652028]
[null,572115]
[null,429933]
[null,869230]
[null,292723]
[null,11813]
[null,495666]
[null,1195319]
[null,1248256]
[null,821171]
[null,698155]
[null,960188]
[null,729317]
[null,26809]
[null,525551]
[null,1227055]
[null,465265]
[null,1028391]
[null,402857]
[null,273763]
[null,243049]
[null,1293804]
[null,1057546]
[null,{"$f":"prnd(B3203)","v":243333}]
[null,68523]
[null,1057107]
[null,128315]
[null,1126343]
[null,72501]
[null,799654]
[null,259457]
[null,393944]
[null,537935]
[null,572596]
[null,555955]
[null,95080]
[null,216907]
[null,943045]
[null,136918]
[null,780951]
[null,558027]
[null,637944]
[null,781174]
[null,616453]
[null,349288]
[null,535264]
[null,1172483]
[null,463980]
[null,691721]
[null,574169]
[null,968081]
[null,197905]
[null,1163277]
[null,651386]
[null,403911]
[null,549911]
[null,1110930]
[null,1233051]
[null,736528]
[null,616402]
[null,335926]
[null,933487]
[null,232100]
[null,1024544]
[null,694632]
[null,37162]
[null,638659]
[null,968504]
[null,308731]
[null,306842]
[null,1111613]
[null,112308]
[null,831576]
[null,824887]
[null,372058]
[null,2559]
[null,670496]
[null,211975]
[null,950550]
[null,803539]
[null,1277327]
[null,639639]
[null,1225264]
[null,1295712]
[null,257753]
[null,1247185]
[null,540569]
[null,{"$f":"prnd(B3267)","v":1262704}]
[null,707480]
[null,803960]
[null,87940]
[null,945605]
[null,807638]
[null,1051576]
[null,1278571]
[null,965567]
[null,838926]
[null,151209]
[null,626126]
[null,284236]
[null,387597]
[null,174710]
[null,284943]
[null,572831]
[null,617525]
[null,630152]
[null,39359]
[null,1214273]
[null,1015448]
[null,910858]
[null,801747]
[null,807823]
[null,1100046]
[null,980821]
[null,936407]
[null,997140]
[null,13229]
[null,866658]
[null,918548]
[null,217149]
[null,1006449]
[null,1152498]
[null,426666]
[null,13276]
[null,878972]
[null,245749]
[null,701515]
[null,540819]
[null,28515]
[null,972523]
[null,62020]
[null,653010]
[null,829399]
[null,254513]
[null,398305]
[null,380828]
[null,1000610]
[null,922369]
[null,1218251]
[null,757995]
[null,1042000]
[null,69348]
[null,1273257]
[null,872988]
[null,1277319]
[null,637543]
[null,676112]
[null,383678]
[null,447621]
[null,304730]
[null,558269]
[null,{"$f":"prnd(B3331)","v":701348}]
[null,497065]
[null,262168]
[null,1104226]
[null,776292]
[null,637058]
[null,549042]
[null,883252]
[null,67420]
[null,768121]
[null,1095634]
[null,1124566]
[null,906616]
[null,990032]
[null,750311]
[null,328481]
[null,282586]
[null,1254986]
[null,1284742]
[null,1282680]
[null,742436]
[null,864609]
[null,381710]
[null,1231694]
[null,380994]
[null,1044102]
[null,620072]
[null,1297466]
[null,717301]
[null,777684]
[null,1001762]
[null,1224193]
[null,1015110]
[null,822302]
[null,994477]
[null,615212]
[null,24146]
[null,1127534]
[null,384543]
[null,674251]
[null,1195785]
[null,70659]
[null,317050]
[null,1186731]
[null,297889]
[null,65616]
[null,295473]
[null,732313]
[null,811761]
[null,832113]
[null,965581]
[null,842594]
[null,1112225]
[null,272652]
[null,1251656]
[null,412282]
[null,143735]
[null,1267316]
[null,616135]
[null,265972]
[null,801185]
[null,660579]
[null,213099]
[null,1245038]
[null,{"$f":"prnd(B3395)","v":1277744}]
[null,748893]
[null,1256654]
[null,422069]
[null,108551]
[null,1146931]
[null,267801]
[null,1280383]
[null,140622]
[null,451710]
[null,76359]
[null,510761]
[null,1251142]
[null,277614]
[null,1252011]
[null,505292]
[null,1117953]
[null,473699]
[null,638721]
[null,984748]
[null,665592]
[null,226816]
[null,939825]
[null,592967]
[null,694401]
[null,1276329]
[null,378163]
[null,302380]
[null,1242258]
[null,549384]
[null,972856]
[null,149266]
[null,117060]
[null,776911]
[null,799236]
[null,149941]
[null,293910]
[null,322807]
[null,95687]
[null,375941]
[null,1019905]
[null,778903]
[null,21451]
[null,421444]
[null,1244490]
[null,1134168]
[null,822962]
[null,1167397]
[null,431137]
[null,1184678]
[null,1059692]
[null,805585]
[null,513690]
[null,718851]
[null,1183784]
[null,825464]
[null,523232]
[null,619477]
[null,1141576]
[null,164480]
[null,204061]
[null,176771]
[null,824925]
[null,382014]
[null,{"$f":"prnd(B3459)","v":11653}]
[null,453746]
[null,609791]
[null,1203222]
[null,719464]
[null,44701]
[null,14499]
[null,1199398]
[null,1017265]
[null,87223]
[null,757751]
[null,978072]
[null,216169]
[null,749689]
[null,165517]
[null,475755]
[null,1177393]
[null,450711]
[null,1114310]
[null,818922]
[null,108917]
[null,1242823]
[null,697414]
[null,766046]
[null,551984]
[null,354367]
[null,566273]
[null,199018]
[null,155194]
[null,370507]
[null,895886]
[null,778150]
[null,1123854]
[null,720072]
[null,203997]
[null,160003]
[null,330776]
[null,883876]
[null,230908]
[null,712240]
[null,751391]
[null,611441]
[null,335833]
[null,909121]
[null,346653]
[null,1144583]
[null,952314]
[null,1265707]
[null,194577]
[null,291341]
[null,949418]
[null,506955]
[null,253970]
[null,256039]
[null,798117]
[null,1156452]
[null,162925]
[null,1096340]
[null,9849]
[null,1280787]
[null,246470]
[null,890417]
[null,644961]
[null,20250]
[null,{"$f":"prnd(B3523)","v":106782}]
[null,683453]
[null,1007331]
[null,83893]
[null,1184980]
[null,1138816]
[null,741049]
[null,501215]
[null,49779]
[null,45246]
[null,157289]
[null,919397]
[null,439587]
[null,799200]
[null,140509]
[null,422104]
[null,117721]
[null,950093]
[null,683805]
[null,1099555]
[null,852179]
[null,1024117]
[null,582758]
[null,619021]
[null,1022104]
[null,55352]
[null,205683]
[null,601735]
[null,392239]
[null,91225]
[null,506586]
[null,157292]
[null,920183]
[null,645519]
[null,166446]
[null,719153]
[null,1262908]
[null,760928]
[null,510757]
[null,1250094]
[null,3038]
[null,795994]
[null,600226]
[null,1296570]
[null,482549]
[null,358043]
[null,229696]
[null,394696]
[null,734959]
[null,205324]
[null,507677]
[null,443134]
[null,428825]
[null,578934]
[null,916822]
[null,1064626]
[null,798604]
[null,1284046]
[null,1100328]
[null,1054705]
[null,798680]
[null,4269]
[null,1118516]
[null,621205]
[null,{"$f":"prnd(B3587)","v":294623}]
[null,509613]
[null,950366]
[null,755331]
[null,344032]
[null,457881]
[null,393472]
[null,414271]
[null,664853]
[null,33198]
[null,899780]
[null,498689]
[null,687656]
[null,808828]
[null,63667]
[null,1084524]
[null,813124]
[null,1189219]
[null,949745]
[null,592629]
[null,605845]
[null,169370]
[null,185552]
[null,526169]
[null,89282]
[null,1297209]
[null,649967]
[null,32133]
[null,620750]
[null,175413]
[null,469129]
[null,741070]
[null,506717]
[null,191614]
[null,814724]
[null,308730]
[null,306580]
[null,1042969]
[null,323226]
[null,205465]
[null,544619]
[null,1024115]
[null,582234]
[null,481733]
[null,144251]
[null,102819]
[null,944836]
[null,606160]
[null,251900]
[null,1013388]
[null,371138]
[null,1061208]
[null,1202777]
[null,602874]
[null,690657]
[null,295401]
[null,713449]
[null,1068149]
[null,421941]
[null,75015]
[null,158633]
[null,1271525]
[null,419204]
[null,657610]
[null,{"$f":"prnd(B3651)","v":734910}]
[null,192486]
[null,1043188]
[null,380604]
[null,941922]
[null,1142381]
[null,375390]
[null,875543]
[null,647040]
[null,564948]
[null,1151557]
[null,180124]
[null,403722]
[null,500393]
[null,1134104]
[null,806194]
[null,673248]
[null,932999]
[null,104244]
[null,18497]
[null,947185]
[null,1221598]
[null,335220]
[null,748515]
[null,1157618]
[null,468417]
[null,554526]
[null,1020371]
[null,900995]
[null,817019]
[null,910020]
[null,582191]
[null,470467]
[null,1091626]
[null,74470]
[null,15843]
[null,251837]
[null,996882]
[null,1245322]
[null,52463]
[null,748454]
[null,1141636]
[null,180200]
[null,423634]
[null,518581]
[null,700604]
[null,302137]
[null,1178592]
[null,764849]
[null,238370]
[null,67906]
[null,895453]
[null,664704]
[null,1293849]
[null,1069336]
[null,732935]
[null,974725]
[null,638944]
[null,1043174]
[null,376936]
[null,1280595]
[null,196166]
[null,707659]
[null,850858]
[null,{"$f":"prnd(B3715)","v":678015}]
[null,882264]
[null,1108253]
[null,531677]
[null,232689]
[null,1178862]
[null,835589]
[null,576604]
[null,306362]
[null,985853]
[null,955102]
[null,696474]
[null,519766]
[null,1011074]
[null,1064559]
[null,781050]
[null,583965]
[null,935255]
[null,695316]
[null,216370]
[null,802351]
[null,966071]
[null,970974]
[null,955871]
[null,897952]
[null,19753]
[null,1276257]
[null,359299]
[null,558768]
[null,832086]
[null,958507]
[null,288895]
[null,308566]
[null,263612]
[null,182865]
[null,1121864]
[null,198692]
[null,69782]
[null,87276]
[null,771637]
[null,717137]
[null,734716]
[null,141658]
[null,723142]
[null,1008337]
[null,347465]
[null,57638]
[null,804615]
[null,259550]
[null,418310]
[null,423382]
[null,452557]
[null,298273]
[null,166224]
[null,660989]
[null,320519]
[null,795920]
[null,580838]
[null,115981]
[null,494213]
[null,814633]
[null,284888]
[null,558421]
[null,741172]
[null,{"$f":"prnd(B3779)","v":533441}]
[null,694857]
[null,96112]
[null,487291]
[null,300758]
[null,817294]
[null,982070]
[null,1263645]
[null,954022]
[null,413514]
[null,466519]
[null,57250]
[null,702959]
[null,919147]
[null,374087]
[null,534157]
[null,882449]
[null,1156723]
[null,233927]
[null,203529]
[null,37387]
[null,697609]
[null,817136]
[null,940674]
[null,815405]
[null,487152]
[null,264340]
[null,373601]
[null,406825]
[null,13690]
[null,987440]
[null,71207]
[null,460626]
[null,1112662]
[null,387146]
[null,56548]
[null,519035]
[null,819552]
[null,273977]
[null,299117]
[null,387352]
[null,110520]
[null,363120]
[null,260181]
[null,583632]
[null,848009]
[null,1231266]
[null,268858]
[null,257628]
[null,1214435]
[null,1057892]
[null,333985]
[null,424945]
[null,862063]
[null,1014347]
[null,622396]
[null,606665]
[null,384210]
[null,587005]
[null,432046]
[null,123147]
[null,1072016]
[null,135406]
[null,384807]
[null,{"$f":"prnd(B3843)","v":743419}]
[null,1122155]
[null,274934]
[null,549851]
[null,1095210]
[null,1013478]
[null,394718]
[null,740723]
[null,415803]
[null,1066237]
[null,1220686]
[null,96276]
[null,530259]
[null,1160862]
[null,18656]
[null,988843]
[null,438793]
[null,591172]
[null,224111]
[null,231115]
[null,766474]
[null,664120]
[null,1140841]
[null,1271599]
[null,438592]
[null,538510]
[null,723246]
[null,1035585]
[null,987996]
[null,216879]
[null,935709]
[null,814264]
[null,188210]
[null,1222565]
[null,588574]
[null,843124]
[null,1251085]
[null,262680]
[null,1238370]
[null,830417]
[null,521229]
[null,94691]
[null,114989]
[null,234309]
[null,303613]
[null,265615]
[null,707651]
[null,848762]
[null,128863]
[null,1269919]
[null,1298121]
[null,888911]
[null,250389]
[null,617506]
[null,625174]
[null,34812]
[null,22959]
[null,816540]
[null,784522]
[null,193940]
[null,124447]
[null,112927]
[null,993754]
[null,425786]
[null,{"$f":"prnd(B3907)","v":1082405}]
[null,257946]
[null,1297751]
[null,791971]
[null,845889]
[null,675826]
[null,308746]
[null,310772]
[null,841584]
[null,847605]
[null,1125418]
[null,1129840]
[null,988715]
[null,405257]
[null,902563]
[null,1227835]
[null,669625]
[null,1283462]
[null,947320]
[null,1256968]
[null,504337]
[null,867743]
[null,1202818]
[null,613616]
[null,905683]
[null,745586]
[null,390220]
[null,861936]
[null,981073]
[null,1002431]
[null,99782]
[null,149142]
[null,84572]
[null,63189]
[null,959288]
[null,493517]
[null,632281]
[null,597157]
[null,492492]
[null,363731]
[null,420263]
[null,935068]
[null,646322]
[null,376832]
[null,1253347]
[null,855324]
[null,548418]
[null,719764]
[null,123301]
[null,1112364]
[null,309070]
[null,395660]
[null,987527]
[null,94001]
[null,1233898]
[null,958442]
[null,271865]
[null,1045462]
[null,976392]
[null,1075698]
[null,1100090]
[null,992349]
[null,57676]
[null,814571]
[null,{"$f":"prnd(B3971)","v":268644}]
[null,201560]
[null,821198]
[null,705229]
[null,214198]
[null,233287]
[null,35849]
[null,294653]
[null,517473]
[null,410308]
[null,926236]
[null,931716]
[null,1067787]
[null,327097]
[null,1219667]
[null,1128987]
[null,765229]
[null,337930]
[null,158846]
[null,27642]
[null,743797]
[null,1221191]
[null,228586]
[null,103876]
[null,1221770]
[null,380284]
[null,858082]
[null,1271014]
[null,285322]
[null,672129]
[null,639821]
[null,1272948]
[null,792030]
[null,861347]
[null,826755]
[null,861474]
[null,860029]
[null,481439]
[null,67223]
[null,716507]
[null,569656]
[null,1085364]
[null,1033204]
[null,364174]
[null,536329]
[null,151824]
[null,787256]
[null,910248]
[null,641927]
[null,525031]
[null,1090815]
[null,1161677]
[null,232186]
[null,1047076]
[null,99571]
[null,93860]
[null,1196956]
[null,377461]
[null,118456]
[null,1142663]
[null,449274]
[null,737816]
[null,953858]
[null,370546]
[null,{"$f":"prnd(B4035)","v":906104}]
[null,855888]
[null,696186]
[null,444310]
[null,736937]
[null,723560]
[null,1117853]
[null,447499]
[null,272766]
[null,1281524]
[null,439564]
[null,793174]
[null,1161075]
[null,74462]
[null,13747]
[null,1002374]
[null,84848]
[null,135501]
[null,409697]
[null,766154]
[null,580280]
[null,1269474]
[null,1181531]
[null,235178]
[null,531291]
[null,131557]
[null,676058]
[null,369530]
[null,639912]
[null,1296790]
[null,540189]
[null,1163144]
[null,616540]
[null,372082]
[null,8847]
[null,1018263]
[null,348699]
[null,380946]
[null,1031526]
[null,1224227]
[null,1024018]
[null,556820]
[null,321710]
[null,1107962]
[null,455435]
[null,1052309]
[null,170928]
[null,593748]
[null,899023]
[null,300355]
[null,711708]
[null,612007]
[null,484125]
[null,770955]
[null,538453]
[null,708312]
[null,1021944]
[null,13432]
[null,919844]
[null,556701]
[null,290532]
[null,737460]
[null,860586]
[null,627373]
[null,{"$f":"prnd(B4099)","v":610950}]
[null,207191]
[null,996831]
[null,1231960]
[null,450686]
[null,1107760]
[null,402511]
[null,183111]
[null,1186316]
[null,189159]
[null,171514]
[null,747280]
[null,834048]
[null,172862]
[null,1100456]
[null,1088241]
[null,487289]
[null,300234]
[null,680006]
[null,104217]
[null,11423]
[null,393486]
[null,417939]
[null,326180]
[null,979413]
[null,567511]
[null,523374]
[null,656681]
[null,491512]
[null,106971]
[null,732971]
[null,984157]
[null,510750]
[null,1248260]
[null,822219]
[null,972731]
[null,116516]
[null,634383]
[null,1147881]
[null,516701]
[null,208044]
[null,1220317]
[null,1299287]
[null,1194403]
[null,1008264]
[null,328339]
[null,245382]
[null,605361]
[null,42562]
[null,753770]
[null,1234739]
[null,1178784]
[null,815153]
[null,421128]
[null,1161698]
[null,237688]
[null,1188911]
[null,869049]
[null,245301]
[null,584139]
[null,980843]
[null,942171]
[null,1207619]
[null,571789]
[null,{"$f":"prnd(B4163)","v":344521}]
[null,585999]
[null,168474]
[null,1250489]
[null,106528]
[null,616905]
[null,467712]
[null,369816]
[null,714844]
[null,133950]
[null,3335]
[null,873808]
[null,192470]
[null,1038996]
[null,581989]
[null,417543]
[null,222428]
[null,1089858]
[null,910943]
[null,824017]
[null,144118]
[null,67973]
[null,913007]
[null,65096]
[null,159233]
[null,129036]
[null,15556]
[null,176643]
[null,791389]
[null,693405]
[null,1015377]
[null,892256]
[null,1126779]
[null,186733]
[null,835591]
[null,577128]
[null,443650]
[null,564017]
[null,907635]
[null,1257010]
[null,515341]
[null,1151413]
[null,142396]
[null,916498]
[null,979738]
[null,652661]
[null,737961]
[null,991848]
[null,1226103]
[null,215841]
[null,663753]
[null,1044687]
[null,773342]
[null,1163847]
[null,800726]
[null,540321]
[null,1197728]
[null,579725]
[null,1124064]
[null,775092]
[null,322658]
[null,56649]
[null,545497]
[null,1254151]
[null,{"$f":"prnd(B4227)","v":1065972}]
[null,1151256]
[null,101262]
[null,536902]
[null,301950]
[null,1129598]
[null,925311]
[null,689366]
[null,1256848]
[null,472897]
[null,428597]
[null,519198]
[null,862258]
[null,1065437]
[null,1011086]
[null,1067703]
[null,305089]
[null,652327]
[null,650453]
[null,159465]
[null,189820]
[null,344696]
[null,631849]
[null,483973]
[null,731131]
[null,502077]
[null,275623]
[null,730369]
[null,302433]
[null,1256144]
[null,288449]
[null,191714]
[null,840924]
[null,674685]
[null,9804]
[null,1268997]
[null,1056557]
[null,1283904]
[null,1063124]
[null,405080]
[null,856189]
[null,775048]
[null,311130]
[null,935380]
[null,728066]
[null,998736]
[null,431381]
[null,1248606]
[null,912871]
[null,29464]
[null,1221161]
[null,220726]
[null,643934]
[null,1050865]
[null,1092289]
[null,248176]
[null,37700]
[null,779615]
[null,207995]
[null,1207479]
[null,535109]
[null,1131873]
[null,221672]
[null,891786]
[null,{"$f":"prnd(B4291)","v":1003639}]
[null,416278]
[null,1190687]
[null,34672]
[null,1285968]
[null,304203]
[null,420195]
[null,917252]
[null,1177286]
[null,422677]
[null,267847]
[null,1292435]
[null,698868]
[null,1146994]
[null,284307]
[null,406199]
[null,1149367]
[null,906033]
[null,837286]
[null,1021218]
[null,1122909]
[null,472482]
[null,319867]
[null,625096]
[null,14376]
[null,1167172]
[null,372187]
[null,36357]
[null,427749]
[null,297022]
[null,1138151]
[null,566819]
[null,342070]
[null,1243526]
[null,881600]
[null,934285]
[null,441176]
[null,1215518]
[null,41949]
[null,593164]
[null,746015]
[null,502618]
[null,417365]
[null,175792]
[null,568427]
[null,763366]
[null,1149513]
[null,944285]
[null,461798]
[null,120037]
[null,257196]
[null,1101251]
[null,1296531]
[null,472331]
[null,280305]
[null,657364]
[null,670458]
[null,202019]
[null,941456]
[null,1020289]
[null,879511]
[null,386967]
[null,9650]
[null,1228649]
[null,{"$f":"prnd(B4355)","v":882893}]
[null,1273051]
[null,819016]
[null,133545]
[null,1196914]
[null,366457]
[null,1134475]
[null,903396]
[null,146392]
[null,663761]
[null,1046783]
[null,22805]
[null,776192]
[null,610858]
[null,183087]
[null,1180028]
[null,1141081]
[null,34790]
[null,17195]
[null,606061]
[null,225962]
[null,716077]
[null,456996]
[null,161602]
[null,749714]
[null,172067]
[null,892166]
[null,1103199]
[null,507218]
[null,322876]
[null,113765]
[null,1213310]
[null,763142]
[null,1090825]
[null,1164297]
[null,918626]
[null,237585]
[null,1161925]
[null,297162]
[null,1174831]
[null,1079156]
[null,706397]
[null,520214]
[null,1128450]
[null,624535]
[null,1167083]
[null,348869]
[null,425486]
[null,1003805]
[null,459770]
[null,888390]
[null,113887]
[null,1245274]
[null,39887]
[null,52920]
[null,868188]
[null,19719]
[null,1267349]
[null,624781]
[null,1231535]
[null,339336]
[null,527218]
[null,364120]
[null,522181]
[null,{"$f":"prnd(B4419)","v":344115}]
[null,479627]
[null,892168]
[null,1103723]
[null,644506]
[null,1200729]
[null,66298]
[null,474157]
[null,758717]
[null,1231164]
[null,242134]
[null,1054074]
[null,633358]
[null,879331]
[null,339807]
[null,650620]
[null,203219]
[null,1255856]
[null,212993]
[null,1217266]
[null,499925]
[null,1011488]
[null,1173027]
[null,606508]
[null,343076]
[null,207409]
[null,1053947]
[null,600084]
[null,1259366]
[null,1132613]
[null,415552]
[null,1000475]
[null,886999]
[null,1049134]
[null,638767]
[null,996800]
[null,1223838]
[null,922100]
[null,1147773]
[null,488405]
[null,592626]
[null,605059]
[null,1263127]
[null,818306]
[null,1247214]
[null,548167]
[null,654002]
[null,1089303]
[null,765533]
[null,417578]
[null,231598]
[null,893020]
[null,27258]
[null,643189]
[null,855675]
[null,640380]
[null,119717]
[null,173356]
[null,1229884]
[null,1206463]
[null,268917]
[null,273086]
[null,65675]
[null,310931]
[null,{"$f":"prnd(B4483)","v":883242}]
[null,64800]
[null,81681]
[null,605436]
[null,62212]
[null,703314]
[null,1012157]
[null,48616]
[null,1040229]
[null,905035]
[null,575810]
[null,98334]
[null,1069455]
[null,764113]
[null,45538]
[null,233793]
[null,168421]
[null,1236603]
[null,367463]
[null,98358]
[null,1075743]
[null,1111880]
[null,182262]
[null,963878]
[null,396408]
[null,1183503]
[null,751842]
[null,729603]
[null,101741]
[null,662400]
[null,690201]
[null,175929]
[null,604321]
[null,1069771]
[null,846905]
[null,942018]
[null,1167533]
[null,466769]
[null,122750]
[null,968002]
[null,177207]
[null,939157]
[null,417951]
[null,329324]
[null,503452]
[null,635873]
[null,238572]
[null,120830]
[null,464962]
[null,949005]
[null,398749]
[null,497156]
[null,286010]
[null,852385]
[null,1078089]
[null,426843]
[null,59650]
[null,32070]
[null,604244]
[null,1049597]
[null,760073]
[null,286747]
[null,1045479]
[null,980846]
[null,{"$f":"prnd(B4547)","v":942957}]
[null,113862]
[null,1238724]
[null,923165]
[null,127114]
[null,811681]
[null,811153]
[null,672817]
[null,820077]
[null,411527]
[null,1245614]
[null,128967]
[null,1297167]
[null,638963]
[null,1048152]
[null,381483]
[null,1172220]
[null,395074]
[null,833995]
[null,158976]
[null,61702]
[null,569694]
[null,1095320]
[null,1042298]
[null,147424]
[null,934145]
[null,404496]
[null,703181]
[null,977311]
[null,16787]
[null,499165]
[null,812368]
[null,991147]
[null,1042441]
[null,184890]
[null,352725]
[null,136069]
[null,558513]
[null,765276]
[null,350244]
[null,785736]
[null,512008]
[null,278167]
[null,97208]
[null,774443]
[null,152620]
[null,995808]
[null,963934]
[null,411080]
[null,1128500]
[null,637635]
[null,700216]
[null,200481]
[null,538500]
[null,720626]
[null,349145]
[null,497798]
[null,454214]
[null,732407]
[null,836389]
[null,786204]
[null,634624]
[null,1211023]
[null,163948]
[null,{"$f":"prnd(B4611)","v":64677}]
[null,49455]
[null,1260047]
[null,11346]
[null,373312]
[null,331107]
[null,970598]
[null,857359]
[null,1081588]
[null,43892]
[null,1102230]
[null,253340]
[null,90979]
[null,442134]
[null,166825]
[null,818451]
[null,1285204]
[null,104035]
[null,1263428]
[null,897168]
[null,1114034]
[null,746610]
[null,658508]
[null,970186]
[null,749415]
[null,93729]
[null,1162634]
[null,482920]
[null,455245]
[null,1002529]
[null,125458]
[null,377809]
[null,209632]
[null,336684]
[null,1132083]
[null,276692]
[null,1010447]
[null,900285]
[null,630999]
[null,261273]
[null,869736]
[null,425295]
[null,953763]
[null,345656]
[null,883369]
[null,98074]
[null,1001335]
[null,1112319]
[null,297280]
[null,1205747]
[null,81325]
[null,512164]
[null,319039]
[null,408160]
[null,363460]
[null,349261]
[null,528190]
[null,618784]
[null,960010]
[null,682681]
[null,805067]
[null,377974]
[null,252862]
[null,1265432]
[null,{"$f":"prnd(B4675)","v":122527}]
[null,909576]
[null,465863]
[null,1185067]
[null,1161610]
[null,214632]
[null,346995]
[null,1234187]
[null,1034160]
[null,614646]
[null,1175543]
[null,1265700]
[null,192743]
[null,1110522]
[null,1126155]
[null,23245]
[null,891472]
[null,921371]
[null,956775]
[null,1134800]
[null,988546]
[null,360979]
[null,998928]
[null,481685]
[null,131675]
[null,706974]
[null,671388]
[null,445679]
[null,1095615]
[null,1119588]
[null,902069]
[null,1098407]
[null,551403]
[null,202145]
[null,974468]
[null,571610]
[null,297623]
[null,1295613]
[null,231815]
[null,949874]
[null,626427]
[null,363098]
[null,254417]
[null,373153]
[null,289449]
[null,453714]
[null,601407]
[null,306303]
[null,970395]
[null,804173]
[null,143746]
[null,1270198]
[null,71530]
[null,545252]
[null,1189961]
[null,1144149]
[null,838606]
[null,67369]
[null,754759]
[null,194168]
[null,184183]
[null,167491]
[null,992943]
[null,213304]
[null,{"$f":"prnd(B4739)","v":1298748}]
[null,1053185]
[null,400440]
[null,940198]
[null,690693]
[null,304833]
[null,585255]
[null,1273235]
[null,867224]
[null,1066840]
[null,78983]
[null,1198249]
[null,716227]
[null,496296]
[null,60690]
[null,304550]
[null,511109]
[null,42629]
[null,771324]
[null,635131]
[null,44168]
[null,1174542]
[null,1003438]
[null,363616]
[null,390133]
[null,839142]
[null,207801]
[null,1156651]
[null,215063]
[null,459917]
[null,926904]
[null,1106732]
[null,133175]
[null,1099974]
[null,961957]
[null,1192795]
[null,586968]
[null,422352]
[null,182697]
[null,1077848]
[null,363701]
[null,412403]
[null,175437]
[null,475417]
[null,1088837]
[null,643441]
[null,921699]
[null,1042711]
[null,255630]
[null,690959]
[null,374525]
[null,648913]
[null,1055674]
[null,1052558]
[null,236166]
[null,790147]
[null,368001]
[null,239314]
[null,315234]
[null,710939]
[null,410529]
[null,984138]
[null,505772]
[null,1243713]
[null,{"$f":"prnd(B4803)","v":930594}]
[null,773823]
[null,1289869]
[null,26576]
[null,464505]
[null,829271]
[null,220977]
[null,709696]
[null,84863]
[null,139431]
[null,139668]
[null,201762]
[null,874122]
[null,274738]
[null,498499]
[null,637876]
[null,763358]
[null,1147417]
[null,395133]
[null,849453]
[null,309905]
[null,614430]
[null,1118951]
[null,735175]
[null,261916]
[null,1038202]
[null,373961]
[null,501145]
[null,31439]
[null,438922]
[null,624970]
[null,1281053]
[null,316162]
[null,954075]
[null,427400]
[null,205584]
[null,575797]
[null,94928]
[null,177083]
[null,906669]
[null,1003918]
[null,489376]
[null,847028]
[null,974244]
[null,512922]
[null,517635]
[null,452752]
[null,349363]
[null,554914]
[null,1122027]
[null,241398]
[null,861242]
[null,799245]
[null,152299]
[null,911706]
[null,1023923]
[null,531930]
[null,298975]
[null,350148]
[null,760584]
[null,420629]
[null,1030960]
[null,1075935]
[null,1162184]
[null,{"$f":"prnd(B4867)","v":365020}]
[null,757981]
[null,1038332]
[null,408021]
[null,327042]
[null,1205257]
[null,1252634]
[null,668518]
[null,993428]
[null,340374]
[null,799174]
[null,133697]
[null,1236738]
[null,402833]
[null,267475]
[null,1194971]
[null,1157080]
[null,327461]
[null,15346]
[null,121623]
[null,672728]
[null,796759]
[null,800656]
[null,521981]
[null,291715]
[null,1047406]
[null,186031]
[null,651667]
[null,477533]
[null,343540]
[null,328977]
[null,412538]
[null,210807]
[null,644534]
[null,1208065]
[null,688641]
[null,1066898]
[null,94179]
[null,1280534]
[null,180184]
[null,419442]
[null,719966]
[null,176225]
[null,681873]
[null,593371]
[null,800249]
[null,415347]
[null,946765]
[null,1111558]
[null,97898]
[null,955223]
[null,728176]
[null,1027556]
[null,184087]
[null,142339]
[null,901564]
[null,966097]
[null,977786]
[null,141237]
[null,612840]
[null,702371]
[null,765091]
[null,301774]
[null,1083486]
[null,{"$f":"prnd(B4931)","v":541168}]
[null,119953]
[null,235188]
[null,533911]
[null,817997]
[null,1166256]
[null,132195]
[null,843214]
[null,1274665]
[null,1241884]
[null,451396]
[null,1293780]
[null,1051258]
[null,1195255]
[null,1231488]
[null,327022]
[null,1200017]
[null,1179443]
[null,987811]
[null,168409]
[null,1233459]
[null,843424]
[null,29996]
[null,60856]
[null,348042]
[null,208812]
[null,121844]
[null,730630]
[null,370815]
[null,976582]
[null,1125478]
[null,1145560]
[null,1208288]
[null,747067]
[null,778242]
[null,1147958]
[null,536875]
[null,294876]
[null,575899]
[null,121652]
[null,680326]
[null,188057]
[null,1182479]
[null,483554]
[null,621353]
[null,333399]
[null,271413]
[null,927038]
[null,1141840]
[null,233648]
[null,130431]
[null,381046]
[null,1057726]
[null,290493]
[null,727242]
[null,782848]
[null,1055041]
[null,886712]
[null,973940]
[null,433274]
[null,444883]
[null,887063]
[null,1065902]
[null,1132916]
[null,{"$f":"prnd(B4995)","v":494938}]
[null,1004583]
[null,663606]
[null,1006173]
[null,1080186]
[null,976257]
[null,1040328]
[null,930973]
[null,873121]
[null,12476]
[null,669372]
[null,1217176]
[null,476345]
[null,32284]
[null,660312]
[null,143145]
[null,1112736]
[null,406534]
[null,1237137]
[null,507371]
[null,362962]
[null,218785]
[null,135392]
[null,381139]
[null,1082092]
[null,175940]
[null,607203]
[null,525166]
[null,1126185]
[null,31105]
[null,351414]
[null,1092276]
[null,244770]
[null,445017]
[null,922171]
[null,1166375]
[null,163373]
[null,1213716]
[null,869514]
[null,367131]
[null,11374]
[null,380648]
[null,953450]
[null,263650]
[null,192821]
[null,1130958]
[null,1281631]
[null,467598]
[null,339948]
[null,687562]
[null,784200]
[null,109576]
[null,115792]
[null,444695]
[null,837807]
[null,1157720]
[null,495141]
[null,1057769]
[null,301759]
[null,1079556]
[null,811197]
[null,684345]
[null,1241035]
[null,228958]
[null,{"$f":"prnd(B5059)","v":201340}]
[null,763558]
[null,1199817]
[null,1127043]
[null,255901]
[null,761961]
[null,781403]
[null,676451]
[null,472496]
[null,323535]
[null,286423]
[null,960591]
[null,834903]
[null,396872]
[null,5382]
[null,110433]
[null,340326]
[null,786598]
[null,737852]
[null,963290]
[null,242352]
[null,1111190]
[null,1482]
[null,388322]
[null,364660]
[null,663661]
[null,1020583]
[null,956539]
[null,1072968]
[null,384830]
[null,749445]
[null,101589]
[null,622576]
[null,653825]
[null,1042929]
[null,312746]
[null,59083]
[null,1183205]
[null,673766]
[null,1068715]
[null,570233]
[null,1236538]
[null,350433]
[null,835254]
[null,488834]
[null,705024]
[null,160488]
[null,457846]
[null,384302]
[null,611109]
[null,248849]
[null,214026]
[null,188223]
[null,1225971]
[null,181257]
[null,700568]
[null,292705]
[null,7097]
[null,559763]
[null,1092776]
[null,375770]
[null,975103]
[null,737980]
[null,996826]
[null,{"$f":"prnd(B5123)","v":1230650}]
[null,107466]
[null,862661]
[null,1171023]
[null,81460]
[null,547534]
[null,488156]
[null,527388]
[null,408660]
[null,494460]
[null,879347]
[null,343999]
[null,449235]
[null,727598]
[null,876120]
[null,798214]
[null,1181866]
[null,322948]
[null,132629]
[null,956922]
[null,1173314]
[null,681702]
[null,548569]
[null,759326]
[null,91033]
[null,456282]
[null,1274223]
[null,1126080]
[null,3595]
[null,941928]
[null,1143953]
[null,787254]
[null,909724]
[null,504639]
[null,946867]
[null,1138282]
[null,601141]
[null,236611]
[null,906737]
[null,1021734]
[null,1258101]
[null,801183]
[null,660055]
[null,75811]
[null,367185]
[null,25522]
[null,188357]
[null,1261079]
[null,281730]
[null,1030714]
[null,1011483]
[null,1171717]
[null,263288]
[null,97977]
[null,975921]
[null,952296]
[null,1260991]
[null,258674]
[null,188798]
[null,76932]
[null,660887]
[null,293795]
[null,292677]
[null,1299450]
[null,{"$f":"prnd(B5187)","v":1237109}]
[null,500035]
[null,1040308]
[null,925733]
[null,799930]
[null,331769]
[null,1144042]
[null,810572]
[null,520595]
[null,1228272]
[null,784119]
[null,88354]
[null,1054073]
[null,633096]
[null,810687]
[null,550725]
[null,24509]
[null,1222640]
[null,608224]
[null,792668]
[null,1028503]
[null,432201]
[null,163757]
[null,14635]
[null,1235030]
[null,1255026]
[null,1295222]
[null,129373]
[null,103850]
[null,1214958]
[null,1194918]
[null,1143194]
[null,588396]
[null,796488]
[null,729654]
[null,115103]
[null,264177]
[null,330895]
[null,915054]
[null,601410]
[null,307089]
[null,1176327]
[null,171419]
[null,722390]
[null,811313]
[null,714737]
[null,105916]
[null,456561]
[null,47632]
[null,782421]
[null,943167]
[null,168882]
[null,57696]
[null,819811]
[null,341835]
[null,1181956]
[null,346528]
[null,1111833]
[null,169948]
[null,336988]
[null,1211731]
[null,349444]
[null,576136]
[null,183746]
[null,{"$f":"prnd(B5251)","v":52997}]
[null,888362]
[null,106551]
[null,622931]
[null,746835]
[null,717458]
[null,818818]
[null,81669]
[null,602292]
[null,538173]
[null,634952]
[null,1296959]
[null,584467]
[null,1066779]
[null,63001]
[null,910032]
[null,585335]
[null,1294195]
[null,1159988]
[null,1089357]
[null,779681]
[null,225287]
[null,539227]
[null,911100]
[null,865151]
[null,523714]
[null,745761]
[null,436070]
[null,1177435]
[null,461715]
[null,98291]
[null,1058189]
[null,411799]
[null,17189]
[null,604489]
[null,1113787]
[null,681896]
[null,599397]
[null,1079372]
[null,762989]
[null,1050739]
[null,1059277]
[null,696855]
[null,619588]
[null,1170658]
[null,1285519]
[null,186565]
[null,791575]
[null,742137]
[null,786271]
[null,652178]
[null,611415]
[null,329021]
[null,424066]
[null,631765]
[null,461965]
[null,163791]
[null,23543]
[null,969548]
[null,582259]
[null,488283]
[null,560662]
[null,28625]
[null,1001343]
[null,{"$f":"prnd(B5315)","v":1114415}]
[null,846432]
[null,818092]
[null,1191146]
[null,154930]
[null,301339]
[null,969516]
[null,573875]
[null,891053]
[null,811593]
[null,788097]
[null,1130590]
[null,1185215]
[null,1200386]
[null,1276121]
[null,323667]
[null,321007]
[null,923776]
[null,287196]
[null,1163117]
[null,609466]
[null,1118072]
[null,504877]
[null,1009223]
[null,579597]
[null,1090528]
[null,1086483]
[null,26693]
[null,495159]
[null,1062485]
[null,237662]
[null,1182099]
[null,383994]
[null,530413]
[null,1201210]
[null,192320]
[null,999696]
[null,682901]
[null,862707]
[null,1183075]
[null,639706]
[null,1242818]
[null,696104]
[null,422826]
[null,306885]
[null,1122879]
[null,464622]
[null,859925]
[null,454191]
[null,726381]
[null,557266]
[null,438562]
[null,530650]
[null,1263304]
[null,864680]
[null,400312]
[null,906662]
[null,1002084]
[null,8868]
[null,1023765]
[null,490534]
[null,1150424]
[null,1182967]
[null,611410]
[null,{"$f":"prnd(B5379)","v":327711}]
[null,80846]
[null,386666]
[null,1230477]
[null,62140]
[null,684450]
[null,1268545]
[null,938133]
[null,149663]
[null,221074]
[null,735110]
[null,244886]
[null,475409]
[null,1086741]
[null,94289]
[null,9665]
[null,1232579]
[null,612864]
[null,708659]
[null,1112858]
[null,438498]
[null,513882]
[null,769155]
[null,66853]
[null,619567]
[null,1165156]
[null,1143684]
[null,716776]
[null,640134]
[null,55265]
[null,182889]
[null,1128152]
[null,546459]
[null,206506]
[null,817361]
[null,999624]
[null,664037]
[null,1119095]
[null,772903]
[null,1048829]
[null,558857]
[null,855404]
[null,569378]
[null,1012528]
[null,145818]
[null,513373]
[null,635797]
[null,218660]
[null,102642]
[null,898462]
[null,153373]
[null,1193094]
[null,665306]
[null,151884]
[null,802976]
[null,1129821]
[null,983737]
[null,400710]
[null,1010938]
[null,1028927]
[null,543289]
[null,675655]
[null,263944]
[null,269849]
[null,{"$f":"prnd(B5443)","v":517270}]
[null,357122]
[null,1288083]
[null,858333]
[null,37087]
[null,619009]
[null,1018960]
[null,531313]
[null,137321]
[null,886537]
[null,928090]
[null,117775]
[null,964241]
[null,491514]
[null,107495]
[null,870259]
[null,562321]
[null,463283]
[null,509107]
[null,817794]
[null,1113070]
[null,494042]
[null,769831]
[null,243965]
[null,234107]
[null,250689]
[null,696106]
[null,423350]
[null,444173]
[null,701043]
[null,417155]
[null,120772]
[null,449766]
[null,866720]
[null,934792]
[null,574010]
[null,926423]
[null,980710]
[null,907325]
[null,1175790]
[null,30725]
[null,251854]
[null,1001336]
[null,1112581]
[null,365924]
[null,994829]
[null,707436]
[null,792432]
[null,966671]
[null,1128174]
[null,552223]
[null,416985]
[null,76232]
[null,477487]
[null,331488]
[null,1070420]
[null,1016943]
[null,2859]
[null,749096]
[null,10151]
[null,60222]
[null,181934]
[null,877942]
[null,1275578]
[null,{"$f":"prnd(B5507)","v":181401}]
[null,738296]
[null,1079618]
[null,827441]
[null,1041206]
[null,1161009]
[null,57170]
[null,681999]
[null,626383]
[null,351570]
[null,1133148]
[null,555722]
[null,34034]
[null,1118812]
[null,698757]
[null,1117912]
[null,462957]
[null,423695]
[null,534563]
[null,988821]
[null,433029]
[null,380693]
[null,965240]
[null,753252]
[null,1099023]
[null,712795]
[null,896801]
[null,1017880]
[null,248353]
[null,84074]
[null,1232402]
[null,566490]
[null,255872]
[null,754363]
[null,90416]
[null,294628]
[null,510923]
[null,1293586]
[null,1000430]
[null,875209]
[null,559532]
[null,1032254]
[null,115274]
[null,308979]
[null,371818]
[null,1239368]
[null,1091893]
[null,144424]
[null,148145]
[null,1123047]
[null,508638]
[null,694916]
[null,111570]
[null,638220]
[null,853486]
[null,66862]
[null,621925]
[null,483263]
[null,545111]
[null,1153019]
[null,563168]
[null,685197]
[null,164570]
[null,227641]
[null,{"$f":"prnd(B5571)","v":1155975}]
[null,37951]
[null,845377]
[null,541682]
[null,254621]
[null,426601]
[null,1295935]
[null,316179]
[null,958529]
[null,294659]
[null,519045]
[null,822172]
[null,960417]
[null,789315]
[null,150017]
[null,313822]
[null,340995]
[null,961876]
[null,1171573]
[null,225560]
[null,610753]
[null,155577]
[null,470853]
[null,1192758]
[null,577274]
[null,481902]
[null,188529]
[null,6454]
[null,391297]
[null,1144110]
[null,828388]
[null,1289320]
[null,1182427]
[null,469930]
[null,950932]
[null,903623]
[null,205866]
[null,649681]
[null,1256890]
[null,483901]
[null,712267]
[null,758465]
[null,1165140]
[null,1139492]
[null,918161]
[null,115755]
[null,435001]
[null,897357]
[null,1163552]
[null,723436]
[null,1085365]
[null,1033466]
[null,432818]
[null,325411]
[null,777935]
[null,1067524]
[null,258191]
[null,62252]
[null,713794]
[null,1158539]
[null,709719]
[null,90889]
[null,418554]
[null,487310]
[null,{"$f":"prnd(B5635)","v":305736}]
[null,821841]
[null,873695]
[null,162864]
[null,1080358]
[null,1021321]
[null,1149895]
[null,1044369]
[null,690026]
[null,130079]
[null,288822]
[null,289440]
[null,451356]
[null,1283300]
[null,904876]
[null,534152]
[null,881139]
[null,813503]
[null,1288517]
[null,972041]
[null,1235425]
[null,58827]
[null,1116133]
[null,1296548]
[null,476785]
[null,147564]
[null,970825]
[null,916833]
[null,1067508]
[null,253999]
[null,263637]
[null,189415]
[null,238586]
[null,124498]
[null,126289]
[null,595531]
[null,66480]
[null,521841]
[null,255035]
[null,535069]
[null,1121393]
[null,75290]
[null,230683]
[null,653290]
[null,902759]
[null,1279187]
[null,1126959]
[null,233893]
[null,194621]
[null,302869]
[null,70687]
[null,324386]
[null,509385]
[null,890630]
[null,700767]
[null,344843]
[null,670363]
[null,177129]
[null,918721]
[null,262475]
[null,1184660]
[null,1054976]
[null,869682]
[null,411147]
[null,{"$f":"prnd(B5699)","v":1146054}]
[null,38027]
[null,865289]
[null,559870]
[null,1120810]
[null,1222233]
[null,501590]
[null,148029]
[null,1092655]
[null,344068]
[null,467313]
[null,265278]
[null,619357]
[null,1110136]
[null,1025023]
[null,820130]
[null,425413]
[null,984679]
[null,647514]
[null,689136]
[null,1196588]
[null,281045]
[null,851244]
[null,779147]
[null,85379]
[null,274623]
[null,468369]
[null,541950]
[null,324837]
[null,627547]
[null,656538]
[null,454046]
[null,688391]
[null,1001398]
[null,1128825]
[null,722785]
[null,914803]
[null,535648]
[null,1273091]
[null,829496]
[null,279927]
[null,558328]
[null,716806]
[null,647994]
[null,814896]
[null,353794]
[null,416147]
[null,1156365]
[null,140131]
[null,323068]
[null,164069]
[null,96379]
[null,557245]
[null,433060]
[null,388815]
[null,493826]
[null,713239]
[null,1013129]
[null,303280]
[null,178369]
[null,1243601]
[null,901250]
[null,883829]
[null,218594]
[null,{"$f":"prnd(B5763)","v":85350}]
[null,267025]
[null,1077071]
[null,160127]
[null,363264]
[null,297909]
[null,70856]
[null,368664]
[null,413020]
[null,337091]
[null,1238717]
[null,921331]
[null,946295]
[null,988418]
[null,327443]
[null,10630]
[null,185720]
[null,570185]
[null,1223962]
[null,954588]
[null,561806]
[null,328353]
[null,249050]
[null,266688]
[null,988777]
[null,421501]
[null,1259424]
[null,1147809]
[null,497837]
[null,464432]
[null,810145]
[null,408721]
[null,510442]
[null,1167564]
[null,474891]
[null,951025]
[null,927989]
[null,91313]
[null,529642]
[null,999208]
[null,555045]
[null,1156349]
[null,135939]
[null,524453]
[null,939379]
[null,476115]
[null,1271713]
[null,468460]
[null,565792]
[null,72996]
[null,929344]
[null,446323]
[null,1264343]
[null,1136898]
[null,238533]
[null,110612]
[null,387224]
[null,76984]
[null,674511]
[null,1263905]
[null,1022142]
[null,65308]
[null,214777]
[null,384985]
[null,{"$f":"prnd(B5827)","v":790055}]
[null,343897]
[null,422511]
[null,224355]
[null,295043]
[null,619653]
[null,1187688]
[null,548623]
[null,773474]
[null,1198431]
[null,763911]
[null,1292303]
[null,664284]
[null,1183809]
[null,832014]
[null,939643]
[null,545283]
[null,1198083]
[null,672735]
[null,798593]
[null,1281164]
[null,345244]
[null,775425]
[null,409904]
[null,820388]
[null,493009]
[null,499185]
[null,817608]
[null,1064338]
[null,723148]
[null,1009909]
[null,759329]
[null,91819]
[null,662214]
[null,641469]
[null,405035]
[null,844399]
[null,285446]
[null,704617]
[null,53854]
[null,1112896]
[null,448454]
[null,522976]
[null,552405]
[null,464669]
[null,872239]
[null,1081081]
[null,1210747]
[null,91636]
[null,614268]
[null,1076507]
[null,12359]
[null,638718]
[null,983962]
[null,459660]
[null,859570]
[null,361181]
[null,1051852]
[null,51194]
[null,415976]
[null,1111563]
[null,99208]
[null,1298443]
[null,973275]
[null,{"$f":"prnd(B5891)","v":259044}]
[null,285738]
[null,781121]
[null,602567]
[null,610223]
[null,16717]
[null,480825]
[null,1206044]
[null,159139]
[null,104408]
[null,61465]
[null,507600]
[null,422960]
[null,341993]
[null,1223352]
[null,794768]
[null,279014]
[null,319122]
[null,429906]
[null,862156]
[null,1038713]
[null,507843]
[null,486626]
[null,126528]
[null,658149]
[null,876128]
[null,800310]
[null,431329]
[null,1234982]
[null,1242450]
[null,599688]
[null,1155614]
[null,1243058]
[null,758984]
[null,1429]
[null,374436]
[null,625595]
[null,145114]
[null,328925]
[null,398914]
[null,540386]
[null,1214758]
[null,1142518]
[null,411284]
[null,1181948]
[null,344432]
[null,562681]
[null,557603]
[null,526856]
[null,269276]
[null,367144]
[null,14780]
[null,1273020]
[null,810894]
[null,604959]
[null,1236927]
[null,452351]
[null,244301]
[null,322139]
[null,1220360]
[null,10864]
[null,247028]
[null,1036613]
[null,1257332]
[null,{"$f":"prnd(B5955)","v":599705}]
[null,1160068]
[null,1110317]
[null,1072445]
[null,247804]
[null,1239925]
[null,1237827]
[null,688151]
[null,938518]
[null,250533]
[null,655234]
[null,112398]
[null,855156]
[null,504402]
[null,884773]
[null,465922]
[null,1200525]
[null,12850]
[null,767360]
[null,896252]
[null,874042]
[null,253778]
[null,205735]
[null,615359]
[null,62660]
[null,820690]
[null,572133]
[null,434649]
[null,805133]
[null,395266]
[null,884299]
[null,341734]
[null,1155494]
[null,1211618]
[null,319838]
[null,617498]
[null,623078]
[null,785349]
[null,410614]
[null,1006408]
[null,1141756]
[null,211640]
[null,862780]
[null,1202201]
[null,451962]
[null,142383]
[null,913092]
[null,87366]
[null,795217]
[null,396652]
[null,1247431]
[null,605021]
[null,1253171]
[null,809212]
[null,164275]
[null,150351]
[null,401330]
[null,1173378]
[null,698470]
[null,1042718]
[null,257464]
[null,1171467]
[null,197788]
[null,1132623]
[null,{"$f":"prnd(B6019)","v":418172}]
[null,387226]
[null,77508]
[null,811799]
[null,842069]
[null,974675]
[null,625844]
[null,210352]
[null,525324]
[null,1167581]
[null,479345]
[null,818284]
[null,1241450]
[null,337688]
[null,95442]
[null,311751]
[null,1098082]
[null,466253]
[null,1287247]
[null,639301]
[null,1136708]
[null,188753]
[null,65142]
[null,171285]
[null,687282]
[null,710840]
[null,384591]
[null,686827]
[null,591630]
[null,344107]
[null,477531]
[null,343016]
[null,191689]
[null,834374]
[null,258274]
[null,83998]
[null,1212490]
[null,548302]
[null,689372]
[null,1258420]
[null,884761]
[null,462778]
[null,376797]
[null,1244177]
[null,1052162]
[null,132414]
[null,900592]
[null,711433]
[null,539957]
[null,1102360]
[null,287400]
[null,1216565]
[null,316263]
[null,980537]
[null,861999]
[null,997579]
[null,128247]
[null,1108527]
[null,603465]
[null,845499]
[null,573646]
[null,831055]
[null,688385]
[null,999826]
[null,{"$f":"prnd(B6083)","v":716961}]
[null,688604]
[null,1057204]
[null,153729]
[null,1286366]
[null,408479]
[null,447038]
[null,151984]
[null,829176]
[null,196087]
[null,686961]
[null,626738]
[null,444580]
[null,807677]
[null,1061794]
[null,56620]
[null,537899]
[null,563164]
[null,684149]
[null,1189683]
[null,1071313]
[null,1250909]
[null,216568]
[null,854227]
[null,261004]
[null,799258]
[null,155705]
[null,504389]
[null,881367]
[null,873239]
[null,43392]
[null,971230]
[null,1022943]
[null,275170]
[null,611683]
[null,399237]
[null,625012]
[null,1292057]
[null,599832]
[null,1193342]
[null,730282]
[null,279639]
[null,482872]
[null,442669]
[null,306995]
[null,1151699]
[null,217328]
[null,1053347]
[null,442884]
[null,363325]
[null,313891]
[null,359073]
[null,499556]
[null,914810]
[null,537482]
[null,453910]
[null,652759]
[null,763637]
[null,1220515]
[null,51474]
[null,489336]
[null,836548]
[null,827862]
[null,1151508]
[null,{"$f":"prnd(B6147)","v":167286}]
[null,939233]
[null,437863]
[null,347512]
[null,69952]
[null,131816]
[null,743916]
[null,1252369]
[null,599088]
[null,998414]
[null,347017]
[null,1239951]
[null,1244639]
[null,1173206]
[null,653406]
[null,933151]
[null,144068]
[null,54873]
[null,80185]
[null,213484]
[null,46219]
[null,412215]
[null,126181]
[null,567235]
[null,451062]
[null,1206272]
[null,218875]
[null,158972]
[null,60654]
[null,295118]
[null,639303]
[null,1137232]
[null,326041]
[null,942995]
[null,123818]
[null,1247818]
[null,706415]
[null,524930]
[null,1064353]
[null,727078]
[null,739880]
[null,194937]
[null,385661]
[null,967167]
[null,1258126]
[null,807733]
[null,1076466]
[null,1617]
[null,423692]
[null,533777]
[null,782889]
[null,1065783]
[null,1101738]
[null,124436]
[null,110045]
[null,238670]
[null,146506]
[null,693629]
[null,1074065]
[null,672244]
[null,669951]
[null,69185]
[null,1230551]
[null,81528]
[null,{"$f":"prnd(B6211)","v":565350}]
[null,1256881]
[null,481543]
[null,94471]
[null,57349]
[null,728897]
[null,1216458]
[null,288229]
[null,134074]
[null,35823]
[null,287841]
[null,32418]
[null,695420]
[null,243618]
[null,143193]
[null,1125312]
[null,1102068]
[null,210896]
[null,667852]
[null,818936]
[null,112585]
[null,904150]
[null,343940]
[null,433777]
[null,576669]
[null,323392]
[null,248957]
[null,242322]
[null,1103330]
[null,541540]
[null,217417]
[null,1076665]
[null,53755]
[null,1086958]
[null,151143]
[null,608834]
[null,952488]
[null,11606]
[null,441432]
[null,1282590]
[null,718856]
[null,1185094]
[null,1168684]
[null,768331]
[null,1150654]
[null,1243227]
[null,803262]
[null,1204753]
[null,1120586]
[null,1163545]
[null,721602]
[null,604857]
[null,1210203]
[null,1248797]
[null,962913]
[null,143578]
[null,1226182]
[null,236539]
[null,887873]
[null,1278122]
[null,847929]
[null,1210306]
[null,1275783]
[null,235111]
[null,{"$f":"prnd(B6275)","v":513737}]
[null,731165]
[null,510985]
[null,10141]
[null,57602]
[null,795183]
[null,387744]
[null,213224]
[null,1277788]
[null,760421]
[null,377923]
[null,239500]
[null,363966]
[null,481833]
[null,170451]
[null,468774]
[null,648060]
[null,832188]
[null,985231]
[null,792138]
[null,889643]
[null,442173]
[null,177043]
[null,896189]
[null,857536]
[null,1127962]
[null,496679]
[null,161036]
[null,601422]
[null,310233]
[null,700366]
[null,239781]
[null,437588]
[null,275462]
[null,688187]
[null,947950]
[null,122339]
[null,860320]
[null,557681]
[null,547292]
[null,424752]
[null,811497]
[null,762945]
[null,1039211]
[null,638319]
[null,879424]
[null,364173]
[null,536067]
[null,83180]
[null,998174]
[null,284137]
[null,361659]
[null,1177088]
[null,370801]
[null,972914]
[null,164462]
[null,199345]
[null,240868]
[null,722382]
[null,809217]
[null,165585]
[null,493571]
[null,646429]
[null,404866]
[null,{"$f":"prnd(B6339)","v":800121}]
[null,381811]
[null,1258156]
[null,815593]
[null,536408]
[null,172522]
[null,1011376]
[null,1143683]
[null,716514]
[null,571490]
[null,266183]
[null,856467]
[null,847884]
[null,1198516]
[null,786181]
[null,628598]
[null,931900]
[null,1115995]
[null,1260392]
[null,101736]
[null,661090]
[null,346981]
[null,1230519]
[null,73144]
[null,968120]
[null,208123]
[null,1241015]
[null,223718]
[null,128149]
[null,1082851]
[null,374798]
[null,720439]
[null,300151]
[null,658260]
[null,905210]
[null,621660]
[null,413833]
[null,550097]
[null,1159662]
[null,1003945]
[null,496450]
[null,101038]
[null,478214]
[null,521962]
[null,286737]
[null,1042859]
[null,294406]
[null,452759]
[null,351197]
[null,1035422]
[null,945290]
[null,725108]
[null,223740]
[null,133913]
[null,1293330]
[null,933358]
[null,198302]
[null,1267291]
[null,609585]
[null,1149250]
[null,875379]
[null,604072]
[null,1004533]
[null,650506]
[null,{"$f":"prnd(B6403)","v":173351}]
[null,1228574]
[null,863243]
[null,23818]
[null,1041598]
[null,1263713]
[null,971838]
[null,1182239]
[null,420674]
[null,1042750]
[null,265848]
[null,768697]
[null,1246546]
[null,373151]
[null,288925]
[null,316426]
[null,1023243]
[null,353770]
[null,409859]
[null,808598]
[null,3407]
[null,892672]
[null,1235771]
[null,149479]
[null,172866]
[null,1101504]
[null,63128]
[null,943306]
[null,205300]
[null,501389]
[null,95367]
[null,292101]
[null,1148538]
[null,688835]
[null,1117726]
[null,414225]
[null,652801]
[null,774641]
[null,204496]
[null,290741]
[null,792218]
[null,910603]
[null,734937]
[null,199560]
[null,297198]
[null,1184263]
[null,950962]
[null,911483]
[null,965497]
[null,820586]
[null,544885]
[null,1093807]
[null,645892]
[null,264172]
[null,329585]
[null,571834]
[null,356311]
[null,1075601]
[null,1074676]
[null,832326]
[null,1021387]
[null,1167187]
[null,376117]
[null,1066017]
[null,{"$f":"prnd(B6467)","v":1163046}]
[null,590864]
[null,143415]
[null,1183476]
[null,744768]
[null,175904]
[null,597771]
[null,653360]
[null,921099]
[null,885511]
[null,659278]
[null,1171926]
[null,318046]
[null,147994]
[null,1083485]
[null,540906]
[null,51309]
[null,446106]
[null,1207489]
[null,537729]
[null,518624]
[null,711870]
[null,654451]
[null,1206941]
[null,394153]
[null,592693]
[null,622613]
[null,663519]
[null,983379]
[null,306914]
[null,1130477]
[null,1155609]
[null,1241748]
[null,415764]
[null,1056019]
[null,1142948]
[null,523944]
[null,806021]
[null,627922]
[null,754788]
[null,201766]
[null,875170]
[null,549314]
[null,954516]
[null,542942]
[null,584741]
[null,1138567]
[null,675811]
[null,304816]
[null,580801]
[null,106287]
[null,553763]
[null,820465]
[null,513183]
[null,586017]
[null,173190]
[null,1186392]
[null,209071]
[null,189702]
[null,313780]
[null,329991]
[null,678206]
[null,932306]
[null,1222367]
[null,{"$f":"prnd(B6531)","v":536698}]
[null,248502]
[null,123112]
[null,1062846]
[null,332244]
[null,1268492]
[null,924247]
[null,410598]
[null,1002216]
[null,43452]
[null,986950]
[null,1242516]
[null,616980]
[null,487362]
[null,319360]
[null,492262]
[null,303471]
[null,228411]
[null,58026]
[null,906271]
[null,899642]
[null,462533]
[null,312607]
[null,22665]
[null,739512]
[null,98521]
[null,1118449]
[null,603651]
[null,894231]
[null,344540]
[null,590977]
[null,173021]
[null,1142114]
[null,305436]
[null,743241]
[null,1075519]
[null,1053192]
[null,402274]
[null,121017]
[null,513956]
[null,788543]
[null,1247442]
[null,607903]
[null,708566]
[null,1088492]
[null,553051]
[null,633921]
[null,1026837]
[null,1295398]
[null,175485]
[null,487993]
[null,484682]
[null,916889]
[null,1082180]
[null,198996]
[null,149430]
[null,160028]
[null,337326]
[null,598]
[null,156714]
[null,768747]
[null,1259646]
[null,1205973]
[null,140537]
[null,{"$f":"prnd(B6595)","v":429440}]
[null,740064]
[null,243145]
[null,19267]
[null,1148925]
[null,790229]
[null,389485]
[null,669366]
[null,1215604]
[null,64481]
[null,1297792]
[null,802713]
[null,1060915]
[null,1126011]
[null,1285206]
[null,104559]
[null,101027]
[null,475332]
[null,1066567]
[null,7457]
[null,654083]
[null,1110525]
[null,1126941]
[null,229177]
[null,258718]
[null,200326]
[null,497890]
[null,478318]
[null,549210]
[null,927268]
[null,1202100]
[null,425500]
[null,1007473]
[null,121097]
[null,534916]
[null,1081307]
[null,1269959]
[null,8912]
[null,1035293]
[null,911492]
[null,967855]
[null,138693]
[null,1246001]
[null,230361]
[null,568926]
[null,894104]
[null,311266]
[null,971012]
[null,965827]
[null,907046]
[null,1102692]
[null,374384]
[null,611971]
[null,474693]
[null,899149]
[null,333367]
[null,263029]
[null,30119]
[null,93082]
[null,993120]
[null,259678]
[null,451846]
[null,111991]
[null,748522]
[null,{"$f":"prnd(B6659)","v":1159452}]
[null,948925]
[null,377789]
[null,204392]
[null,263493]
[null,151687]
[null,751362]
[null,603843]
[null,944535]
[null,527298]
[null,385080]
[null,814945]
[null,366632]
[null,1180325]
[null,1218895]
[null,926723]
[null,1059310]
[null,705501]
[null,285462]
[null,708809]
[null,1152158]
[null,337586]
[null,68718]
[null,1108197]
[null,517005]
[null,287692]
[null,1293069]
[null,864976]
[null,477864]
[null,430262]
[null,955428]
[null,781886]
[null,802997]
[null,1135323]
[null,1125572]
[null,1170188]
[null,1162379]
[null,416110]
[null,1146671]
[null,199681]
[null,328900]
[null,392364]
[null,123975]
[null,1288952]
[null,1086011]
[null,1202718]
[null,587416]
[null,539728]
[null,1042362]
[null,164192]
[null,128605]
[null,1202323]
[null,483926]
[null,718817]
[null,1174876]
[null,1090946]
[null,1195999]
[null,126727]
[null,710287]
[null,239705]
[null,417676]
[null,257274]
[null,1121687]
[null,152318]
[null,{"$f":"prnd(B6723)","v":916684}]
[null,1028470]
[null,423555]
[null,497883]
[null,476484]
[null,68702]
[null,1104005]
[null,718390]
[null,1063002]
[null,373116]
[null,279755]
[null,513264]
[null,607239]
[null,534598]
[null,997991]
[null,236191]
[null,796697]
[null,784412]
[null,165120]
[null,371741]
[null,1219194]
[null,1005061]
[null,788842]
[null,26091]
[null,337435]
[null,29156]
[null,1140465]
[null,1173087]
[null,622228]
[null,562649]
[null,549219]
[null,929626]
[null,520207]
[null,1126616]
[null,144027]
[null,44131]
[null,1164848]
[null,1062988]
[null,369448]
[null,618428]
[null,866738]
[null,939508]
[null,509913]
[null,1028966]
[null,553507]
[null,753393]
[null,1135965]
[null,1293776]
[null,1050210]
[null,920679]
[null,775471]
[null,421956]
[null,78945]
[null,1188293]
[null,707133]
[null,713046]
[null,962563]
[null,51878]
[null,595184]
[null,1275255]
[null,96775]
[null,660997]
[null,322615]
[null,45383]
[null,{"$f":"prnd(B6787)","v":193183}]
[null,1225802]
[null,136979]
[null,796933]
[null,846244]
[null,768836]
[null,1282964]
[null,816844]
[null,864170]
[null,266692]
[null,989825]
[null,696077]
[null,415752]
[null,1052875]
[null,319220]
[null,455582]
[null,1090823]
[null,1163773]
[null,781338]
[null,659421]
[null,1209392]
[null,1036315]
[null,1179256]
[null,938817]
[null,328871]
[null,384766]
[null,732677]
[null,907129]
[null,1124438]
[null,873080]
[null,1734]
[null,454346]
[null,766991]
[null,799574]
[null,238497]
[null,101180]
[null,515418]
[null,1171587]
[null,229228]
[null,272080]
[null,1101792]
[null,138584]
[null,1217443]
[null,546299]
[null,164586]
[null,231833]
[null,954590]
[null,562330]
[null,465641]
[null,1126903]
[null,219221]
[null,249624]
[null,417076]
[null,100074]
[null,225646]
[null,633285]
[null,860205]
[null,527551]
[null,451366]
[null,1285920]
[null,291627]
[null,1024350]
[null,643804]
[null,1016805]
[null,{"$f":"prnd(B6851)","v":1266392}]
[null,374047]
[null,523677]
[null,736067]
[null,495620]
[null,1183267]
[null,690010]
[null,125887]
[null,490207]
[null,1064750]
[null,831092]
[null,698079]
[null,940276]
[null,711129]
[null,460309]
[null,1029608]
[null,721711]
[null,633415]
[null,894265]
[null,353448]
[null,325495]
[null,799943]
[null,335175]
[null,736725]
[null,668016]
[null,861904]
[null,972689]
[null,105512]
[null,350713]
[null,908614]
[null,213819]
[null,133989]
[null,13553]
[null,951546]
[null,1064491]
[null,763234]
[null,1114929]
[null,981100]
[null,1009505]
[null,653481]
[null,952801]
[null,93612]
[null,1131980]
[null,249706]
[null,438560]
[null,530126]
[null,1126016]
[null,1286516]
[null,447779]
[null,346126]
[null,1006509]
[null,1168218]
[null,646239]
[null,355086]
[null,754651]
[null,165872]
[null,568765]
[null,851922]
[null,956783]
[null,1136896]
[null,238009]
[null,1273013]
[null,809060]
[null,124451]
[null,{"$f":"prnd(B6915)","v":113975}]
[null,1268330]
[null,881803]
[null,987471]
[null,79329]
[null,1288901]
[null,1072649]
[null,301252]
[null,946722]
[null,1100292]
[null,1045273]
[null,926874]
[null,1098872]
[null,673233]
[null,929069]
[null,374273]
[null,582889]
[null,653343]
[null,916645]
[null,1018252]
[null,345817]
[null,925551]
[null,752246]
[null,835451]
[null,540448]
[null,1231002]
[null,199690]
[null,331258]
[null,1010160]
[null,825091]
[null,425506]
[null,1009045]
[null,532961]
[null,569097]
[null,938906]
[null,352189]
[null,1295326]
[null,156621]
[null,744381]
[null,74510]
[null,26323]
[null,398219]
[null,358296]
[null,295982]
[null,865671]
[null,659954]
[null,49349]
[null,1232275]
[null,533216]
[null,635907]
[null,247480]
[null,1155037]
[null,1091884]
[null,142066]
[null,830038]
[null,421931]
[null,72395]
[null,771882]
[null,781327]
[null,656539]
[null,454308]
[null,757035]
[null,790480]
[null,455247]
[null,{"$f":"prnd(B6979)","v":1003053}]
[null,262746]
[null,1255662]
[null,162165]
[null,897220]
[null,1127658]
[null,417031]
[null,88284]
[null,1035733]
[null,1026772]
[null,1278368]
[null,912381]
[null,1200773]
[null,77826]
[null,895115]
[null,576148]
[null,186890]
[null,876725]
[null,956724]
[null,1121438]
[null,87080]
[null,720285]
[null,259803]
[null,484596]
[null,894357]
[null,377552]
[null,142298]
[null,890822]
[null,751071]
[null,527601]
[null,464466]
[null,819053]
[null,143239]
[null,1137364]
[null,360625]
[null,906180]
[null,875800]
[null,714374]
[null,10810]
[null,232880]
[null,1228904]
[null,949703]
[null,581625]
[null,322175]
[null,1229792]
[null,1182359]
[null,452114]
[null,182207]
[null,949468]
[null,520055]
[null,1086792]
[null,107651]
[null,911131]
[null,873273]
[null,52300]
[null,705748]
[null,350176]
[null,767920]
[null,1042972]
[null,324012]
[null,411397]
[null,1211554]
[null,303070]
[null,123349]
[null,{"$f":"prnd(B7043)","v":1124940}]
[null,1004604]
[null,669108]
[null,1148008]
[null,549975]
[null,1127698]
[null,427511]
[null,234666]
[null,397147]
[null,77432]
[null,791887]
[null,823881]
[null,108486]
[null,1129901]
[null,1004697]
[null,693474]
[null,1033455]
[null,429936]
[null,870016]
[null,498655]
[null,678748]
[null,1074310]
[null,736434]
[null,591774]
[null,381835]
[null,1264444]
[null,1163360]
[null,673132]
[null,902607]
[null,1239363]
[null,1090583]
[null,1100893]
[null,1202735]
[null,591870]
[null,406987]
[null,56134]
[null,410567]
[null,994094]
[null,514866]
[null,1026963]
[null,28721]
[null,1026495]
[null,1205794]
[null,93639]
[null,1139054]
[null,803405]
[null,1242219]
[null,539166]
[null,895118]
[null,576934]
[null,392822]
[null,243971]
[null,235679]
[null,662553]
[null,730287]
[null,280949]
[null,826092]
[null,687768]
[null,838172]
[null,1253350]
[null,856110]
[null,754350]
[null,87010]
[null,701945]
[null,{"$f":"prnd(B7107)","v":653479}]
[null,952277]
[null,1256013]
[null,254127]
[null,297173]
[null,1177713]
[null,534551]
[null,985677]
[null,908990]
[null,312331]
[null,1250042]
[null,1289103]
[null,1125573]
[null,1170450]
[null,1231023]
[null,205192]
[null,473093]
[null,479949]
[null,976532]
[null,1112378]
[null,312738]
[null,56987]
[null,634053]
[null,1061421]
[null,1258583]
[null,927467]
[null,1254238]
[null,1088766]
[null,624839]
[null,1246731]
[null,421621]
[null,1290864]
[null,287266]
[null,1181457]
[null,215790]
[null,650391]
[null,143221]
[null,1132648]
[null,424722]
[null,803637]
[null,3314]
[null,868306]
[null,50635]
[null,269518]
[null,430548]
[null,1030360]
[null,918735]
[null,266143]
[null,845987]
[null,701502]
[null,537413]
[null,435832]
[null,1115079]
[null,1020400]
[null,908593]
[null,208317]
[null,1291843]
[null,543764]
[null,800105]
[null,377619]
[null,159852]
[null,291214]
[null,916144]
[null,886990]
[null,{"$f":"prnd(B7171)","v":1046776}]
[null,20971]
[null,295684]
[null,787595]
[null,999066]
[null,517841]
[null,506724]
[null,193448]
[null,1295232]
[null,131993]
[null,790290]
[null,405467]
[null,957583]
[null,46807]
[null,566271]
[null,198494]
[null,17906]
[null,792343]
[null,943353]
[null,217614]
[null,1128279]
[null,579733]
[null,1126160]
[null,24555]
[null,1234692]
[null,1166470]
[null,188263]
[null,1236451]
[null,327639]
[null,61982]
[null,643054]
[null,820305]
[null,471263]
[null,489]
[null,128156]
[null,1084685]
[null,855306]
[null,543702]
[null,783861]
[null,20758]
[null,239878]
[null,463002]
[null,435485]
[null,1024165]
[null,595334]
[null,14866]
[null,1295552]
[null,215833]
[null,661657]
[null,495535]
[null,1160997]
[null,54026]
[null,1157960]
[null,558021]
[null,636372]
[null,369310]
[null,582272]
[null,491689]
[null,153345]
[null,1185758]
[null,42963]
[null,858832]
[null,167825]
[null,1080451]
[null,{"$f":"prnd(B7235)","v":1045687}]
[null,1035342]
[null,924330]
[null,432344]
[null,201223]
[null,732904]
[null,966603]
[null,1110358]
[null,1083187]
[null,462830]
[null,390421]
[null,914598]
[null,481938]
[null,197961]
[null,1177949]
[null,596383]
[null,289704]
[null,520524]
[null,1209670]
[null,1109151]
[null,766953]
[null,789618]
[null,229403]
[null,317930]
[null,117602]
[null,918915]
[null,313303]
[null,205017]
[null,427243]
[null,164450]
[null,196201]
[null,716829]
[null,654020]
[null,1094019]
[null,701436]
[null,520121]
[null,1104084]
[null,739088]
[null,1287122]
[null,606551]
[null,354342]
[null,559723]
[null,1082296]
[null,229388]
[null,314000]
[null,387631]
[null,183618]
[null,19461]
[null,1199753]
[null,1110275]
[null,1061441]
[null,1263823]
[null,1000658]
[null,934945]
[null,614096]
[null,1031443]
[null,1202481]
[null,525322]
[null,1167057]
[null,342057]
[null,1240120]
[null,1288917]
[null,1076841]
[null,99867]
[null,{"$f":"prnd(B7299)","v":171412}]
[null,720556]
[null,330805]
[null,891474]
[null,921895]
[null,1094063]
[null,712964]
[null,941079]
[null,921515]
[null,994503]
[null,622024]
[null,509201]
[null,842422]
[null,1067161]
[null,163085]
[null,1138260]
[null,595377]
[null,26132]
[null,348177]
[null,244182]
[null,290961]
[null,849858]
[null,416015]
[null,1121781]
[null,176946]
[null,870775]
[null,697513]
[null,791984]
[null,849295]
[null,268509]
[null,166190]
[null,652081]
[null,586001]
[null,168998]
[null,88088]
[null,984381]
[null,569438]
[null,1028248]
[null,365391]
[null,855183]
[null,511476]
[null,138783]
[null,1269581]
[null,1209565]
[null,1081641]
[null,57778]
[null,841295]
[null,771887]
[null,782637]
[null,999759]
[null,699407]
[null,1288212]
[null,892131]
[null,1094029]
[null,704056]
[null,1206561]
[null,294593]
[null,501753]
[null,190735]
[null,584426]
[null,1056037]
[null,1147664]
[null,459847]
[null,908564]
[null,{"$f":"prnd(B7363)","v":200719}]
[null,600856]
[null,161941]
[null,838532]
[null,47981]
[null,873859]
[null,205832]
[null,640773]
[null,222683]
[null,1156668]
[null,219517]
[null,327176]
[null,1240365]
[null,53418]
[null,998664]
[null,412517]
[null,205305]
[null,502699]
[null,438587]
[null,537200]
[null,380026]
[null,790486]
[null,456819]
[null,115228]
[null,296927]
[null,1113261]
[null,544084]
[null,883945]
[null,248986]
[null,249920]
[null,494628]
[null,923363]
[null,178990]
[null,106614]
[null,639437]
[null,1172340]
[null,426514]
[null,1273141]
[null,842596]
[null,1112749]
[null,409940]
[null,829820]
[null,364815]
[null,704271]
[null,1262891]
[null,756474]
[null,643498]
[null,936633]
[null,1056352]
[null,1230194]
[null,1287683]
[null,753533]
[null,1172645]
[null,506424]
[null,114848]
[null,197367]
[null,1022321]
[null,112206]
[null,804852]
[null,321644]
[null,1090670]
[null,1123687]
[null,676318]
[null,437650]
[null,{"$f":"prnd(B7427)","v":291706}]
[null,1045048]
[null,867924]
[null,1250240]
[null,41290]
[null,420506]
[null,998734]
[null,430857]
[null,1111318]
[null,35018]
[null,76931]
[null,660625]
[null,225151]
[null,503595]
[null,673339]
[null,956841]
[null,1152092]
[null,320294]
[null,736970]
[null,732206]
[null,783727]
[null,1285339]
[null,139405]
[null,132856]
[null,1016396]
[null,1159234]
[null,891809]
[null,1009665]
[null,695401]
[null,238640]
[null,138646]
[null,1233687]
[null,903160]
[null,84560]
[null,60045]
[null,135560]
[null,425155]
[null,917083]
[null,1133008]
[null,519042]
[null,821386]
[null,754485]
[null,122380]
[null,871062]
[null,772707]
[null,997477]
[null,101523]
[null,605284]
[null,22388]
[null,666938]
[null,579468]
[null,1056730]
[null,29541]
[null,1241335]
[null,307558]
[null,1299205]
[null,1172919]
[null,578212]
[null,727658]
[null,891840]
[null,1017787]
[null,223987]
[null,198627]
[null,52752]
[null,{"$f":"prnd(B7491)","v":824172}]
[null,184728]
[null,310281]
[null,712942]
[null,935315]
[null,711036]
[null,435943]
[null,1144161]
[null,841750]
[null,891097]
[null,823121]
[null,1209055]
[null,948021]
[null,140941]
[null,535288]
[null,1178771]
[null,811747]
[null,828445]
[null,4565]
[null,1196068]
[null,144805]
[null,247967]
[null,1282631]
[null,729598]
[null,100431]
[null,319180]
[null,445102]
[null,944441]
[null,502670]
[null,430989]
[null,1145902]
[null,1297892]
[null,828913]
[null,127181]
[null,829235]
[null,211545]
[null,837890]
[null,1179466]
[null,993837]
[null,447532]
[null,281412]
[null,947398]
[null,1277404]
[null,659813]
[null,12407]
[null,651294]
[null,379807]
[null,733108]
[null,1020051]
[null,817155]
[null,945652]
[null,819952]
[null,378777]
[null,463248]
[null,499937]
[null,1014632]
[null,697066]
[null,674870]
[null,58274]
[null,971247]
[null,1027397]
[null,142429]
[null,925144]
[null,645612]
[null,{"$f":"prnd(B7555)","v":190812}]
[null,604600]
[null,1142869]
[null,503246]
[null,581901]
[null,394487]
[null,680201]
[null,155307]
[null,400113]
[null,854524]
[null,338818]
[null,391502]
[null,1197820]
[null,603829]
[null,940867]
[null,865971]
[null,738554]
[null,1147214]
[null,341947]
[null,1211300]
[null,236522]
[null,883419]
[null,111174]
[null,534468]
[null,963931]
[null,410294]
[null,922568]
[null,1270389]
[null,121572]
[null,659366]
[null,1194982]
[null,1159962]
[null,1082545]
[null,294626]
[null,510399]
[null,1156298]
[null,122577]
[null,922676]
[null,1298685]
[null,1036679]
[null,1274624]
[null,1231142]
[null,236370]
[null,843595]
[null,74798]
[null,101779]
[null,672356]
[null,699295]
[null,1258868]
[null,1002137]
[null,22754]
[null,762830]
[null,1009081]
[null,542393]
[null,440903]
[null,1143992]
[null,797472]
[null,987462]
[null,76971]
[null,671105]
[null,371533]
[null,1164698]
[null,1023688]
[null,470360]
[null,{"$f":"prnd(B7619)","v":1063592}]
[null,527696]
[null,489356]
[null,841788]
[null,901053]
[null,832215]
[null,992305]
[null,46148]
[null,393613]
[null,451213]
[null,1245834]
[null,186607]
[null,802579]
[null,1025807]
[null,1025538]
[null,955060]
[null,685470]
[null,236096]
[null,771807]
[null,761677]
[null,706995]
[null,676890]
[null,587514]
[null,565404]
[null,1271029]
[null,289252]
[null,402100]
[null,75429]
[null,267101]
[null,1096983]
[null,178315]
[null,1229453]
[null,1093541]
[null,576200]
[null,200514]
[null,547146]
[null,386500]
[null,1186985]
[null,364437]
[null,605235]
[null,9550]
[null,1202449]
[null,516938]
[null,270138]
[null,592988]
[null,699903]
[null,118475]
[null,1147641]
[null,453821]
[null,629441]
[null,1152766]
[null,496882]
[null,214222]
[null,239575]
[null,383616]
[null,431377]
[null,1247558]
[null,638295]
[null,873136]
[null,16406]
[null,399343]
[null,652784]
[null,770187]
[null,337237]
[null,{"$f":"prnd(B7683)","v":1276969}]
[null,545843]
[null,45114]
[null,122705]
[null,956212]
[null,987294]
[null,32955]
[null,836114]
[null,714154]
[null,1252859]
[null,727468]
[null,842060]
[null,972317]
[null,8048]
[null,808925]
[null,89081]
[null,1244547]
[null,1149102]
[null,836603]
[null,842272]
[null,1027861]
[null,263997]
[null,283735]
[null,256335]
[null,875669]
[null,680052]
[null,116269]
[null,569669]
[null,1088770]
[null,625887]
[null,221618]
[null,877638]
[null,1195930]
[null,108649]
[null,1172607]
[null,496468]
[null,105754]
[null,414117]
[null,624505]
[null,1159223]
[null,888927]
[null,254581]
[null,416121]
[null,1149553]
[null,954765]
[null,608180]
[null,781140]
[null,607545]
[null,614770]
[null,1208031]
[null,679733]
[null,32691]
[null,766946]
[null,787784]
[null,1048584]
[null,494667]
[null,933581]
[null,256728]
[null,978635]
[null,363675]
[null,405591]
[null,990071]
[null,760529]
[null,406219]
[null,{"$f":"prnd(B7747)","v":1154607}]
[null,979224]
[null,517993]
[null,546548]
[null,229824]
[null,428232]
[null,423568]
[null,501289]
[null,69167]
[null,1225835]
[null,145625]
[null,462807]
[null,384395]
[null,635475]
[null,134296]
[null,93987]
[null,1230230]
[null,1297115]
[null,625339]
[null,78042]
[null,951707]
[null,1106673]
[null,117717]
[null,949045]
[null,409229]
[null,643538]
[null,947113]
[null,1202734]
[null,591608]
[null,338343]
[null,267052]
[null,1084145]
[null,713826]
[null,1166923]
[null,306949]
[null,1139647]
[null,958771]
[null,358063]
[null,234936]
[null,467887]
[null,415666]
[null,1030343]
[null,914281]
[null,398884]
[null,532526]
[null,455127]
[null,971613]
[null,1123289]
[null,572042]
[null,410807]
[null,1056974]
[null,93469]
[null,1094514]
[null,831126]
[null,706987]
[null,674794]
[null,38362]
[null,953059]
[null,161208]
[null,646486]
[null,419800]
[null,813762]
[null,56686]
[null,555191]
[null,{"$f":"prnd(B7811)","v":1194601}]
[null,1060140]
[null,922961]
[null,73666]
[null,1104884]
[null,948688]
[null,315695]
[null,831721]
[null,862877]
[null,1227615]
[null,611985]
[null,478361]
[null,560476]
[null,1279582]
[null,1230449]
[null,54804]
[null,62107]
[null,675804]
[null,302982]
[null,100293]
[null,283024]
[null,70053]
[null,158278]
[null,1178515]
[null,744675]
[null,151538]
[null,712324]
[null,773399]
[null,1178781]
[null,814367]
[null,215196]
[null,494763]
[null,958733]
[null,348107]
[null,225842]
[null,684637]
[null,17850]
[null,777671]
[null,998356]
[null,331821]
[null,1157666]
[null,480993]
[null,1250060]
[null,1293819]
[null,1061476]
[null,1272993]
[null,803820]
[null,51260]
[null,433268]
[null,443311]
[null,475199]
[null,1031721]
[null,1275317]
[null,113019]
[null,1017858]
[null,242589]
[null,1173284]
[null,673842]
[null,1088627]
[null,588421]
[null,803038]
[null,1146065]
[null,40909]
[null,320684]
[null,{"$f":"prnd(B7875)","v":839150}]
[null,209897]
[null,406114]
[null,1127097]
[null,270049]
[null,569670]
[null,1089032]
[null,694531]
[null,10700]
[null,204060]
[null,176509]
[null,756281]
[null,592932]
[null,685231]
[null,173478]
[null,1261848]
[null,483208]
[null,530701]
[null,1276666]
[null,466457]
[null,41006]
[null,346098]
[null,999173]
[null,545875]
[null,53498]
[null,1019624]
[null,705281]
[null,227822]
[null,1203397]
[null,765314]
[null,360200]
[null,794830]
[null,295258]
[null,675983]
[null,349880]
[null,690368]
[null,219683]
[null,370668]
[null,938068]
[null,132633]
[null,957970]
[null,148201]
[null,1137719]
[null,453635]
[null,580709]
[null,82183]
[null,736960]
[null,729586]
[null,97287]
[null,795141]
[null,376740]
[null,1229243]
[null,1038521]
[null,457539]
[null,303868]
[null,332425]
[null,16225]
[null,351921]
[null,1225110]
[null,1255364]
[null,84089]
[null,1236332]
[null,296461]
[null,991169]
[null,{"$f":"prnd(B7939)","v":1048205}]
[null,395369]
[null,911285]
[null,913621]
[null,225964]
[null,716601]
[null,594284]
[null,1039455]
[null,702247]
[null,732603]
[null,887741]
[null,1243538]
[null,884744]
[null,458324]
[null,509538]
[null,930716]
[null,805787]
[null,566614]
[null,288360]
[null,168396]
[null,1230053]
[null,1250741]
[null,172552]
[null,1019236]
[null,603625]
[null,887419]
[null,1159174]
[null,876089]
[null,790092]
[null,353591]
[null,362961]
[null,218523]
[null,66748]
[null,592057]
[null,455981]
[null,1195361]
[null,1259260]
[null,1104841]
[null,937422]
[null,1263070]
[null,803372]
[null,1233573]
[null,873292]
[null,57278]
[null,710295]
[null,241801]
[null,966828]
[null,1169308]
[null,931819]
[null,1094773]
[null,898984]
[null,290137]
[null,633970]
[null,1039675]
[null,759887]
[null,238015]
[null,1274585]
[null,1220924]
[null,158632]
[null,1271263]
[null,350560]
[null,868528]
[null,108799]
[null,1211907]
[null,{"$f":"prnd(B8003)","v":395556}]
[null,960279]
[null,753159]
[null,1074657]
[null,827348]
[null,1016840]
[null,1275562]
[null,177209]
[null,939681]
[null,555239]
[null,1207177]
[null,455985]
[null,1196409]
[null,234147]
[null,261169]
[null,842488]
[null,1084453]
[null,794522]
[null,214562]
[null,328655]
[null,328174]
[null,202152]
[null,976302]
[null,1052118]
[null,120886]
[null,479634]
[null,894002]
[null,284542]
[null,467769]
[null,384750]
[null,728485]
[null,1108514]
[null,600059]
[null,1252816]
[null,716202]
[null,489746]
[null,943968]
[null,378744]
[null,454602]
[null,834063]
[null,176792]
[null,830427]
[null,523849]
[null,781131]
[null,605187]
[null,1296663]
[null,506915]
[null,243490]
[null,109657]
[null,137014]
[null,806103]
[null,649406]
[null,1184840]
[null,1102136]
[null,228712]
[null,136888]
[null,773091]
[null,1098085]
[null,467039]
[null,193490]
[null,6547]
[null,415663]
[null,1029557]
[null,708349]
[null,{"$f":"prnd(B8067)","v":1031638}]
[null,1253571]
[null,914012]
[null,328406]
[null,262936]
[null,5753]
[null,207635]
[null,1113159]
[null,517360]
[null,380702]
[null,967598]
[null,71359]
[null,500450]
[null,1149038]
[null,819835]
[null,348123]
[null,230034]
[null,483252]
[null,542229]
[null,397935]
[null,283888]
[null,296421]
[null,980689]
[null,901823]
[null,1033955]
[null,560936]
[null,100413]
[null,314464]
[null,509199]
[null,841898]
[null,929873]
[null,584921]
[null,1185727]
[null,34841]
[null,30557]
[null,207838]
[null,1166345]
[null,155513]
[null,454085]
[null,698609]
[null,1079136]
[null,701157]
[null,447023]
[null,148054]
[null,1099205]
[null,760479]
[null,393119]
[null,321785]
[null,1127612]
[null,404979]
[null,829727]
[null,340449]
[null,818824]
[null,83241]
[null,1014156]
[null,572354]
[null,492551]
[null,379189]
[null,571192]
[null,188107]
[null,1195579]
[null,16687]
[null,472965]
[null,446413]
[null,{"$f":"prnd(B8131)","v":1287923}]
[null,816413]
[null,751248]
[null,573975]
[null,917253]
[null,1177548]
[null,491321]
[null,56929]
[null,618857]
[null,979136]
[null,494937]
[null,1004321]
[null,594962]
[null,1217091]
[null,454075]
[null,695989]
[null,392696]
[null,210959]
[null,684358]
[null,1244441]
[null,1121330]
[null,58784]
[null,1104867]
[null,944234]
[null,448436]
[null,518260]
[null,616502]
[null,362126]
[null,1299442]
[null,1235013]
[null,1250572]
[null,128274]
[null,1115601]
[null,1157164]
[null,349469]
[null,582686]
[null,600157]
[null,1278492]
[null,944869]
[null,614806]
[null,1217463]
[null,551539]
[null,237777]
[null,1212229]
[null,479920]
[null,968934]
[null,421391]
[null,1230604]
[null,95414]
[null,304415]
[null,475739]
[null,1173201]
[null,652096]
[null,589931]
[null,1198658]
[null,823385]
[null,1278223]
[null,874391]
[null,345216]
[null,768089]
[null,1087250]
[null,227647]
[null,1157547]
[null,449815]
[null,{"$f":"prnd(B8195)","v":879558}]
[null,399281]
[null,636540]
[null,413326]
[null,417263]
[null,149068]
[null,65184]
[null,182289]
[null,970952]
[null,950107]
[null,687473]
[null,760882]
[null,498705]
[null,691848]
[null,607443]
[null,588046]
[null,704788]
[null,98656]
[null,1153819]
[null,772768]
[null,1013459]
[null,389740]
[null,736176]
[null,524178]
[null,867329]
[null,1094350]
[null,788158]
[null,1146572]
[null,173743]
[null,31589]
[null,478222]
[null,524058]
[null,835889]
[null,655204]
[null,104538]
[null,95525]
[null,333497]
[null,297089]
[null,1155705]
[null,1266900]
[null,507143]
[null,303226]
[null,164221]
[null,136203]
[null,593621]
[null,865749]
[null,680390]
[null,204825]
[null,376939]
[null,1281381]
[null,402098]
[null,74905]
[null,129813]
[null,219130]
[null,225782]
[null,668917]
[null,1097966]
[null,435861]
[null,1122677]
[null,411698]
[null,1290416]
[null,169890]
[null,321792]
[null,1129446]
[null,{"$f":"prnd(B8259)","v":885487}]
[null,652990]
[null,824159]
[null,181322]
[null,717598]
[null,855498]
[null,594006]
[null,966619]
[null,1114550]
[null,881802]
[null,987209]
[null,10685]
[null,200130]
[null,446538]
[null,20984]
[null,299090]
[null,380278]
[null,856510]
[null,859150]
[null,251141]
[null,814530]
[null,257902]
[null,1286223]
[null,371013]
[null,1028458]
[null,420411]
[null,973844]
[null,408122]
[null,353504]
[null,340167]
[null,744940]
[null,220968]
[null,707338]
[null,766756]
[null,738004]
[null,1003114]
[null,278728]
[null,244190]
[null,293057]
[null,99321]
[null,28360]
[null,931913]
[null,1119401]
[null,853075]
[null,1258869]
[null,1002399]
[null,91398]
[null,551912]
[null,335503]
[null,822661]
[null,1088535]
[null,564317]
[null,986235]
[null,1055186]
[null,924702]
[null,529808]
[null,1042700]
[null,252748]
[null,1235564]
[null,95245]
[null,260137]
[null,572104]
[null,427051]
[null,114146]
[null,{"$f":"prnd(B8323)","v":13443}]
[null,922726]
[null,12096]
[null,569812]
[null,1126236]
[null,44467]
[null,1252880]
[null,732970]
[null,983895]
[null,442106]
[null,159489]
[null,196108]
[null,692463]
[null,768573]
[null,1214058]
[null,959118]
[null,448977]
[null,660002]
[null,61925]
[null,628120]
[null,806664]
[null,796388]
[null,703454]
[null,1048837]
[null,560953]
[null,104867]
[null,181723]
[null,822660]
[null,1088273]
[null,495673]
[null,1197153]
[null,429075]
[null,644434]
[null,1181865]
[null,322686]
[null,63985]
[null,1167840]
[null,547203]
[null,401434]
[null,1200626]
[null,39312]
[null,1201959]
[null,388558]
[null,426492]
[null,1267377]
[null,632117]
[null,554189]
[null,932077]
[null,1162369]
[null,413490]
[null,460231]
[null,1009172]
[null,566235]
[null,189062]
[null,146100]
[null,587257]
[null,498070]
[null,525478]
[null,1207929]
[null,653009]
[null,829137]
[null,185869]
[null,609223]
[null,1054406]
[null,{"$f":"prnd(B8387)","v":720342}]
[null,274737]
[null,498237]
[null,569232]
[null,974276]
[null,521306]
[null,114865]
[null,201821]
[null,889580]
[null,425667]
[null,1051227]
[null,1187133]
[null,403213]
[null,367035]
[null,1285911]
[null,289269]
[null,406554]
[null,1242377]
[null,580562]
[null,43669]
[null,1043804]
[null,541996]
[null,336889]
[null,1185793]
[null,52133]
[null,661994]
[null,583829]
[null,899623]
[null,457555]
[null,308060]
[null,131040]
[null,540604]
[null,1271874]
[null,510642]
[null,1219964]
[null,1206801]
[null,357473]
[null,80356]
[null,258286]
[null,87142]
[null,736529]
[null,616664]
[null,404570]
[null,722569]
[null,858211]
[null,5123]
[null,42575]
[null,757176]
[null,827422]
[null,1036228]
[null,1156462]
[null,165545]
[null,483091]
[null,500047]
[null,1043452]
[null,449772]
[null,868292]
[null,46967]
[null,608191]
[null,784022]
[null,62940]
[null,894050]
[null,297118]
[null,1163303]
[null,{"$f":"prnd(B8451)","v":658198}]
[null,888966]
[null,264799]
[null,493859]
[null,721885]
[null,679003]
[null,1141120]
[null,45008]
[null,94933]
[null,178393]
[null,1249889]
[null,1249017]
[null,1020553]
[null,948679]
[null,313337]
[null,213925]
[null,161761]
[null,791372]
[null,688951]
[null,1148118]
[null,578795]
[null,880404]
[null,620933]
[null,223359]
[null,34091]
[null,1133746]
[null,712398]
[null,792787]
[null,1059681]
[null,802703]
[null,1058295]
[null,439571]
[null,795008]
[null,341894]
[null,1197414]
[null,497457]
[null,364872]
[null,719205]
[null,1276532]
[null,431349]
[null,1240222]
[null,15952]
[null,280395]
[null,680944]
[null,349973]
[null,714734]
[null,105130]
[null,250629]
[null,680386]
[null,203777]
[null,102363]
[null,825364]
[null,497032]
[null,253522]
[null,138663]
[null,1238141]
[null,770419]
[null,398021]
[null,306420]
[null,1001049]
[null,1037387]
[null,160431]
[null,442912]
[null,370661]
[null,{"$f":"prnd(B8515)","v":936234}]
[null,951814]
[null,1134707]
[null,964180]
[null,475532]
[null,1118967]
[null,739367]
[null,60531]
[null,262892]
[null,1293914]
[null,1086366]
[null,1295728]
[null,261945]
[null,1045800]
[null,1064948]
[null,882968]
[null,1292701]
[null,768560]
[null,1210652]
[null,66746]
[null,591533]
[null,318693]
[null,317508]
[null,7038]
[null,544305]
[null,941847]
[null,1122731]
[null,425846]
[null,1098125]
[null,477519]
[null,339872]
[null,667650]
[null,766012]
[null,543076]
[null,619849]
[null,1239040]
[null,1005957]
[null,1023594]
[null,445732]
[null,1109501]
[null,858653]
[null,120927]
[null,490376]
[null,1109028]
[null,734727]
[null,144540]
[null,178537]
[null,1287617]
[null,736241]
[null,541208]
[null,130433]
[null,381570]
[null,1195014]
[null,1168346]
[null,679775]
[null,43695]
[null,1050616]
[null,1027051]
[null,51777]
[null,568722]
[null,840656]
[null,604469]
[null,1108547]
[null,608705]
[null,{"$f":"prnd(B8579)","v":918690}]
[null,254353]
[null,356385]
[null,1094989]
[null,955576]
[null,820662]
[null,564797]
[null,1111995]
[null,212392]
[null,1059804]
[null,834929]
[null,403684]
[null,490437]
[null,1125010]
[null,1022944]
[null,275432]
[null,680327]
[null,188319]
[null,1251123]
[null,272636]
[null,1247464]
[null,613667]
[null,919045]
[null,347363]
[null,30914]
[null,301372]
[null,978162]
[null,239749]
[null,429204]
[null,678232]
[null,939118]
[null,407733]
[null,251586]
[null,931120]
[null,911635]
[null,1005321]
[null,856962]
[null,977574]
[null,85693]
[null,356891]
[null,1227561]
[null,597837]
[null,670652]
[null,252847]
[null,1261502]
[null,392556]
[null,174279]
[null,172021]
[null,880114]
[null,544953]
[null,1111623]
[null,114928]
[null,218327]
[null,15396]
[null,134723]
[null,205861]
[null,648371]
[null,913670]
[null,238802]
[null,181090]
[null,656814]
[null,526358]
[null,138800]
[null,1274035]
[null,{"$f":"prnd(B8643)","v":1076824}]
[null,95413]
[null,304153]
[null,407095]
[null,84430]
[null,25985]
[null,309663]
[null,551026]
[null,103371]
[null,1089460]
[null,806667]
[null,797174]
[null,909386]
[null,416083]
[null,1139597]
[null,945671]
[null,824930]
[null,383324]
[null,354873]
[null,698845]
[null,1140968]
[null,5184]
[null,58557]
[null,1045393]
[null,958314]
[null,238329]
[null,57164]
[null,680427]
[null,214519]
[null,317389]
[null,1275549]
[null,173803]
[null,47309]
[null,697795]
[null,865868]
[null,711568]
[null,575327]
[null,1271477]
[null,406628]
[null,1261765]
[null,461462]
[null,32005]
[null,587214]
[null,486804]
[null,173164]
[null,1179580]
[null,1023705]
[null,474814]
[null,930851]
[null,841157]
[null,735731]
[null,407588]
[null,213596]
[null,75563]
[null,302209]
[null,1197456]
[null,508461]
[null,648542]
[null,958472]
[null,279725]
[null,505404]
[null,1147297]
[null,363693]
[null,410307]
[null,{"$f":"prnd(B8707)","v":925974}]
[null,863072]
[null,1278705]
[null,1000675]
[null,939399]
[null,481355]
[null,45215]
[null,149167]
[null,91122]
[null,479600]
[null,885094]
[null,550024]
[null,1140536]
[null,1191689]
[null,297196]
[null,1183739]
[null,813674]
[null,33630]
[null,1012964]
[null,260050]
[null,549310]
[null,953468]
[null,268366]
[null,128724]
[null,1233501]
[null,854428]
[null,313666]
[null,300123]
[null,650924]
[null,282867]
[null,28919]
[null,1078371]
[null,500727]
[null,1221612]
[null,338888]
[null,409842]
[null,804144]
[null,136148]
[null,579211]
[null,989396]
[null,583679]
[null,860323]
[null,558467]
[null,753224]
[null,1091687]
[null,90452]
[null,304060]
[null,382729]
[null,198983]
[null,146024]
[null,567345]
[null,479882]
[null,958978]
[null,412297]
[null,147665]
[null,997287]
[null,51743]
[null,559814]
[null,1106138]
[null,1277236]
[null,615797]
[null,177416]
[null,993915]
[null,467968]
[null,{"$f":"prnd(B8771)","v":436888}]
[null,92062]
[null,725880]
[null,426004]
[null,1139521]
[null,925759]
[null,806742]
[null,816824]
[null,858930]
[null,193501]
[null,9429]
[null,1170747]
[null,9148]
[null,1097125]
[null,215519]
[null,579389]
[null,1036032]
[null,1105110]
[null,1007900]
[null,232971]
[null,1252746]
[null,697862]
[null,883422]
[null,111960]
[null,740400]
[null,331177]
[null,988938]
[null,463683]
[null,613907]
[null,981925]
[null,1225655]
[null,98465]
[null,1103777]
[null,658654]
[null,1008438]
[null,373927]
[null,492237]
[null,296921]
[null,1111689]
[null,132220]
[null,849764]
[null,391387]
[null,1167690]
[null,507903]
[null,502346]
[null,346101]
[null,999959]
[null,751807]
[null,720433]
[null,298579]
[null,246396]
[null,871029]
[null,764061]
[null,31914]
[null,563372]
[null,738645]
[null,1171056]
[null,90106]
[null,213408]
[null,26307]
[null,394027]
[null,559681]
[null,1071292]
[null,1245407]
[null,{"$f":"prnd(B8835)","v":74733}]
[null,84749]
[null,109563]
[null,112386]
[null,852012]
[null,980363]
[null,816411]
[null,750724]
[null,436687]
[null,39400]
[null,1225015]
[null,1230474]
[null,61354]
[null,478518]
[null,601610]
[null,359489]
[null,608548]
[null,877556]
[null,1174446]
[null,978286]
[null,272237]
[null,1142926]
[null,518180]
[null,595542]
[null,69362]
[null,1276925]
[null,534315]
[null,923845]
[null,305274]
[null,700797]
[null,352703]
[null,130305]
[null,348034]
[null,206716]
[null,872381]
[null,1118285]
[null,560683]
[null,34127]
[null,1143178]
[null,584204]
[null,997873]
[null,205275]
[null,494839]
[null,978645]
[null,366295]
[null,1092031]
[null,180580]
[null,523194]
[null,609521]
[null,1132482]
[null,381230]
[null,1105934]
[null,1223788]
[null,909000]
[null,314951]
[null,636793]
[null,479612]
[null,888238]
[null,74063]
[null,1208898]
[null,906887]
[null,1061034]
[null,1157189]
[null,356019]
[null,{"$f":"prnd(B8899)","v":999097}]
[null,525963]
[null,35310]
[null,153435]
[null,1209338]
[null,1022167]
[null,71858]
[null,631188]
[null,310791]
[null,846562]
[null,852152]
[null,1017043]
[null,29059]
[null,1115051]
[null,1013064]
[null,286250]
[null,915265]
[null,656692]
[null,494394]
[null,862055]
[null,1012251]
[null,73244]
[null,994320]
[null,574078]
[null,944239]
[null,449746]
[null,861480]
[null,861601]
[null,893303]
[null,101404]
[null,574106]
[null,951575]
[null,1072089]
[null,154532]
[null,197063]
[null,942673]
[null,39454]
[null,1239163]
[null,1038183]
[null,368983]
[null,496598]
[null,139814]
[null,240014]
[null,498634]
[null,673246]
[null,932475]
[null,1266645]
[null,440333]
[null,994652]
[null,661062]
[null,339645]
[null,608176]
[null,780092]
[null,332969]
[null,158753]
[null,3276]
[null,858350]
[null,41541]
[null,486268]
[null,32732]
[null,777688]
[null,1002810]
[null,199080]
[null,171438]
[null,{"$f":"prnd(B8963)","v":727368}]
[null,815860]
[null,606362]
[null,304824]
[null,582897]
[null,655439]
[null,166108]
[null,630597]
[null,155949]
[null,568317]
[null,734546]
[null,97118]
[null,750863]
[null,473105]
[null,483093]
[null,500571]
[null,1180740]
[null,27936]
[null,820825]
[null,607503]
[null,603766]
[null,924361]
[null,440466]
[null,1029498]
[null,692891]
[null,880709]
[null,700843]
[null,364755]
[null,688551]
[null,1043318]
[null,414664]
[null,767819]
[null,1016510]
[null,1189102]
[null,919091]
[null,359415]
[null,589160]
[null,996656]
[null,1186110]
[null,135187]
[null,327429]
[null,6962]
[null,524393]
[null,923659]
[null,256542]
[null,929903]
[null,592781]
[null,645669]
[null,205746]
[null,618241]
[null,817744]
[null,1099970]
[null,960909]
[null,918219]
[null,130951]
[null,517286]
[null,361314]
[null,1086698]
[null,83023]
[null,957040]
[null,1204230]
[null,983560]
[null,354336]
[null,558151]
[null,{"$f":"prnd(B9027)","v":670432}]
[null,195207]
[null,456401]
[null,5712]
[null,196893]
[null,898133]
[null,67175]
[null,703931]
[null,1173811]
[null,811916]
[null,872723]
[null,1207889]
[null,642529]
[null,682755]
[null,824455]
[null,258874]
[null,241198]
[null,808842]
[null,67335]
[null,745851]
[null,459650]
[null,856950]
[null,974430]
[null,561654]
[null,288529]
[null,212674]
[null,1133688]
[null,697202]
[null,710502]
[null,296035]
[null,879557]
[null,399019]
[null,567896]
[null,624244]
[null,1090841]
[null,1168489]
[null,717241]
[null,761964]
[null,782189]
[null,882383]
[null,1139431]
[null,902179]
[null,1127227]
[null,304109]
[null,395567]
[null,963161]
[null,208554]
[null,54248]
[null,1216124]
[null,200721]
[null,601380]
[null,299229]
[null,416696]
[null,514]
[null,134706]
[null,201407]
[null,781112]
[null,600209]
[null,1292116]
[null,615290]
[null,44582]
[null,1283010]
[null,828896]
[null,122727]
[null,{"$f":"prnd(B9091)","v":961976}]
[null,1197773]
[null,591515]
[null,313977]
[null,381605]
[null,1204184]
[null,971508]
[null,1095779]
[null,1162556]
[null,462484]
[null,299769]
[null,558176]
[null,676982]
[null,611618]
[null,382207]
[null,62219]
[null,705148]
[null,192976]
[null,1171568]
[null,224250]
[null,267533]
[null,1210167]
[null,1239365]
[null,1091107]
[null,1238181]
[null,780899]
[null,544403]
[null,967523]
[null,51709]
[null,550906]
[null,71931]
[null,650314]
[null,123047]
[null,1045816]
[null,1069140]
[null,681583]
[null,517391]
[null,388824]
[null,496184]
[null,31346]
[null,414556]
[null,739523]
[null,101403]
[null,573844]
[null,882931]
[null,1283007]
[null,828110]
[null,1216484]
[null,295041]
[null,619129]
[null,1050400]
[null,970459]
[null,820941]
[null,637895]
[null,768336]
[null,1151964]
[null,286758]
[null,1048361]
[null,436241]
[null,1222237]
[null,502638]
[null,422605]
[null,248983]
[null,249134]
[null,{"$f":"prnd(B9155)","v":288696}]
[null,256428]
[null,900035]
[null,565499]
[null,1295919]
[null,311987]
[null,1159914]
[null,1069969]
[null,898781]
[null,236951]
[null,995817]
[null,966292]
[null,1028876]
[null,529927]
[null,1073878]
[null,623250]
[null,830413]
[null,520181]
[null,1119804]
[null,958661]
[null,329243]
[null,482230]
[null,274465]
[null,426973]
[null,93710]
[null,1157656]
[null,478373]
[null,563620]
[null,803621]
[null,1298811]
[null,1069691]
[null,825945]
[null,649254]
[null,1145016]
[null,1065760]
[null,1095712]
[null,1145002]
[null,1062092]
[null,134696]
[null,198787]
[null,94672]
[null,110011]
[null,229762]
[null,411988]
[null,66707]
[null,581315]
[null,240955]
[null,745176]
[null,282800]
[null,11365]
[null,378290]
[null,335654]
[null,862223]
[null,1056267]
[null,1207924]
[null,651699]
[null,485917]
[null,1240459]
[null,78046]
[null,952755]
[null,81560]
[null,573734]
[null,854111]
[null,230612]
[null,{"$f":"prnd(B9219)","v":634688}]
[null,1227791]
[null,658097]
[null,862504]
[null,1129889]
[null,1001553]
[null,1169435]
[null,965093]
[null,714738]
[null,106178]
[null,525205]
[null,1136403]
[null,108843]
[null,1223435]
[null,816514]
[null,777710]
[null,1008574]
[null,409559]
[null,729998]
[null,205231]
[null,483311]
[null,557687]
[null,548864]
[null,836616]
[null,845678]
[null,620544]
[null,121441]
[null,625044]
[null,752]
[null,197062]
[null,942411]
[null,1270499]
[null,150392]
[null,412072]
[null,88715]
[null,1148655]
[null,719489]
[null,51251]
[null,430910]
[null,1125204]
[null,1073772]
[null,595478]
[null,52594]
[null,782776]
[null,1036177]
[null,1143100]
[null,563768]
[null,842397]
[null,1060611]
[null,1046363]
[null,1212454]
[null,538870]
[null,817566]
[null,1053334]
[null,439478]
[null,770642]
[null,456447]
[null,17764]
[null,755139]
[null,293728]
[null,275123]
[null,599369]
[null,1072036]
[null,140646]
[null,{"$f":"prnd(B9283)","v":457998}]
[null,424126]
[null,647485]
[null,681538]
[null,505601]
[null,1198911]
[null,889671]
[null,449509]
[null,799386]
[null,189241]
[null,192998]
[null,1177332]
[null,434729]
[null,826093]
[null,688030]
[null,906816]
[null,1042432]
[null,182532]
[null,1034618]
[null,734642]
[null,122270]
[null,842242]
[null,1020001]
[null,804055]
[null,112830]
[null,968340]
[null,265763]
[null,746427]
[null,610562]
[null,105535]
[null,356739]
[null,1187737]
[null,561461]
[null,237963]
[null,1260961]
[null,250814]
[null,728856]
[null,1205716]
[null,73203]
[null,983578]
[null,359052]
[null,494054]
[null,772975]
[null,1067693]
[null,302469]
[null,1265576]
[null,160255]
[null,396800]
[null,1286207]
[null,366821]
[null,1229843]
[null,1195721]
[null,53891]
[null,1122590]
[null,388904]
[null,517144]
[null,324110]
[null,437073]
[null,140532]
[null,428130]
[null,396844]
[null,1297735]
[null,787779]
[null,1047274]
[null,{"$f":"prnd(B9347)","v":151447}]
[null,688482]
[null,1025240]
[null,876984]
[null,1024582]
[null,704588]
[null,46256]
[null,421909]
[null,66631]
[null,561403]
[null,222767]
[null,1178676]
[null,786857]
[null,805710]
[null,546440]
[null,201528]
[null,812814]
[null,1107999]
[null,465129]
[null,992759]
[null,165096]
[null,365453]
[null,871427]
[null,868337]
[null,58757]
[null,1097793]
[null,390535]
[null,944466]
[null,509220]
[null,847400]
[null,1071708]
[null,54710]
[null,37479]
[null,721713]
[null,633939]
[null,1031553]
[null,1231301]
[null,278028]
[null,60790]
[null,330750]
[null,877064]
[null,1045542]
[null,997352]
[null,68773]
[null,1122607]
[null,393358]
[null,384403]
[null,637571]
[null,683448]
[null,1006021]
[null,1040362]
[null,939881]
[null,607639]
[null,639398]
[null,1162122]
[null,348776]
[null,401120]
[null,1118358]
[null,579809]
[null,1146072]
[null,42743]
[null,801192]
[null,662413]
[null,693607]
[null,{"$f":"prnd(B9411)","v":1068301}]
[null,461765]
[null,111391]
[null,591322]
[null,263411]
[null,130203]
[null,321310]
[null,1003162]
[null,291304]
[null,939724]
[null,566505]
[null,259802]
[null,484334]
[null,825713]
[null,588470]
[null,815876]
[null,610554]
[null,103439]
[null,1107276]
[null,275703]
[null,751329]
[null,595197]
[null,1278661]
[null,989147]
[null,518441]
[null,663924]
[null,1089489]
[null,814265]
[null,188472]
[null,1291209]
[null,377656]
[null,169546]
[null,231664]
[null,910312]
[null,658695]
[null,1019180]
[null,588953]
[null,942422]
[null,1273381]
[null,905476]
[null,691352]
[null,477491]
[null,332536]
[null,45307]
[null,173271]
[null,1207614]
[null,570479]
[null,1301]
[null,340900]
[null,936986]
[null,1148838]
[null,767435]
[null,915902]
[null,823586]
[null,31196]
[null,375256]
[null,840435]
[null,546567]
[null,234802]
[null,432779]
[null,315193]
[null,700197]
[null,195503]
[null,533953]
[null,{"$f":"prnd(B9475)","v":829001}]
[null,150237]
[null,371462]
[null,1146096]
[null,49031]
[null,1148959]
[null,799137]
[null,124003]
[null,1296288]
[null,408665]
[null,495770]
[null,1222567]
[null,589098]
[null,980412]
[null,829249]
[null,215213]
[null,499217]
[null,825992]
[null,661568]
[null,472217]
[null,250437]
[null,630082]
[null,21019]
[null,308260]
[null,183440]
[null,1272514]
[null,678322]
[null,962698]
[null,87248]
[null,764301]
[null,94794]
[null,141975]
[null,806196]
[null,673772]
[null,1070287]
[null,982097]
[null,1270719]
[null,208032]
[null,1217173]
[null,475559]
[null,1126041]
[null,1293066]
[null,864190]
[null,271932]
[null,1063016]
[null,376784]
[null,1240771]
[null,159790]
[null,274970]
[null,559283]
[null,967016]
[null,1218564]
[null,840001]
[null,432859]
[null,336153]
[null,992961]
[null,218020]
[null,1234651]
[null,1155728]
[null,1272926]
[null,786266]
[null,650868]
[null,268195]
[null,83922]
[null,{"$f":"prnd(B9539)","v":1192578}]
[null,530114]
[null,1122872]
[null,462788]
[null,379417]
[null,630928]
[null,242671]
[null,1194768]
[null,1103894]
[null,689308]
[null,1241652]
[null,390612]
[null,964640]
[null,596052]
[null,202982]
[null,1193762]
[null,840322]
[null,516961]
[null,276164]
[null,872111]
[null,1047545]
[null,222449]
[null,1095360]
[null,1052778]
[null,293806]
[null,295559]
[null,754845]
[null,216700]
[null,888811]
[null,224189]
[null,251551]
[null,921950]
[null,1108473]
[null,589317]
[null,1037790]
[null,266017]
[null,812975]
[null,1150181]
[null,1119301]
[null,826875]
[null,892914]
[null,1299175]
[null,1165059]
[null,1118270]
[null,556753]
[null,304156]
[null,407881]
[null,290362]
[null,692920]
[null,888307]
[null,92141]
[null,746578]
[null,650124]
[null,73267]
[null,1000346]
[null,853201]
[null,1291881]
[null,553720]
[null,809199]
[null,160869]
[null,557668]
[null,543886]
[null,832069]
[null,954053]
[null,{"$f":"prnd(B9603)","v":421636}]
[null,1294794]
[null,17237]
[null,617065]
[null,509632]
[null,955344]
[null,759878]
[null,235657]
[null,656789]
[null,519808]
[null,1022078]
[null,48540]
[null,1020317]
[null,886847]
[null,1009310]
[null,602391]
[null,564111]
[null,932263]
[null,1211101]
[null,184384]
[null,220153]
[null,493808]
[null,708523]
[null,1077226]
[null,200737]
[null,605572]
[null,97844]
[null,941075]
[null,920467]
[null,719927]
[null,166007]
[null,604135]
[null,1021039]
[null,1076011]
[null,1182096]
[null,383208]
[null,324481]
[null,534275]
[null,913365]
[null,158892]
[null,39694]
[null,2354]
[null,616786]
[null,436534]
[null,1299003]
[null,1119995]
[null,1008703]
[null,443357]
[null,487251]
[null,290278]
[null,670912]
[null,320967]
[null,913296]
[null,140814]
[null,502014]
[null,259117]
[null,304864]
[null,593377]
[null,801821]
[null,827211]
[null,980946]
[null,969157]
[null,479817]
[null,941948]
[null,{"$f":"prnd(B9667)","v":1149193}]
[null,860445]
[null,590431]
[null,29969]
[null,53782]
[null,1094032]
[null,704842]
[null,112804]
[null,961528]
[null,1080397]
[null,1031539]
[null,1227633]
[null,616701]
[null,414264]
[null,663019]
[null,852379]
[null,1076517]
[null,14979]
[null,25469]
[null,174471]
[null,222325]
[null,1062872]
[null,339056]
[null,453858]
[null,639135]
[null,1093216]
[null,491050]
[null,1285616]
[null,211979]
[null,951598]
[null,1078115]
[null,433655]
[null,544705]
[null,1046647]
[null,1286862]
[null,538431]
[null,702548]
[null,811465]
[null,754561]
[null,142292]
[null,889250]
[null,339207]
[null,493420]
[null,606867]
[null,437134]
[null,156514]
[null,716347]
[null,527736]
[null,499836]
[null,988170]
[null,262467]
[null,1182564]
[null,505824]
[null,1257337]
[null,601015]
[null,203599]
[null,55727]
[null,303933]
[null,349455]
[null,579018]
[null,938830]
[null,332277]
[null,1277138]
[null,590121]
[null,{"$f":"prnd(B9731)","v":1248438}]
[null,868855]
[null,194473]
[null,264093]
[null,308887]
[null,347714]
[null,122876]
[null,1001014]
[null,1028217]
[null,357269]
[null,26908]
[null,551489]
[null,224677]
[null,379407]
[null,628308]
[null,855920]
[null,704570]
[null,41540]
[null,486006]
[null,1263777]
[null,988606]
[null,376699]
[null,1218501]
[null,823495]
[null,7354]
[null,627097]
[null,538638]
[null,756782]
[null,724194]
[null,1283961]
[null,1078058]
[null,418721]
[null,531064]
[null,72083]
[null,690138]
[null,159423]
[null,178816]
[null,61026]
[null,392582]
[null,181091]
[null,657076]
[null,595002]
[null,1227571]
[null,600457]
[null,57403]
[null,743045]
[null,1024167]
[null,595858]
[null,152154]
[null,873716]
[null,168366]
[null,1222193]
[null,491110]
[null,1647]
[null,431552]
[null,1293408]
[null,953794]
[null,353778]
[null,411955]
[null,58061]
[null,915441]
[null,702804]
[null,878537]
[null,131779]
[null,{"$f":"prnd(B9795)","v":734222}]
[null,12230]
[null,604920]
[null,1226709]
[null,374613]
[null,671969]
[null,597901]
[null,687420]
[null,746996]
[null,759640]
[null,173301]
[null,1215474]
[null,30421]
[null,172206]
[null,928584]
[null,247203]
[null,1082463]
[null,273142]
[null,80347]
[null,255928]
[null,769035]
[null,35413]
[null,180421]
[null,481536]
[null,92637]
[null,876530]
[null,905634]
[null,732748]
[null,925731]
[null,799406]
[null,194481]
[null,266189]
[null,858039]
[null,1259748]
[null,1232697]
[null,643780]
[null,1010517]
[null,918625]
[null,237323]
[null,1093281]
[null,508080]
[null,548720]
[null,798888]
[null,58765]
[null,1099889]
[null,939687]
[null,556811]
[null,319352]
[null,490166]
[null,1054008]
[null,616066]
[null,247894]
[null,1263505]
[null,917342]
[null,1200866]
[null,102192]
[null,780562]
[null,456109]
[null,1228897]
[null,947869]
[null,101117]
[null,498912]
[null,746082]
[null,520172]
[null,{"$f":"prnd(B9859)","v":1117446}]
[null,340865]
[null,927816]
[null,45987]
[null,351431]
[null,1096730]
[null,112029]
[null,758478]
[null,1168546]
[null,732175]
[null,775605]
[null,457064]
[null,179418]
[null,218750]
[null,126222]
[null,577977]
[null,666088]
[null,356768]
[null,1195335]
[null,1252448]
[null,619786]
[null,1222534]
[null,580452]
[null,14849]
[null,1291098]
[null,348574]
[null,348196]
[null,249160]
[null,295508]
[null,741483]
[null,614923]
[null,1248117]
[null,784753]
[null,254462]
[null,384943]
[null,779051]
[null,60227]
[null,183244]
[null,1221162]
[null,220988]
[null,712578]
[null,839947]
[null,418711]
[null,528444]
[null,685332]
[null,199940]
[null,396758]
[null,1275203]
[null,83151]
[null,990576]
[null,892839]
[null,1279525]
[null,1215515]
[null,41163]
[null,387232]
[null,79080]
[null,1223663]
[null,876250]
[null,832274]
[null,1007763]
[null,197077]
[null,946341]
[null,1000470]
[null,885689]
[null,{"$f":"prnd(B9923)","v":705914}]
[null,393668]
[null,465623]
[null,1122187]
[null,283318]
[null,147081]
[null,844279]
[null,254006]
[null,265471]
[null,669923]
[null,61849]
[null,608208]
[null,788476]
[null,1229888]
[null,1207511]
[null,543493]
[null,729103]
[null,1270430]
[null,132314]
[null,874392]
[null,345478]
[null,836733]
[null,876332]
[null,853758]
[null,138126]
[null,1097447]
[null,299883]
[null,588044]
[null,704264]
[null,1261057]
[null,275966]
[null,820235]
[null,452923]
[null,394165]
[null,595837]
[null,146652]
[null,731881]
[null,698577]
[null,1070752]
[null,1103927]
[null,697954]
[null,907526]
[null,1228452]
[null,831279]
[null,747073]
[null,779814]
[null,260133]
[null,571056]
[null,152475]
[null,957818]
[null,108377]
[null,1101343]
[null,20946]
[null,289134]
[null,371184]
[null,1073260]
[null,461334]
[null,1298158]
[null,898605]
[null,190839]
[null,611674]
[null,396879]
[null,7216]
[null,590941]
[null,{"$f":"prnd(B9987)","v":163589}]
[null,1270308]
[null,100350]
[null,297958]
[null,83694]
[null,1132842]
[null,475550]
[null,1123683]
[null,675270]
[null,163074]
[null,1135378]
[null,1139982]
[null,1046541]

{"sheet":"H1","index":1,"n_rows":103,"n_cols":7,"rows_kept":103,"cut":false,"hidden":false,"merged":[]}
["Column_1-T","education","income","women","prestige","census","type"]
[{"$f":"'H1 Originaldaten'!A2","v":"gov.administrators"},{"$f":"ROUND(MAX(_xlfn.NORM.INV(('Eingabe Email'!$B134+1)/MAX('Eingabe Email'!$B:$B),'H1 Originaldaten'!B2,7),2),1)","v":14.1},{"$f":"ROUND(MAX(_xlfn.NORM.INV(('Eingabe Email'!$B134+1)/MAX('Eingabe Email'!$B:$B),'H1 Originaldaten'!C2,400),2),1)","v":12404.8},{"$f":"ROUND(MAX(_xlfn.NORM.INV(('Eingabe Email'!$B134+1)/MAX('Eingabe Email'!$B:$B),'H1 Originaldaten'!D2,4),2),1)","v":11.7},{"$f":"ROUND(MAX(_xlfn.NORM.INV(('Eingabe Email'!$B134+1)/MAX('Eingabe Email'!$B:$B),'H1 Originaldaten'!E2,4),2),1)","v":69.3},{"$f":"ROUND(MAX(_xlfn.NORM.INV(('Eingabe Email'!$B134+1)/MAX('Eingabe Email'!$B:$B),'H1 Originaldaten'!F2,200),2),0)","v":1140},{"$f":"'H1 Originaldaten'!G2","v":"prof"}]
[{"$f":"'H1 Originaldaten'!A3","v":"general.managers"},{"$f":"ROUND(MAX(_xlfn.NORM.INV(('Eingabe Email'!$B135+1)/MAX('Eingabe Email'!$B:$B),'H1 Originaldaten'!B3,7),2),1)","v":2},{"$f":"ROUND(MAX(_xlfn.NORM.INV(('Eingabe Email'!$B135+1)/MAX('Eingabe Email'!$B:$B),'H1 Originaldaten'!C3,400),2),1)","v":24823.4},{"$f":"ROUND(MAX(_xlfn.NORM.INV(('Eingabe Email'!$B135+1)/MAX('Eingabe Email'!$B:$B),'H1 Originaldaten'!D3,4),2),1)","v":2},{"$f":"ROUND(MAX(_xlfn.NORM.INV(('Eingabe Email'!$B135+1)/MAX('Eingabe Email'!$B:$B),'H1 Originaldaten'!E3,4),2),1)","v":58.5},{"$f":"ROUND(MAX(_xlfn.NORM.INV(('Eingabe Email'!$B135+1)/MAX('Eingabe Email'!$B:$B),'H1 Originaldaten'!F3,200),2),0)","v":602},{"$f":"'H1 Originaldaten'!G3","v":"prof"}]
[{"$f":"'H1 Originaldaten'!A4","v":"accountants"},{"$f":"ROUND(MAX(_xlfn.NORM.INV(('Eingabe Email'!$B136+1)/MAX('Eingabe Email'!$B:$B),'H1 Originaldaten'!B4,7),2),1)","v":3.3},{"$f":"ROUND(MAX(_xlfn.NORM.INV(('Eingabe Email'!$B136+1)/MAX('Eingabe Email'!$B:$B),'H1 Originaldaten'!C4,400),2),1)","v":8731.7999999999993},{"$f":"ROUND(MAX(_xlfn.NORM.INV(('Eingabe Email'!$B136+1)/MAX('Eingabe Email'!$B:$B),'H1 Originaldaten'!D4,4),2),1)","v":10.3},{"$f":"ROUND(MAX(_xlfn.NORM.INV(('Eingabe Email'!$B136+1)/MAX('Eingabe Email'!$B:$B),'H1 Originaldaten'!E4,4),2),1)","v":58},{"$f":"ROUND(MAX(_xlfn.NORM.INV(('Eingabe Email'!$B136+1)/MAX('Eingabe Email'!$B:$B),'H1 Originaldaten'!F4,200),2),0)","v":901},{"$f":"'H1 Originaldaten'!G4","v":"prof"}]
[{"$f":"'H1 Originaldaten'!A5","v":"purchasing.officers"},{"$f":"ROUND(MAX(_xlfn.NORM.INV(('Eingabe Email'!$B137+1)/MAX('Eingabe Email'!$B:$B),'H1 Originaldaten'!B5,7),2),1)","v":7},{"$f":"ROUND(MAX(_xlfn.NORM.INV(('Eingabe Email'!$B137+1)/MAX('Eingabe Email'!$B:$B),'H1 Originaldaten'!C5,400),2),1)","v":8614.2999999999993},{"$f":"ROUND(MAX(_xlfn.NORM.INV(('Eingabe Email'!$B137+1)/MAX('Eingabe Email'!$B:$B),'H1 Originaldaten'!D5,4),2),1)","v":6.6},{"$f":"ROUND(MAX(_xlfn.NORM.INV(('Eingabe Email'!$B137+1)/MAX('Eingabe Email'!$B:$B),'H1 Originaldaten'!E5,4),2),1)","v":54.3},{"$f":"ROUND(MAX(_xlfn.NORM.INV(('Eingabe Email'!$B137+1)/MAX('Eingabe Email'!$B:$B),'H1 Originaldaten'!F5,200),2),0)","v":1050},{"$f":"'H1 Originaldaten'!G5","v":"prof"}]
[{"$f":"'H1 Originaldaten'!A6","v":"chemists"},{"$f":"ROUND(MAX(_xlfn.NORM.INV(('Eingabe Email'!$B138+1)/MAX('Eingabe Email'!$B:$B),'H1 Originaldaten'!B6,7),2),1)","v":15},{"$f":"ROUND(MAX(_xlfn.NORM.INV(('Eingabe Email'!$B138+1)/MAX('Eingabe Email'!$B:$B),'H1 Originaldaten'!C6,400),2),1)","v":8425},{"$f":"ROUND(MAX(_xlfn.NORM.INV(('Eingabe Email'!$B138+1)/MAX('Eingabe Email'!$B:$B),'H1 Originaldaten'!D6,4),2),1)","v":11.9},{"$f":"ROUND(MAX(_xlfn.NORM.INV(('Eingabe Email'!$B138+1)/MAX('Eingabe Email'!$B:$B),'H1 Originaldaten'!E6,4),2),1)","v":73.7},{"$f":"ROUND(MAX(_xlfn.NORM.INV(('Eingabe Email'!$B138+1)/MAX('Eingabe Email'!$B:$B),'H1 Originaldaten'!F6,200),2),0)","v":2122},{"$f":"'H1 Originaldaten'!G6","v":"prof"}]
[{"$f":"'H1 Originaldaten'!A7","v":"physicists"},{"$f":"ROUND(MAX(_xlfn.NORM.INV(('Eingabe Email'!$B139+1)/MAX('Eingabe Email'!$B:$B),'H1 Originaldaten'!B7,7),2),1)","v":19.7},{"$f":"ROUND(MAX(_xlfn.NORM.INV(('Eingabe Email'!$B139+1)/MAX('Eingabe Email'!$B:$B),'H1 Originaldaten'!C7,400),2),1)","v":11264.2},{"$f":"ROUND(MAX(_xlfn.NORM.INV(('Eingabe Email'!$B139+1)/MAX('Eingabe Email'!$B:$B),'H1 Originaldaten'!D7,4),2),1)","v":7.5},{"$f":"ROUND(MAX(_xlfn.NORM.INV(('Eingabe Email'!$B139+1)/MAX('Eingabe Email'!$B:$B),'H1 Originaldaten'!E7,4),2),1)","v":79.900000000000006},{"$f":"ROUND(MAX(_xlfn.NORM.INV(('Eingabe Email'!$B139+1)/MAX('Eingabe Email'!$B:$B),'H1 Originaldaten'!F7,200),2),0)","v":2230},{"$f":"'H1 Originaldaten'!G7","v":"prof"}]
[{"$f":"'H1 Originaldaten'!A8","v":"biologists"},{"$f":"ROUND(MAX(_xlfn.NORM.INV(('Eingabe Email'!$B140+1)/MAX('Eingabe Email'!$B:$B),'H1 Originaldaten'!B8,7),2),1)","v":22},{"$f":"ROUND(MAX(_xlfn.NORM.INV(('Eingabe Email'!$B140+1)/MAX('Eingabe Email'!$B:$B),'H1 Originaldaten'!C8,400),2),1)","v":8653.4},{"$f":"ROUND(MAX(_xlfn.NORM.INV(('Eingabe Email'!$B140+1)/MAX('Eingabe Email'!$B:$B),'H1 Originaldaten'!D8,4),2),1)","v":29.6},{"$f":"ROUND(MAX(_xlfn.NORM.INV(('Eingabe Email'!$B140+1)/MAX('Eingabe Email'!$B:$B),'H1 Originaldaten'!E8,4),2),1)","v":76.599999999999994},{"$f":"ROUND(MAX(_xlfn.NORM.INV(('Eingabe Email'!$B140+1)/MAX('Eingabe Email'!$B:$B),'H1 Originaldaten'!F8,200),2),0)","v":2331},{"$f":"'H1 Originaldaten'!G8","v":"prof"}]
[{"$f":"'H1 Originaldaten'!A9","v":"architects"},{"$f":"ROUND(MAX(_xlfn.NORM.INV(('Eingabe Email'!$B141+1)/MAX('Eingabe Email'!$B:$B),'H1 Originaldaten'!B9,7),2),1)","v":18.2},{"$f":"ROUND(MAX(_xlfn.NORM.INV(('Eingabe Email'!$B141+1)/MAX('Eingabe Email'!$B:$B),'H1 Originaldaten'!C9,400),2),1)","v":14321.7},{"$f":"ROUND(MAX(_xlfn.NORM.INV(('Eingabe Email'!$B141+1)/MAX('Eingabe Email'!$B:$B),'H1 Originaldaten'!D9,4),2),1)","v":4.3},{"$f":"ROUND(MAX(_xlfn.NORM.INV(('Eingabe Email'!$B141+1)/MAX('Eingabe Email'!$B:$B),'H1 Originaldaten'!E9,4),2),1)","v":79.7},{"$f":"ROUND(MAX(_xlfn.NORM.INV(('Eingabe Email'!$B141+1)/MAX('Eingabe Email'!$B:$B),'H1 Originaldaten'!F9,200),2),0)","v":2220},{"$f":"'H1 Originaldaten'!G9","v":"prof"}]
[{"$f":"'H1 Originaldaten'!A10","v":"civil.engineers"},{"$f":"ROUND(MAX(_xlfn.NORM.INV(('Eingabe Email'!$B142+1)/MAX('Eingabe Email'!$B:$B),'H1 Originaldaten'!B10,7),2),1)","v":12.4},{"$f":"ROUND(MAX(_xlfn.NORM.INV(('Eingabe Email'!$B142+1)/MAX('Eingabe Email'!$B:$B),'H1 Originaldaten'!C10,400),2),1)","v":11255.7},{"$f":"ROUND(MAX(_xlfn.NORM.INV(('Eingabe Email'!$B142+1)/MAX('Eingabe Email'!$B:$B),'H1 Originaldaten'!D10,4),2),1)","v":2},{"$f":"ROUND(MAX(_xlfn.NORM.INV(('Eingabe Email'!$B142+1)/MAX('Eingabe Email'!$B:$B),'H1 Originaldaten'!E10,4),2),1)","v":71.900000000000006},{"$f":"ROUND(MAX(_xlfn.NORM.INV(('Eingabe Email'!$B142+1)/MAX('Eingabe Email'!$B:$B),'H1 Originaldaten'!F10,200),2),0)","v":2082},{"$f":"'H1 Originaldaten'!G10","v":"prof"}]
[{"$f":"'H1 Originaldaten'!A11","v":"mining.engineers"},{"$f":"ROUND(MAX(_xlfn.NORM.INV(('Eingabe Email'!$B143+1)/MAX('Eingabe Email'!$B:$B),'H1 Originaldaten'!B11,7),2),1)","v":19.600000000000001},{"$f":"ROUND(MAX(_xlfn.NORM.INV(('Eingabe Email'!$B143+1)/MAX('Eingabe Email'!$B:$B),'H1 Originaldaten'!C11,400),2),1)","v":11306.5},{"$f":"ROUND(MAX(_xlfn.NORM.INV(('Eingabe Email'!$B143+1)/MAX('Eingabe Email'!$B:$B),'H1 Originaldaten'!D11,4),2),1)","v":3.8},{"$f":"ROUND(MAX(_xlfn.NORM.INV(('Eingabe Email'!$B143+1)/MAX('Eingabe Email'!$B:$B),'H1 Originaldaten'!E11,4),2),1)","v":71.599999999999994},{"$f":"ROUND(MAX(_xlfn.NORM.INV(('Eingabe Email'!$B143+1)/MAX('Eingabe Email'!$B:$B),'H1 Originaldaten'!F11,200),2),0)","v":2295},{"$f":"'H1 Originaldaten'!G11","v":"prof"}]
[{"$f":"'H1 Originaldaten'!A12","v":"surveyors"},{"$f":"ROUND(MAX(_xlfn.NORM.INV(('Eingabe Email'!$B144+1)/MAX('Eingabe Email'!$B:$B),'H1 Originaldaten'!B12,7),2),1)","v":8.5},{"$f":"ROUND(MAX(_xlfn.NORM.INV(('Eingabe Email'!$B144+1)/MAX('Eingabe Email'!$B:$B),'H1 Originaldaten'!C12,400),2),1)","v":5679.3},{"$f":"ROUND(MAX(_xlfn.NORM.INV(('Eingabe Email'!$B144+1)/MAX('Eingabe Email'!$B:$B),'H1 Originaldaten'!D12,4),2),1)","v":2},{"$f":"ROUND(MAX(_xlfn.NORM.INV(('Eingabe Email'!$B144+1)/MAX('Eingabe Email'!$B:$B),'H1 Originaldaten'!E12,4),2),1)","v":59.8},{"$f":"ROUND(MAX(_xlfn.NORM.INV(('Eingabe Email'!$B144+1)/MAX('Eingabe Email'!$B:$B),'H1 Originaldaten'!F12,200),2),0)","v":2050},{"$f":"'H1 Originaldaten'!G12","v":"prof"}]
[{"$f":"'H1 Originaldaten'!A13","v":"draughtsmen"},{"$f":"ROUND(MAX(_xlfn.NORM.INV(('Eingabe Email'!$B145+1)/MAX('Eingabe Email'!$B:$B),'H1 Originaldaten'!B13,7),2),1)","v":15.4},{"$f":"ROUND(MAX(_xlfn.NORM.INV(('Eingabe Email'!$B145+1)/MAX('Eingabe Email'!$B:$B),'H1 Originaldaten'!C13,400),2),1)","v":7238.9},{"$f":"ROUND(MAX(_xlfn.NORM.INV(('Eingabe Email'!$B145+1)/MAX('Eingabe Email'!$B:$B),'H1 Originaldaten'!D13,4),2),1)","v":9.6},{"$f":"ROUND(MAX(_xlfn.NORM.INV(('Eingabe Email'!$B145+1)/MAX('Eingabe Email'!$B:$B),'H1 Originaldaten'!E13,4),2),1)","v":61.8},{"$f":"ROUND(MAX(_xlfn.NORM.INV(('Eingabe Email'!$B145+1)/MAX('Eingabe Email'!$B:$B),'H1 Originaldaten'!F13,200),2),0)","v":2253},{"$f":"'H1 Originaldaten'!G13","v":"prof"}]
[{"$f":"'H1 Originaldaten'!A14","v":"computer.programers"},{"$f":"ROUND(MAX(_xlfn.NORM.INV(('Eingabe Email'!$B146+1)/MAX('Eingabe Email'!$B:$B),'H1 Originaldaten'!B14,7),2),1)","v":12.9},{"$f":"ROUND(MAX(_xlfn.NORM.INV(('Eingabe Email'!$B146+1)/MAX('Eingabe Email'!$B:$B),'H1 Originaldaten'!C14,400),2),1)","v":8369.7999999999993},{"$f":"ROUND(MAX(_xlfn.NORM.INV(('Eingabe Email'!$B146+1)/MAX('Eingabe Email'!$B:$B),'H1 Originaldaten'!D14,4),2),1)","v":14.8},{"$f":"ROUND(MAX(_xlfn.NORM.INV(('Eingabe Email'!$B146+1)/MAX('Eingabe Email'!$B:$B),'H1 Originaldaten'!E14,4),2),1)","v":53.2},{"$f":"ROUND(MAX(_xlfn.NORM.INV(('Eingabe Email'!$B146+1)/MAX('Eingabe Email'!$B:$B),'H1 Originaldaten'!F14,200),2),0)","v":2155},{"$f":"'H1 Originaldaten'!G14","v":"prof"}]
[{"$f":"'H1 Originaldaten'!A15","v":"economists"},{"$f":"ROUND(MAX(_xlfn.NORM.INV(('Eingabe Email'!$B147+1)/MAX('Eingabe Email'!$B:$B),'H1 Originaldaten'!B15,7),2),1)","v":16.2},{"$f":"ROUND(MAX(_xlfn.NORM.INV(('Eingabe Email'!$B147+1)/MAX('Eingabe Email'!$B:$B),'H1 Originaldaten'!C15,400),2),1)","v":8147.3},{"$f":"ROUND(MAX(_xlfn.NORM.INV(('Eingabe Email'!$B147+1)/MAX('Eingabe Email'!$B:$B),'H1 Originaldaten'!D15,4),2),1)","v":58.3},{"$f":"ROUND(MAX(_xlfn.NORM.INV(('Eingabe Email'!$B147+1)/MAX('Eingabe Email'!$B:$B),'H1 Originaldaten'!E15,4),2),1)","v":63.2},{"$f":"ROUND(MAX(_xlfn.NORM.INV(('Eingabe Email'!$B147+1)/MAX('Eingabe Email'!$B:$B),'H1 Originaldaten'!F15,200),2),0)","v":2360},{"$f":"'H1 Originaldaten'!G15","v":"prof"}]
[{"$f":"'H1 Originaldaten'!A16","v":"psychologists"},{"$f":"ROUND(MAX(_xlfn.NORM.INV(('Eingabe Email'!$B148+1)/MAX('Eingabe Email'!$B:$B),'H1 Originaldaten'!B16,7),2),1)","v":12.7},{"$f":"ROUND(MAX(_xlfn.NORM.INV(('Eingabe Email'!$B148+1)/MAX('Eingabe Email'!$B:$B),'H1 Originaldaten'!C16,400),2),1)","v":7308.2},{"$f":"ROUND(MAX(_xlfn.NORM.INV(('Eingabe Email'!$B148+1)/MAX('Eingabe Email'!$B:$B),'H1 Originaldaten'!D16,4),2),1)","v":47.3},{"$f":"ROUND(MAX(_xlfn.NORM.INV(('Eingabe Email'!$B148+1)/MAX('Eingabe Email'!$B:$B),'H1 Originaldaten'!E16,4),2),1)","v":73.900000000000006},{"$f":"ROUND(MAX(_xlfn.NORM.INV(('Eingabe Email'!$B148+1)/MAX('Eingabe Email'!$B:$B),'H1 Originaldaten'!F16,200),2),0)","v":2267},{"$f":"'H1 Originaldaten'!G16","v":"prof"}]
[{"$f":"'H1 Originaldaten'!A17","v":"social.workers"},{"$f":"ROUND(MAX(_xlfn.NORM.INV(('Eingabe Email'!$B149+1)/MAX('Eingabe Email'!$B:$B),'H1 Originaldaten'!B17,7),2),1)","v":24.2},{"$f":"ROUND(MAX(_xlfn.NORM.INV(('Eingabe Email'!$B149+1)/MAX('Eingabe Email'!$B:$B),'H1 Originaldaten'!C17,400),2),1)","v":6906.5},{"$f":"ROUND(MAX(_xlfn.NORM.INV(('Eingabe Email'!$B149+1)/MAX('Eingabe Email'!$B:$B),'H1 Originaldaten'!D17,4),2),1)","v":60.5},{"$f":"ROUND(MAX(_xlfn.NORM.INV(('Eingabe Email'!$B149+1)/MAX('Eingabe Email'!$B:$B),'H1 Originaldaten'!E17,4),2),1)","v":60.8},{"$f":"ROUND(MAX(_xlfn.NORM.INV(('Eingabe Email'!$B149+1)/MAX('Eingabe Email'!$B:$B),'H1 Originaldaten'!F17,200),2),0)","v":2616},{"$f":"'H1 Originaldaten'!G17","v":"prof"}]
[{"$f":"'H1 Originaldaten'!A18","v":"lawyers"},{"$f":"ROUND(MAX(_xlfn.NORM.INV(('Eingabe Email'!$B150+1)/MAX('Eingabe Email'!$B:$B),'H1 Originaldaten'!B18,7),2),1)","v":22},{"$f":"ROUND(MAX(_xlfn.NORM.INV(('Eingabe Email'!$B150+1)/MAX('Eingabe Email'!$B:$B),'H1 Originaldaten'!C18,400),2),1)","v":19617.8},{"$f":"ROUND(MAX(_xlfn.NORM.INV(('Eingabe Email'!$B150+1)/MAX('Eingabe Email'!$B:$B),'H1 Originaldaten'!D18,4),2),1)","v":8.6999999999999993},{"$f":"ROUND(MAX(_xlfn.NORM.INV(('Eingabe Email'!$B150+1)/MAX('Eingabe Email'!$B:$B),'H1 Originaldaten'!E18,4),2),1)","v":85.8},{"$f":"ROUND(MAX(_xlfn.NORM.INV(('Eingabe Email'!$B150+1)/MAX('Eingabe Email'!$B:$B),'H1 Originaldaten'!F18,200),2),0)","v":2520},{"$f":"'H1 Originaldaten'!G18","v":"prof"}]
[{"$f":"'H1 Originaldaten'!A19","v":"librarians"},{"$f":"ROUND(MAX(_xlfn.NORM.INV(('Eingabe Email'!$B151+1)/MAX('Eingabe Email'!$B:$B),'H1 Originaldaten'!B19,7),2),1)","v":20.9},{"$f":"ROUND(MAX(_xlfn.NORM.INV(('Eingabe Email'!$B151+1)/MAX('Eingabe Email'!$B:$B),'H1 Originaldaten'!C19,400),2),1)","v":6495.5},{"$f":"ROUND(MAX(_xlfn.NORM.INV(('Eingabe Email'!$B151+1)/MAX('Eingabe Email'!$B:$B),'H1 Originaldaten'!D19,4),2),1)","v":80.900000000000006},{"$f":"ROUND(MAX(_xlfn.NORM.INV(('Eingabe Email'!$B151+1)/MAX('Eingabe Email'!$B:$B),'H1 Originaldaten'!E19,4),2),1)","v":61.9},{"$f":"ROUND(MAX(_xlfn.NORM.INV(('Eingabe Email'!$B151+1)/MAX('Eingabe Email'!$B:$B),'H1 Originaldaten'!F19,200),2),0)","v":2543},{"$f":"'H1 Originaldaten'!G19","v":"prof"}]
[{"$f":"'H1 Originaldaten'!A20","v":"vocational.counsellors"},{"$f":"ROUND(MAX(_xlfn.NORM.INV(('Eingabe Email'!$B152+1)/MAX('Eingabe Email'!$B:$B),'H1 Originaldaten'!B20,7),2),1)","v":19.5},{"$f":"ROUND(MAX(_xlfn.NORM.INV(('Eingabe Email'!$B152+1)/MAX('Eingabe Email'!$B:$B),'H1 Originaldaten'!C20,400),2),1)","v":9835.1},{"$f":"ROUND(MAX(_xlfn.NORM.INV(('Eingabe Email'!$B152+1)/MAX('Eingabe Email'!$B:$B),'H1 Originaldaten'!D20,4),2),1)","v":37.299999999999997},{"$f":"ROUND(MAX(_xlfn.NORM.INV(('Eingabe Email'!$B152+1)/MAX('Eingabe Email'!$B:$B),'H1 Originaldaten'!E20,4),2),1)","v":60.7},{"$f":"ROUND(MAX(_xlfn.NORM.INV(('Eingabe Email'!$B152+1)/MAX('Eingabe Email'!$B:$B),'H1 Originaldaten'!F20,200),2),0)","v":2512},{"$f":"'H1 Originaldaten'!G20","v":"prof"}]
[{"$f":"'H1 Originaldaten'!A21","v":"ministers"},{"$f":"ROUND(MAX(_xlfn.NORM.INV(('Eingabe Email'!$B153+1)/MAX('Eingabe Email'!$B:$B),'H1 Originaldaten'!B21,7),2),1)","v":15.7},{"$f":"ROUND(MAX(_xlfn.NORM.INV(('Eingabe Email'!$B153+1)/MAX('Eingabe Email'!$B:$B),'H1 Originaldaten'!C21,400),2),1)","v":4754.8},{"$f":"ROUND(MAX(_xlfn.NORM.INV(('Eingabe Email'!$B153+1)/MAX('Eingabe Email'!$B:$B),'H1 Originaldaten'!D21,4),2),1)","v":4.8},{"$f":"ROUND(MAX(_xlfn.NORM.INV(('Eingabe Email'!$B153+1)/MAX('Eingabe Email'!$B:$B),'H1 Originaldaten'!E21,4),2),1)","v":73.5},{"$f":"ROUND(MAX(_xlfn.NORM.INV(('Eingabe Email'!$B153+1)/MAX('Eingabe Email'!$B:$B),'H1 Originaldaten'!F21,200),2),0)","v":2545},{"$f":"'H1 Originaldaten'!G21","v":"prof"}]
[{"$f":"'H1 Originaldaten'!A22","v":"university.teachers"},{"$f":"ROUND(MAX(_xlfn.NORM.INV(('Eingabe Email'!$B154+1)/MAX('Eingabe Email'!$B:$B),'H1 Originaldaten'!B22,7),2),1)","v":23.7},{"$f":"ROUND(MAX(_xlfn.NORM.INV(('Eingabe Email'!$B154+1)/MAX('Eingabe Email'!$B:$B),'H1 Originaldaten'!C22,400),2),1)","v":12922.9},{"$f":"ROUND(MAX(_xlfn.NORM.INV(('Eingabe Email'!$B154+1)/MAX('Eingabe Email'!$B:$B),'H1 Originaldaten'!D22,4),2),1)","v":24},{"$f":"ROUND(MAX(_xlfn.NORM.INV(('Eingabe Email'!$B154+1)/MAX('Eingabe Email'!$B:$B),'H1 Originaldaten'!E22,4),2),1)","v":89},{"$f":"ROUND(MAX(_xlfn.NORM.INV(('Eingabe Email'!$B154+1)/MAX('Eingabe Email'!$B:$B),'H1 Originaldaten'!F22,200),2),0)","v":2932},{"$f":"'H1 Originaldaten'!G22","v":"prof"}]
[{"$f":"'H1 Originaldaten'!A23","v":"primary.school.teachers"},{"$f":"ROUND(MAX(_xlfn.NORM.INV(('Eingabe Email'!$B155+1)/MAX('Eingabe Email'!$B:$B),'H1 Originaldaten'!B23,7),2),1)","v":20.2},{"$f":"ROUND(MAX(_xlfn.NORM.INV(('Eingabe Email'!$B155+1)/MAX('Eingabe Email'!$B:$B),'H1 Originaldaten'!C23,400),2),1)","v":6024.5},{"$f":"ROUND(MAX(_xlfn.NORM.INV(('Eingabe Email'!$B155+1)/MAX('Eingabe Email'!$B:$B),'H1 Originaldaten'!D23,4),2),1)","v":87.5},{"$f":"ROUND(MAX(_xlfn.NORM.INV(('Eingabe Email'!$B155+1)/MAX('Eingabe Email'!$B:$B),'H1 Originaldaten'!E23,4),2),1)","v":63.4},{"$f":"ROUND(MAX(_xlfn.NORM.INV(('Eingabe Email'!$B155+1)/MAX('Eingabe Email'!$B:$B),'H1 Originaldaten'!F23,200),2),0)","v":2919},{"$f":"'H1 Originaldaten'!G23","v":"prof"}]
[{"$f":"'H1 Originaldaten'!A24","v":"secondary.school.teachers"},{"$f":"ROUND(MAX(_xlfn.NORM.INV(('Eingabe Email'!$B156+1)/MAX('Eingabe Email'!$B:$B),'H1 Originaldaten'!B24,7),2),1)","v":16.2},{"$f":"ROUND(MAX(_xlfn.NORM.INV(('Eingabe Email'!$B156+1)/MAX('Eingabe Email'!$B:$B),'H1 Originaldaten'!C24,400),2),1)","v":8098.3},{"$f":"ROUND(MAX(_xlfn.NORM.INV(('Eingabe Email'!$B156+1)/MAX('Eingabe Email'!$B:$B),'H1 Originaldaten'!D24,4),2),1)","v":47.4},{"$f":"ROUND(MAX(_xlfn.NORM.INV(('Eingabe Email'!$B156+1)/MAX('Eingabe Email'!$B:$B),'H1 Originaldaten'!E24,4),2),1)","v":66.7},{"$f":"ROUND(MAX(_xlfn.NORM.INV(('Eingabe Email'!$B156+1)/MAX('Eingabe Email'!$B:$B),'H1 Originaldaten'!F24,200),2),0)","v":2765},{"$f":"'H1 Originaldaten'!G24","v":"prof"}]
[{"$f":"'H1 Originaldaten'!A25","v":"physicians"},{"$f":"ROUND(MAX(_xlfn.NORM.INV(('Eingabe Email'!$B157+1)/MAX('Eingabe Email'!$B:$B),'H1 Originaldaten'!B25,7),2),1)","v":20},{"$f":"ROUND(MAX(_xlfn.NORM.INV(('Eingabe Email'!$B157+1)/MAX('Eingabe Email'!$B:$B),'H1 Originaldaten'!C25,400),2),1)","v":25536.400000000001},{"$f":"ROUND(MAX(_xlfn.NORM.INV(('Eingabe Email'!$B157+1)/MAX('Eingabe Email'!$B:$B),'H1 Originaldaten'!D25,4),2),1)","v":12.8},{"$f":"ROUND(MAX(_xlfn.NORM.INV(('Eingabe Email'!$B157+1)/MAX('Eingabe Email'!$B:$B),'H1 Originaldaten'!E25,4),2),1)","v":89.5},{"$f":"ROUND(MAX(_xlfn.NORM.INV(('Eingabe Email'!$B157+1)/MAX('Eingabe Email'!$B:$B),'H1 Originaldaten'!F25,200),2),0)","v":3225},{"$f":"'H1 Originaldaten'!G25","v":"prof"}]
[{"$f":"'H1 Originaldaten'!A26","v":"veterinarians"},{"$f":"ROUND(MAX(_xlfn.NORM.INV(('Eingabe Email'!$B158+1)/MAX('Eingabe Email'!$B:$B),'H1 Originaldaten'!B26,7),2),1)","v":17.100000000000001},{"$f":"ROUND(MAX(_xlfn.NORM.INV(('Eingabe Email'!$B158+1)/MAX('Eingabe Email'!$B:$B),'H1 Originaldaten'!C26,400),2),1)","v":14624.3},{"$f":"ROUND(MAX(_xlfn.NORM.INV(('Eingabe Email'!$B158+1)/MAX('Eingabe Email'!$B:$B),'H1 Originaldaten'!D26,4),2),1)","v":5},{"$f":"ROUND(MAX(_xlfn.NORM.INV(('Eingabe Email'!$B158+1)/MAX('Eingabe Email'!$B:$B),'H1 Originaldaten'!E26,4),2),1)","v":67.400000000000006},{"$f":"ROUND(MAX(_xlfn.NORM.INV(('Eingabe Email'!$B158+1)/MAX('Eingabe Email'!$B:$B),'H1 Originaldaten'!F26,200),2),0)","v":3148},{"$f":"'H1 Originaldaten'!G26","v":"prof"}]
[{"$f":"'H1 Originaldaten'!A27","v":"osteopaths.chiropractors"},{"$f":"ROUND(MAX(_xlfn.NORM.INV(('Eingabe Email'!$B159+1)/MAX('Eingabe Email'!$B:$B),'H1 Originaldaten'!B27,7),2),1)","v":9.5},{"$f":"ROUND(MAX(_xlfn.NORM.INV(('Eingabe Email'!$B159+1)/MAX('Eingabe Email'!$B:$B),'H1 Originaldaten'!C27,400),2),1)","v":17200.599999999999},{"$f":"ROUND(MAX(_xlfn.NORM.INV(('Eingabe Email'!$B159+1)/MAX('Eingabe Email'!$B:$B),'H1 Originaldaten'!D27,4),2),1)","v":3.9},{"$f":"ROUND(MAX(_xlfn.NORM.INV(('Eingabe Email'!$B159+1)/MAX('Eingabe Email'!$B:$B),'H1 Originaldaten'!E27,4),2),1)","v":65.400000000000006},{"$f":"ROUND(MAX(_xlfn.NORM.INV(('Eingabe Email'!$B159+1)/MAX('Eingabe Email'!$B:$B),'H1 Originaldaten'!F27,200),2),0)","v":2968},{"$f":"'H1 Originaldaten'!G27","v":"prof"}]
[{"$f":"'H1 Originaldaten'!A28","v":"nurses"},{"$f":"ROUND(MAX(_xlfn.NORM.INV(('Eingabe Email'!$B160+1)/MAX('Eingabe Email'!$B:$B),'H1 Originaldaten'!B28,7),2),1)","v":20.6},{"$f":"ROUND(MAX(_xlfn.NORM.INV(('Eingabe Email'!$B160+1)/MAX('Eingabe Email'!$B:$B),'H1 Originaldaten'!C28,400),2),1)","v":5076.6000000000004},{"$f":"ROUND(MAX(_xlfn.NORM.INV(('Eingabe Email'!$B160+1)/MAX('Eingabe Email'!$B:$B),'H1 Originaldaten'!D28,4),2),1)","v":100.7},{"$f":"ROUND(MAX(_xlfn.NORM.INV(('Eingabe Email'!$B160+1)/MAX('Eingabe Email'!$B:$B),'H1 Originaldaten'!E28,4),2),1)","v":69.3},{"$f":"ROUND(MAX(_xlfn.NORM.INV(('Eingabe Email'!$B160+1)/MAX('Eingabe Email'!$B:$B),'H1 Originaldaten'!F28,200),2),0)","v":3362},{"$f":"'H1 Originaldaten'!G28","v":"prof"}]
[{"$f":"'H1 Originaldaten'!A29","v":"nursing.aides"},{"$f":"ROUND(MAX(_xlfn.NORM.INV(('Eingabe Email'!$B161+1)/MAX('Eingabe Email'!$B:$B),'H1 Originaldaten'!B29,7),2),1)","v":10.199999999999999},{"$f":"ROUND(MAX(_xlfn.NORM.INV(('Eingabe Email'!$B161+1)/MAX('Eingabe Email'!$B:$B),'H1 Originaldaten'!C29,400),2),1)","v":3527},{"$f":"ROUND(MAX(_xlfn.NORM.INV(('Eingabe Email'!$B161+1)/MAX('Eingabe Email'!$B:$B),'H1 Originaldaten'!D29,4),2),1)","v":76.599999999999994},{"$f":"ROUND(MAX(_xlfn.NORM.INV(('Eingabe Email'!$B161+1)/MAX('Eingabe Email'!$B:$B),'H1 Originaldaten'!E29,4),2),1)","v":35.299999999999997},{"$f":"ROUND(MAX(_xlfn.NORM.INV(('Eingabe Email'!$B161+1)/MAX('Eingabe Email'!$B:$B),'H1 Originaldaten'!F29,200),2),0)","v":3156},{"$f":"'H1 Originaldaten'!G29","v":"bc"}]
[{"$f":"'H1 Originaldaten'!A30","v":"physio.therapsts"},{"$f":"ROUND(MAX(_xlfn.NORM.INV(('Eingabe Email'!$B162+1)/MAX('Eingabe Email'!$B:$B),'H1 Originaldaten'!B30,7),2),1)","v":24.4},{"$f":"ROUND(MAX(_xlfn.NORM.INV(('Eingabe Email'!$B162+1)/MAX('Eingabe Email'!$B:$B),'H1 Originaldaten'!C30,400),2),1)","v":5709.9},{"$f":"ROUND(MAX(_xlfn.NORM.INV(('Eingabe Email'!$B162+1)/MAX('Eingabe Email'!$B:$B),'H1 Originaldaten'!D30,4),2),1)","v":88.8},{"$f":"ROUND(MAX(_xlfn.NORM.INV(('Eingabe Email'!$B162+1)/MAX('Eingabe Email'!$B:$B),'H1 Originaldaten'!E30,4),2),1)","v":78.3},{"$f":"ROUND(MAX(_xlfn.NORM.INV(('Eingabe Email'!$B162+1)/MAX('Eingabe Email'!$B:$B),'H1 Originaldaten'!F30,200),2),0)","v":3446},{"$f":"'H1 Originaldaten'!G30","v":"prof"}]
[{"$f":"'H1 Originaldaten'!A31","v":"pharmacists"},{"$f":"ROUND(MAX(_xlfn.NORM.INV(('Eingabe Email'!$B163+1)/MAX('Eingabe Email'!$B:$B),'H1 Originaldaten'!B31,7),2),1)","v":25.1},{"$f":"ROUND(MAX(_xlfn.NORM.INV(('Eingabe Email'!$B163+1)/MAX('Eingabe Email'!$B:$B),'H1 Originaldaten'!C31,400),2),1)","v":10995.2},{"$f":"ROUND(MAX(_xlfn.NORM.INV(('Eingabe Email'!$B163+1)/MAX('Eingabe Email'!$B:$B),'H1 Originaldaten'!D31,4),2),1)","v":30.3},{"$f":"ROUND(MAX(_xlfn.NORM.INV(('Eingabe Email'!$B163+1)/MAX('Eingabe Email'!$B:$B),'H1 Originaldaten'!E31,4),2),1)","v":74.900000000000006},{"$f":"ROUND(MAX(_xlfn.NORM.INV(('Eingabe Email'!$B163+1)/MAX('Eingabe Email'!$B:$B),'H1 Originaldaten'!F31,200),2),0)","v":3433},{"$f":"'H1 Originaldaten'!G31","v":"prof"}]
[{"$f":"'H1 Originaldaten'!A32","v":"medical.technicians"},{"$f":"ROUND(MAX(_xlfn.NORM.INV(('Eingabe Email'!$B164+1)/MAX('Eingabe Email'!$B:$B),'H1 Originaldaten'!B32,7),2),1)","v":4.2},{"$f":"ROUND(MAX(_xlfn.NORM.INV(('Eingabe Email'!$B164+1)/MAX('Eingabe Email'!$B:$B),'H1 Originaldaten'!C32,400),2),1)","v":4688.6000000000004},{"$f":"ROUND(MAX(_xlfn.NORM.INV(('Eingabe Email'!$B164+1)/MAX('Eingabe Email'!$B:$B),'H1 Originaldaten'!D32,4),2),1)","v":71.099999999999994},{"$f":"ROUND(MAX(_xlfn.NORM.INV(('Eingabe Email'!$B164+1)/MAX('Eingabe Email'!$B:$B),'H1 Originaldaten'!E32,4),2),1)","v":62.6},{"$f":"ROUND(MAX(_xlfn.NORM.INV(('Eingabe Email'!$B164+1)/MAX('Eingabe Email'!$B:$B),'H1 Originaldaten'!F32,200),2),0)","v":2910},{"$f":"'H1 Originaldaten'!G32","v":"wc"}]
[{"$f":"'H1 Originaldaten'!A33","v":"commercial.artists"},{"$f":"ROUND(MAX(_xlfn.NORM.INV(('Eingabe Email'!$B165+1)/MAX('Eingabe Email'!$B:$B),'H1 Originaldaten'!B33,7),2),1)","v":15.1},{"$f":"ROUND(MAX(_xlfn.NORM.INV(('Eingabe Email'!$B165+1)/MAX('Eingabe Email'!$B:$B),'H1 Originaldaten'!C33,400),2),1)","v":6424.9},{"$f":"ROUND(MAX(_xlfn.NORM.INV(('Eingabe Email'!$B165+1)/MAX('Eingabe Email'!$B:$B),'H1 Originaldaten'!D33,4),2),1)","v":23.3},{"$f":"ROUND(MAX(_xlfn.NORM.INV(('Eingabe Email'!$B165+1)/MAX('Eingabe Email'!$B:$B),'H1 Originaldaten'!E33,4),2),1)","v":59.5},{"$f":"ROUND(MAX(_xlfn.NORM.INV(('Eingabe Email'!$B165+1)/MAX('Eingabe Email'!$B:$B),'H1 Originaldaten'!F33,200),2),0)","v":3428},{"$f":"'H1 Originaldaten'!G33","v":"prof"}]
[{"$f":"'H1 Originaldaten'!A34","v":"radio.tv.announcers"},{"$f":"ROUND(MAX(_xlfn.NORM.INV(('Eingabe Email'!$B166+1)/MAX('Eingabe Email'!$B:$B),'H1 Originaldaten'!B34,7),2),1)","v":11.8},{"$f":"ROUND(MAX(_xlfn.NORM.INV(('Eingabe Email'!$B166+1)/MAX('Eingabe Email'!$B:$B),'H1 Originaldaten'!C34,400),2),1)","v":7509.2},{"$f":"ROUND(MAX(_xlfn.NORM.INV(('Eingabe Email'!$B166+1)/MAX('Eingabe Email'!$B:$B),'H1 Originaldaten'!D34,4),2),1)","v":10.6},{"$f":"ROUND(MAX(_xlfn.NORM.INV(('Eingabe Email'!$B166+1)/MAX('Eingabe Email'!$B:$B),'H1 Originaldaten'!E34,4),2),1)","v":57.1},{"$f":"ROUND(MAX(_xlfn.NORM.INV(('Eingabe Email'!$B166+1)/MAX('Eingabe Email'!$B:$B),'H1 Originaldaten'!F34,200),2),0)","v":3311},{"$f":"'H1 Originaldaten'!G34","v":"wc"}]
[{"$f":"'H1 Originaldaten'!A35","v":"athletes"},{"$f":"ROUND(MAX(_xlfn.NORM.INV(('Eingabe Email'!$B167+1)/MAX('Eingabe Email'!$B:$B),'H1 Originaldaten'!B35,7),2),1)","v":6.2},{"$f":"ROUND(MAX(_xlfn.NORM.INV(('Eingabe Email'!$B167+1)/MAX('Eingabe Email'!$B:$B),'H1 Originaldaten'!C35,400),2),1)","v":7904.8},{"$f":"ROUND(MAX(_xlfn.NORM.INV(('Eingabe Email'!$B167+1)/MAX('Eingabe Email'!$B:$B),'H1 Originaldaten'!D35,4),2),1)","v":5.0999999999999996},{"$f":"ROUND(MAX(_xlfn.NORM.INV(('Eingabe Email'!$B167+1)/MAX('Eingabe Email'!$B:$B),'H1 Originaldaten'!E35,4),2),1)","v":51.1},{"$f":"ROUND(MAX(_xlfn.NORM.INV(('Eingabe Email'!$B167+1)/MAX('Eingabe Email'!$B:$B),'H1 Originaldaten'!F35,200),2),0)","v":3222},{"$f":"'H1 Originaldaten'!G35","v":"NA"}]
[{"$f":"'H1 Originaldaten'!A36","v":"secretaries"},{"$f":"ROUND(MAX(_xlfn.NORM.INV(('Eingabe Email'!$B168+1)/MAX('Eingabe Email'!$B:$B),'H1 Originaldaten'!B36,7),2),1)","v":3.9},{"$f":"ROUND(MAX(_xlfn.NORM.INV(('Eingabe Email'!$B168+1)/MAX('Eingabe Email'!$B:$B),'H1 Originaldaten'!C36,400),2),1)","v":3597.6},{"$f":"ROUND(MAX(_xlfn.NORM.INV(('Eingabe Email'!$B168+1)/MAX('Eingabe Email'!$B:$B),'H1 Originaldaten'!D36,4),2),1)","v":93.1},{"$f":"ROUND(MAX(_xlfn.NORM.INV(('Eingabe Email'!$B168+1)/MAX('Eingabe Email'!$B:$B),'H1 Originaldaten'!E36,4),2),1)","v":41.6},{"$f":"ROUND(MAX(_xlfn.NORM.INV(('Eingabe Email'!$B168+1)/MAX('Eingabe Email'!$B:$B),'H1 Originaldaten'!F36,200),2),0)","v":3892},{"$f":"'H1 Originaldaten'!G36","v":"wc"}]
[{"$f":"'H1 Originaldaten'!A37","v":"typists"},{"$f":"ROUND(MAX(_xlfn.NORM.INV(('Eingabe Email'!$B169+1)/MAX('Eingabe Email'!$B:$B),'H1 Originaldaten'!B37,7),2),1)","v":16.5},{"$f":"ROUND(MAX(_xlfn.NORM.INV(('Eingabe Email'!$B169+1)/MAX('Eingabe Email'!$B:$B),'H1 Originaldaten'!C37,400),2),1)","v":3431.9},{"$f":"ROUND(MAX(_xlfn.NORM.INV(('Eingabe Email'!$B169+1)/MAX('Eingabe Email'!$B:$B),'H1 Originaldaten'!D37,4),2),1)","v":98.8},{"$f":"ROUND(MAX(_xlfn.NORM.INV(('Eingabe Email'!$B169+1)/MAX('Eingabe Email'!$B:$B),'H1 Originaldaten'!E37,4),2),1)","v":44.7},{"$f":"ROUND(MAX(_xlfn.NORM.INV(('Eingabe Email'!$B169+1)/MAX('Eingabe Email'!$B:$B),'H1 Originaldaten'!F37,200),2),0)","v":4255},{"$f":"'H1 Originaldaten'!G37","v":"wc"}]
[{"$f":"'H1 Originaldaten'!A38","v":"bookkeepers"},{"$f":"ROUND(MAX(_xlfn.NORM.INV(('Eingabe Email'!$B170+1)/MAX('Eingabe Email'!$B:$B),'H1 Originaldaten'!B38,7),2),1)","v":8.6999999999999993},{"$f":"ROUND(MAX(_xlfn.NORM.INV(('Eingabe Email'!$B170+1)/MAX('Eingabe Email'!$B:$B),'H1 Originaldaten'!C38,400),2),1)","v":4201},{"$f":"ROUND(MAX(_xlfn.NORM.INV(('Eingabe Email'!$B170+1)/MAX('Eingabe Email'!$B:$B),'H1 Originaldaten'!D38,4),2),1)","v":66.8},{"$f":"ROUND(MAX(_xlfn.NORM.INV(('Eingabe Email'!$B170+1)/MAX('Eingabe Email'!$B:$B),'H1 Originaldaten'!E38,4),2),1)","v":47.9},{"$f":"ROUND(MAX(_xlfn.NORM.INV(('Eingabe Email'!$B170+1)/MAX('Eingabe Email'!$B:$B),'H1 Originaldaten'!F38,200),2),0)","v":4058},{"$f":"'H1 Originaldaten'!G38","v":"wc"}]
[{"$f":"'H1 Originaldaten'!A39","v":"tellers.cashiers"},{"$f":"ROUND(MAX(_xlfn.NORM.INV(('Eingabe Email'!$B171+1)/MAX('Eingabe Email'!$B:$B),'H1 Originaldaten'!B39,7),2),1)","v":9.1999999999999993},{"$f":"ROUND(MAX(_xlfn.NORM.INV(('Eingabe Email'!$B171+1)/MAX('Eingabe Email'!$B:$B),'H1 Originaldaten'!C39,400),2),1)","v":2366.8000000000002},{"$f":"ROUND(MAX(_xlfn.NORM.INV(('Eingabe Email'!$B171+1)/MAX('Eingabe Email'!$B:$B),'H1 Originaldaten'!D39,4),2),1)","v":90.9},{"$f":"ROUND(MAX(_xlfn.NORM.INV(('Eingabe Email'!$B171+1)/MAX('Eingabe Email'!$B:$B),'H1 Originaldaten'!E39,4),2),1)","v":41.5},{"$f":"ROUND(MAX(_xlfn.NORM.INV(('Eingabe Email'!$B171+1)/MAX('Eingabe Email'!$B:$B),'H1 Originaldaten'!F39,200),2),0)","v":4092},{"$f":"'H1 Originaldaten'!G39","v":"wc"}]
[{"$f":"'H1 Originaldaten'!A40","v":"computer.operators"},{"$f":"ROUND(MAX(_xlfn.NORM.INV(('Eingabe Email'!$B172+1)/MAX('Eingabe Email'!$B:$B),'H1 Originaldaten'!B40,7),2),1)","v":21.1},{"$f":"ROUND(MAX(_xlfn.NORM.INV(('Eingabe Email'!$B172+1)/MAX('Eingabe Email'!$B:$B),'H1 Originaldaten'!C40,400),2),1)","v":4886.6000000000004},{"$f":"ROUND(MAX(_xlfn.NORM.INV(('Eingabe Email'!$B172+1)/MAX('Eingabe Email'!$B:$B),'H1 Originaldaten'!D40,4),2),1)","v":81.5},{"$f":"ROUND(MAX(_xlfn.NORM.INV(('Eingabe Email'!$B172+1)/MAX('Eingabe Email'!$B:$B),'H1 Originaldaten'!E40,4),2),1)","v":53.3},{"$f":"ROUND(MAX(_xlfn.NORM.INV(('Eingabe Email'!$B172+1)/MAX('Eingabe Email'!$B:$B),'H1 Originaldaten'!F40,200),2),0)","v":4421},{"$f":"'H1 Originaldaten'!G40","v":"wc"}]
[{"$f":"'H1 Originaldaten'!A41","v":"shipping.clerks"},{"$f":"ROUND(MAX(_xlfn.NORM.INV(('Eingabe Email'!$B173+1)/MAX('Eingabe Email'!$B:$B),'H1 Originaldaten'!B41,7),2),1)","v":8.5},{"$f":"ROUND(MAX(_xlfn.NORM.INV(('Eingabe Email'!$B173+1)/MAX('Eingabe Email'!$B:$B),'H1 Originaldaten'!C41,400),2),1)","v":4722.2},{"$f":"ROUND(MAX(_xlfn.NORM.INV(('Eingabe Email'!$B173+1)/MAX('Eingabe Email'!$B:$B),'H1 Originaldaten'!D41,4),2),1)","v":11},{"$f":"ROUND(MAX(_xlfn.NORM.INV(('Eingabe Email'!$B173+1)/MAX('Eingabe Email'!$B:$B),'H1 Originaldaten'!E41,4),2),1)","v":30.5},{"$f":"ROUND(MAX(_xlfn.NORM.INV(('Eingabe Email'!$B173+1)/MAX('Eingabe Email'!$B:$B),'H1 Originaldaten'!F41,200),2),0)","v":4134},{"$f":"'H1 Originaldaten'!G41","v":"wc"}]
[{"$f":"'H1 Originaldaten'!A42","v":"file.clerks"},{"$f":"ROUND(MAX(_xlfn.NORM.INV(('Eingabe Email'!$B174+1)/MAX('Eingabe Email'!$B:$B),'H1 Originaldaten'!B42,7),2),1)","v":19.7},{"$f":"ROUND(MAX(_xlfn.NORM.INV(('Eingabe Email'!$B174+1)/MAX('Eingabe Email'!$B:$B),'H1 Originaldaten'!C42,400),2),1)","v":3448.6},{"$f":"ROUND(MAX(_xlfn.NORM.INV(('Eingabe Email'!$B174+1)/MAX('Eingabe Email'!$B:$B),'H1 Originaldaten'!D42,4),2),1)","v":87.5},{"$f":"ROUND(MAX(_xlfn.NORM.INV(('Eingabe Email'!$B174+1)/MAX('Eingabe Email'!$B:$B),'H1 Originaldaten'!E42,4),2),1)","v":37},{"$f":"ROUND(MAX(_xlfn.NORM.INV(('Eingabe Email'!$B174+1)/MAX('Eingabe Email'!$B:$B),'H1 Originaldaten'!F42,200),2),0)","v":4377},{"$f":"'H1 Originaldaten'!G42","v":"wc"}]
[{"$f":"'H1 Originaldaten'!A43","v":"receptionsts"},{"$f":"ROUND(MAX(_xlfn.NORM.INV(('Eingabe Email'!$B175+1)/MAX('Eingabe Email'!$B:$B),'H1 Originaldaten'!B43,7),2),1)","v":8.4},{"$f":"ROUND(MAX(_xlfn.NORM.INV(('Eingabe Email'!$B175+1)/MAX('Eingabe Email'!$B:$B),'H1 Originaldaten'!C43,400),2),1)","v":2748},{"$f":"ROUND(MAX(_xlfn.NORM.INV(('Eingabe Email'!$B175+1)/MAX('Eingabe Email'!$B:$B),'H1 Originaldaten'!D43,4),2),1)","v":91.3},{"$f":"ROUND(MAX(_xlfn.NORM.INV(('Eingabe Email'!$B175+1)/MAX('Eingabe Email'!$B:$B),'H1 Originaldaten'!E43,4),2),1)","v":37.200000000000003},{"$f":"ROUND(MAX(_xlfn.NORM.INV(('Eingabe Email'!$B175+1)/MAX('Eingabe Email'!$B:$B),'H1 Originaldaten'!F43,200),2),0)","v":4094},{"$f":"'H1 Originaldaten'!G43","v":"wc"}]
[{"$f":"'H1 Originaldaten'!A44","v":"mail.carriers"},{"$f":"ROUND(MAX(_xlfn.NORM.INV(('Eingabe Email'!$B176+1)/MAX('Eingabe Email'!$B:$B),'H1 Originaldaten'!B44,7),2),1)","v":20.9},{"$f":"ROUND(MAX(_xlfn.NORM.INV(('Eingabe Email'!$B176+1)/MAX('Eingabe Email'!$B:$B),'H1 Originaldaten'!C44,400),2),1)","v":6180.7},{"$f":"ROUND(MAX(_xlfn.NORM.INV(('Eingabe Email'!$B176+1)/MAX('Eingabe Email'!$B:$B),'H1 Originaldaten'!D44,4),2),1)","v":14.3},{"$f":"ROUND(MAX(_xlfn.NORM.INV(('Eingabe Email'!$B176+1)/MAX('Eingabe Email'!$B:$B),'H1 Originaldaten'!E44,4),2),1)","v":42.8},{"$f":"ROUND(MAX(_xlfn.NORM.INV(('Eingabe Email'!$B176+1)/MAX('Eingabe Email'!$B:$B),'H1 Originaldaten'!F44,200),2),0)","v":4507},{"$f":"'H1 Originaldaten'!G44","v":"wc"}]
[{"$f":"'H1 Originaldaten'!A45","v":"postal.clerks"},{"$f":"ROUND(MAX(_xlfn.NORM.INV(('Eingabe Email'!$B177+1)/MAX('Eingabe Email'!$B:$B),'H1 Originaldaten'!B45,7),2),1)","v":12.4},{"$f":"ROUND(MAX(_xlfn.NORM.INV(('Eingabe Email'!$B177+1)/MAX('Eingabe Email'!$B:$B),'H1 Originaldaten'!C45,400),2),1)","v":3872.6},{"$f":"ROUND(MAX(_xlfn.NORM.INV(('Eingabe Email'!$B177+1)/MAX('Eingabe Email'!$B:$B),'H1 Originaldaten'!D45,4),2),1)","v":53.6},{"$f":"ROUND(MAX(_xlfn.NORM.INV(('Eingabe Email'!$B177+1)/MAX('Eingabe Email'!$B:$B),'H1 Originaldaten'!E45,4),2),1)","v":38.5},{"$f":"ROUND(MAX(_xlfn.NORM.INV(('Eingabe Email'!$B177+1)/MAX('Eingabe Email'!$B:$B),'H1 Originaldaten'!F45,200),2),0)","v":4240},{"$f":"'H1 Originaldaten'!G45","v":"wc"}]
[{"$f":"'H1 Originaldaten'!A46","v":"telephone.operators"},{"$f":"ROUND(MAX(_xlfn.NORM.INV(('Eingabe Email'!$B178+1)/MAX('Eingabe Email'!$B:$B),'H1 Originaldaten'!B46,7),2),1)","v":5.5},{"$f":"ROUND(MAX(_xlfn.NORM.INV(('Eingabe Email'!$B178+1)/MAX('Eingabe Email'!$B:$B),'H1 Originaldaten'!C46,400),2),1)","v":2872.8},{"$f":"ROUND(MAX(_xlfn.NORM.INV(('Eingabe Email'!$B178+1)/MAX('Eingabe Email'!$B:$B),'H1 Originaldaten'!D46,4),2),1)","v":93.3},{"$f":"ROUND(MAX(_xlfn.NORM.INV(('Eingabe Email'!$B178+1)/MAX('Eingabe Email'!$B:$B),'H1 Originaldaten'!E46,4),2),1)","v":35.200000000000003},{"$f":"ROUND(MAX(_xlfn.NORM.INV(('Eingabe Email'!$B178+1)/MAX('Eingabe Email'!$B:$B),'H1 Originaldaten'!F46,200),2),0)","v":4031},{"$f":"'H1 Originaldaten'!G46","v":"wc"}]
[{"$f":"'H1 Originaldaten'!A47","v":"collectors"},{"$f":"ROUND(MAX(_xlfn.NORM.INV(('Eingabe Email'!$B179+1)/MAX('Eingabe Email'!$B:$B),'H1 Originaldaten'!B47,7),2),1)","v":15.4},{"$f":"ROUND(MAX(_xlfn.NORM.INV(('Eingabe Email'!$B179+1)/MAX('Eingabe Email'!$B:$B),'H1 Originaldaten'!C47,400),2),1)","v":4982},{"$f":"ROUND(MAX(_xlfn.NORM.INV(('Eingabe Email'!$B179+1)/MAX('Eingabe Email'!$B:$B),'H1 Originaldaten'!D47,4),2),1)","v":49.5},{"$f":"ROUND(MAX(_xlfn.NORM.INV(('Eingabe Email'!$B179+1)/MAX('Eingabe Email'!$B:$B),'H1 Originaldaten'!E47,4),2),1)","v":31.8},{"$f":"ROUND(MAX(_xlfn.NORM.INV(('Eingabe Email'!$B179+1)/MAX('Eingabe Email'!$B:$B),'H1 Originaldaten'!F47,200),2),0)","v":4312},{"$f":"'H1 Originaldaten'!G47","v":"wc"}]
[{"$f":"'H1 Originaldaten'!A48","v":"claim.adjustors"},{"$f":"ROUND(MAX(_xlfn.NORM.INV(('Eingabe Email'!$B180+1)/MAX('Eingabe Email'!$B:$B),'H1 Originaldaten'!B48,7),2),1)","v":8.1999999999999993},{"$f":"ROUND(MAX(_xlfn.NORM.INV(('Eingabe Email'!$B180+1)/MAX('Eingabe Email'!$B:$B),'H1 Originaldaten'!C48,400),2),1)","v":4884},{"$f":"ROUND(MAX(_xlfn.NORM.INV(('Eingabe Email'!$B180+1)/MAX('Eingabe Email'!$B:$B),'H1 Originaldaten'!D48,4),2),1)","v":54.4},{"$f":"ROUND(MAX(_xlfn.NORM.INV(('Eingabe Email'!$B180+1)/MAX('Eingabe Email'!$B:$B),'H1 Originaldaten'!E48,4),2),1)","v":49.4},{"$f":"ROUND(MAX(_xlfn.NORM.INV(('Eingabe Email'!$B180+1)/MAX('Eingabe Email'!$B:$B),'H1 Originaldaten'!F48,200),2),0)","v":4108},{"$f":"'H1 Originaldaten'!G48","v":"wc"}]
[{"$f":"'H1 Originaldaten'!A49","v":"travel.clerks"},{"$f":"ROUND(MAX(_xlfn.NORM.INV(('Eingabe Email'!$B181+1)/MAX('Eingabe Email'!$B:$B),'H1 Originaldaten'!B49,7),2),1)","v":8.5},{"$f":"ROUND(MAX(_xlfn.NORM.INV(('Eingabe Email'!$B181+1)/MAX('Eingabe Email'!$B:$B),'H1 Originaldaten'!C49,400),2),1)","v":6092.9},{"$f":"ROUND(MAX(_xlfn.NORM.INV(('Eingabe Email'!$B181+1)/MAX('Eingabe Email'!$B:$B),'H1 Originaldaten'!D49,4),2),1)","v":37.5},{"$f":"ROUND(MAX(_xlfn.NORM.INV(('Eingabe Email'!$B181+1)/MAX('Eingabe Email'!$B:$B),'H1 Originaldaten'!E49,4),2),1)","v":34},{"$f":"ROUND(MAX(_xlfn.NORM.INV(('Eingabe Email'!$B181+1)/MAX('Eingabe Email'!$B:$B),'H1 Originaldaten'!F49,200),2),0)","v":4110},{"$f":"'H1 Originaldaten'!G49","v":"wc"}]
[{"$f":"'H1 Originaldaten'!A50","v":"office.clerks"},{"$f":"ROUND(MAX(_xlfn.NORM.INV(('Eingabe Email'!$B182+1)/MAX('Eingabe Email'!$B:$B),'H1 Originaldaten'!B50,7),2),1)","v":17},{"$f":"ROUND(MAX(_xlfn.NORM.INV(('Eingabe Email'!$B182+1)/MAX('Eingabe Email'!$B:$B),'H1 Originaldaten'!C50,400),2),1)","v":4416.7},{"$f":"ROUND(MAX(_xlfn.NORM.INV(('Eingabe Email'!$B182+1)/MAX('Eingabe Email'!$B:$B),'H1 Originaldaten'!D50,4),2),1)","v":66.599999999999994},{"$f":"ROUND(MAX(_xlfn.NORM.INV(('Eingabe Email'!$B182+1)/MAX('Eingabe Email'!$B:$B),'H1 Originaldaten'!E50,4),2),1)","v":39},{"$f":"ROUND(MAX(_xlfn.NORM.INV(('Eingabe Email'!$B182+1)/MAX('Eingabe Email'!$B:$B),'H1 Originaldaten'!F50,200),2),0)","v":4368},{"$f":"'H1 Originaldaten'!G50","v":"wc"}]
[{"$f":"'H1 Originaldaten'!A51","v":"sales.supervisors"},{"$f":"ROUND(MAX(_xlfn.NORM.INV(('Eingabe Email'!$B183+1)/MAX('Eingabe Email'!$B:$B),'H1 Originaldaten'!B51,7),2),1)","v":9.6999999999999993},{"$f":"ROUND(MAX(_xlfn.NORM.INV(('Eingabe Email'!$B183+1)/MAX('Eingabe Email'!$B:$B),'H1 Originaldaten'!C51,400),2),1)","v":7472.9},{"$f":"ROUND(MAX(_xlfn.NORM.INV(('Eingabe Email'!$B183+1)/MAX('Eingabe Email'!$B:$B),'H1 Originaldaten'!D51,4),2),1)","v":16.899999999999999},{"$f":"ROUND(MAX(_xlfn.NORM.INV(('Eingabe Email'!$B183+1)/MAX('Eingabe Email'!$B:$B),'H1 Originaldaten'!E51,4),2),1)","v":41.4},{"$f":"ROUND(MAX(_xlfn.NORM.INV(('Eingabe Email'!$B183+1)/MAX('Eingabe Email'!$B:$B),'H1 Originaldaten'!F51,200),2),0)","v":5125},{"$f":"'H1 Originaldaten'!G51","v":"wc"}]
[{"$f":"'H1 Originaldaten'!A52","v":"commercial.travellers"},{"$f":"ROUND(MAX(_xlfn.NORM.INV(('Eingabe Email'!$B184+1)/MAX('Eingabe Email'!$B:$B),'H1 Originaldaten'!B52,7),2),1)","v":12.7},{"$f":"ROUND(MAX(_xlfn.NORM.INV(('Eingabe Email'!$B184+1)/MAX('Eingabe Email'!$B:$B),'H1 Originaldaten'!C52,400),2),1)","v":8870.9},{"$f":"ROUND(MAX(_xlfn.NORM.INV(('Eingabe Email'!$B184+1)/MAX('Eingabe Email'!$B:$B),'H1 Originaldaten'!D52,4),2),1)","v":4.0999999999999996},{"$f":"ROUND(MAX(_xlfn.NORM.INV(('Eingabe Email'!$B184+1)/MAX('Eingabe Email'!$B:$B),'H1 Originaldaten'!E52,4),2),1)","v":41.1},{"$f":"ROUND(MAX(_xlfn.NORM.INV(('Eingabe Email'!$B184+1)/MAX('Eingabe Email'!$B:$B),'H1 Originaldaten'!F52,200),2),0)","v":5178},{"$f":"'H1 Originaldaten'!G52","v":"wc"}]
[{"$f":"'H1 Originaldaten'!A53","v":"sales.clerks"},{"$f":"ROUND(MAX(_xlfn.NORM.INV(('Eingabe Email'!$B185+1)/MAX('Eingabe Email'!$B:$B),'H1 Originaldaten'!B53,7),2),1)","v":10.3},{"$f":"ROUND(MAX(_xlfn.NORM.INV(('Eingabe Email'!$B185+1)/MAX('Eingabe Email'!$B:$B),'H1 Originaldaten'!C53,400),2),1)","v":2610.8000000000002},{"$f":"ROUND(MAX(_xlfn.NORM.INV(('Eingabe Email'!$B185+1)/MAX('Eingabe Email'!$B:$B),'H1 Originaldaten'!D53,4),2),1)","v":68},{"$f":"ROUND(MAX(_xlfn.NORM.INV(('Eingabe Email'!$B185+1)/MAX('Eingabe Email'!$B:$B),'H1 Originaldaten'!E53,4),2),1)","v":26.7},{"$f":"ROUND(MAX(_xlfn.NORM.INV(('Eingabe Email'!$B185+1)/MAX('Eingabe Email'!$B:$B),'H1 Originaldaten'!F53,200),2),0)","v":5145},{"$f":"'H1 Originaldaten'!G53","v":"wc"}]
[{"$f":"'H1 Originaldaten'!A54","v":"newsboys"},{"$f":"ROUND(MAX(_xlfn.NORM.INV(('Eingabe Email'!$B186+1)/MAX('Eingabe Email'!$B:$B),'H1 Originaldaten'!B54,7),2),1)","v":7},{"$f":"ROUND(MAX(_xlfn.NORM.INV(('Eingabe Email'!$B186+1)/MAX('Eingabe Email'!$B:$B),'H1 Originaldaten'!C54,400),2),1)","v":771.1},{"$f":"ROUND(MAX(_xlfn.NORM.INV(('Eingabe Email'!$B186+1)/MAX('Eingabe Email'!$B:$B),'H1 Originaldaten'!D54,4),2),1)","v":5.5},{"$f":"ROUND(MAX(_xlfn.NORM.INV(('Eingabe Email'!$B186+1)/MAX('Eingabe Email'!$B:$B),'H1 Originaldaten'!E54,4),2),1)","v":13.3},{"$f":"ROUND(MAX(_xlfn.NORM.INV(('Eingabe Email'!$B186+1)/MAX('Eingabe Email'!$B:$B),'H1 Originaldaten'!F54,200),2),0)","v":5070},{"$f":"'H1 Originaldaten'!G54","v":"NA"}]
[{"$f":"'H1 Originaldaten'!A55","v":"service.station.attendant"},{"$f":"ROUND(MAX(_xlfn.NORM.INV(('Eingabe Email'!$B187+1)/MAX('Eingabe Email'!$B:$B),'H1 Originaldaten'!B55,7),2),1)","v":8.8000000000000007},{"$f":"ROUND(MAX(_xlfn.NORM.INV(('Eingabe Email'!$B187+1)/MAX('Eingabe Email'!$B:$B),'H1 Originaldaten'!C55,400),2),1)","v":2304.1},{"$f":"ROUND(MAX(_xlfn.NORM.INV(('Eingabe Email'!$B187+1)/MAX('Eingabe Email'!$B:$B),'H1 Originaldaten'!D55,4),2),1)","v":3},{"$f":"ROUND(MAX(_xlfn.NORM.INV(('Eingabe Email'!$B187+1)/MAX('Eingabe Email'!$B:$B),'H1 Originaldaten'!E55,4),2),1)","v":22.6},{"$f":"ROUND(MAX(_xlfn.NORM.INV(('Eingabe Email'!$B187+1)/MAX('Eingabe Email'!$B:$B),'H1 Originaldaten'!F55,200),2),0)","v":5112},{"$f":"'H1 Originaldaten'!G55","v":"bc"}]
[{"$f":"'H1 Originaldaten'!A56","v":"insurance.agents"},{"$f":"ROUND(MAX(_xlfn.NORM.INV(('Eingabe Email'!$B188+1)/MAX('Eingabe Email'!$B:$B),'H1 Originaldaten'!B56,7),2),1)","v":18.2},{"$f":"ROUND(MAX(_xlfn.NORM.INV(('Eingabe Email'!$B188+1)/MAX('Eingabe Email'!$B:$B),'H1 Originaldaten'!C56,400),2),1)","v":8506.7999999999993},{"$f":"ROUND(MAX(_xlfn.NORM.INV(('Eingabe Email'!$B188+1)/MAX('Eingabe Email'!$B:$B),'H1 Originaldaten'!D56,4),2),1)","v":16.8},{"$f":"ROUND(MAX(_xlfn.NORM.INV(('Eingabe Email'!$B188+1)/MAX('Eingabe Email'!$B:$B),'H1 Originaldaten'!E56,4),2),1)","v":51.1},{"$f":"ROUND(MAX(_xlfn.NORM.INV(('Eingabe Email'!$B188+1)/MAX('Eingabe Email'!$B:$B),'H1 Originaldaten'!F56,200),2),0)","v":5359},{"$f":"'H1 Originaldaten'!G56","v":"wc"}]
[{"$f":"'H1 Originaldaten'!A57","v":"real.estate.salesmen"},{"$f":"ROUND(MAX(_xlfn.NORM.INV(('Eingabe Email'!$B189+1)/MAX('Eingabe Email'!$B:$B),'H1 Originaldaten'!B57,7),2),1)","v":10.3},{"$f":"ROUND(MAX(_xlfn.NORM.INV(('Eingabe Email'!$B189+1)/MAX('Eingabe Email'!$B:$B),'H1 Originaldaten'!C57,400),2),1)","v":6944.2},{"$f":"ROUND(MAX(_xlfn.NORM.INV(('Eingabe Email'!$B189+1)/MAX('Eingabe Email'!$B:$B),'H1 Originaldaten'!D57,4),2),1)","v":24},{"$f":"ROUND(MAX(_xlfn.NORM.INV(('Eingabe Email'!$B189+1)/MAX('Eingabe Email'!$B:$B),'H1 Originaldaten'!E57,4),2),1)","v":46.6},{"$f":"ROUND(MAX(_xlfn.NORM.INV(('Eingabe Email'!$B189+1)/MAX('Eingabe Email'!$B:$B),'H1 Originaldaten'!F57,200),2),0)","v":5148},{"$f":"'H1 Originaldaten'!G57","v":"wc"}]
[{"$f":"'H1 Originaldaten'!A58","v":"buyers"},{"$f":"ROUND(MAX(_xlfn.NORM.INV(('Eingabe Email'!$B190+1)/MAX('Eingabe Email'!$B:$B),'H1 Originaldaten'!B58,7),2),1)","v":11.2},{"$f":"ROUND(MAX(_xlfn.NORM.INV(('Eingabe Email'!$B190+1)/MAX('Eingabe Email'!$B:$B),'H1 Originaldaten'!C58,400),2),1)","v":7964.9},{"$f":"ROUND(MAX(_xlfn.NORM.INV(('Eingabe Email'!$B190+1)/MAX('Eingabe Email'!$B:$B),'H1 Originaldaten'!D58,4),2),1)","v":24},{"$f":"ROUND(MAX(_xlfn.NORM.INV(('Eingabe Email'!$B190+1)/MAX('Eingabe Email'!$B:$B),'H1 Originaldaten'!E58,4),2),1)","v":51.2},{"$f":"ROUND(MAX(_xlfn.NORM.INV(('Eingabe Email'!$B190+1)/MAX('Eingabe Email'!$B:$B),'H1 Originaldaten'!F58,200),2),0)","v":5195},{"$f":"'H1 Originaldaten'!G58","v":"wc"}]
[{"$f":"'H1 Originaldaten'!A59","v":"firefighters"},{"$f":"ROUND(MAX(_xlfn.NORM.INV(('Eingabe Email'!$B191+1)/MAX('Eingabe Email'!$B:$B),'H1 Originaldaten'!B59,7),2),1)","v":6},{"$f":"ROUND(MAX(_xlfn.NORM.INV(('Eingabe Email'!$B191+1)/MAX('Eingabe Email'!$B:$B),'H1 Originaldaten'!C59,400),2),1)","v":8695},{"$f":"ROUND(MAX(_xlfn.NORM.INV(('Eingabe Email'!$B191+1)/MAX('Eingabe Email'!$B:$B),'H1 Originaldaten'!D59,4),2),1)","v":2},{"$f":"ROUND(MAX(_xlfn.NORM.INV(('Eingabe Email'!$B191+1)/MAX('Eingabe Email'!$B:$B),'H1 Originaldaten'!E59,4),2),1)","v":41.5},{"$f":"ROUND(MAX(_xlfn.NORM.INV(('Eingabe Email'!$B191+1)/MAX('Eingabe Email'!$B:$B),'H1 Originaldaten'!F59,200),2),0)","v":6011},{"$f":"'H1 Originaldaten'!G59","v":"bc"}]
[{"$f":"'H1 Originaldaten'!A60","v":"policemen"},{"$f":"ROUND(MAX(_xlfn.NORM.INV(('Eingabe Email'!$B192+1)/MAX('Eingabe Email'!$B:$B),'H1 Originaldaten'!B60,7),2),1)","v":17.5},{"$f":"ROUND(MAX(_xlfn.NORM.INV(('Eingabe Email'!$B192+1)/MAX('Eingabe Email'!$B:$B),'H1 Originaldaten'!C60,400),2),1)","v":9267.9},{"$f":"ROUND(MAX(_xlfn.NORM.INV(('Eingabe Email'!$B192+1)/MAX('Eingabe Email'!$B:$B),'H1 Originaldaten'!D60,4),2),1)","v":5.4},{"$f":"ROUND(MAX(_xlfn.NORM.INV(('Eingabe Email'!$B192+1)/MAX('Eingabe Email'!$B:$B),'H1 Originaldaten'!E60,4),2),1)","v":55.4},{"$f":"ROUND(MAX(_xlfn.NORM.INV(('Eingabe Email'!$B192+1)/MAX('Eingabe Email'!$B:$B),'H1 Originaldaten'!F60,200),2),0)","v":6300},{"$f":"'H1 Originaldaten'!G60","v":"bc"}]
[{"$f":"'H1 Originaldaten'!A61","v":"cooks"},{"$f":"ROUND(MAX(_xlfn.NORM.INV(('Eingabe Email'!$B193+1)/MAX('Eingabe Email'!$B:$B),'H1 Originaldaten'!B61,7),2),1)","v":10},{"$f":"ROUND(MAX(_xlfn.NORM.INV(('Eingabe Email'!$B193+1)/MAX('Eingabe Email'!$B:$B),'H1 Originaldaten'!C61,400),2),1)","v":3244.5},{"$f":"ROUND(MAX(_xlfn.NORM.INV(('Eingabe Email'!$B193+1)/MAX('Eingabe Email'!$B:$B),'H1 Originaldaten'!D61,4),2),1)","v":53.3},{"$f":"ROUND(MAX(_xlfn.NORM.INV(('Eingabe Email'!$B193+1)/MAX('Eingabe Email'!$B:$B),'H1 Originaldaten'!E61,4),2),1)","v":31},{"$f":"ROUND(MAX(_xlfn.NORM.INV(('Eingabe Email'!$B193+1)/MAX('Eingabe Email'!$B:$B),'H1 Originaldaten'!F61,200),2),0)","v":6185},{"$f":"'H1 Originaldaten'!G61","v":"bc"}]
[{"$f":"'H1 Originaldaten'!A62","v":"bartenders"},{"$f":"ROUND(MAX(_xlfn.NORM.INV(('Eingabe Email'!$B194+1)/MAX('Eingabe Email'!$B:$B),'H1 Originaldaten'!B62,7),2),1)","v":23.4},{"$f":"ROUND(MAX(_xlfn.NORM.INV(('Eingabe Email'!$B194+1)/MAX('Eingabe Email'!$B:$B),'H1 Originaldaten'!C62,400),2),1)","v":4780.8999999999996},{"$f":"ROUND(MAX(_xlfn.NORM.INV(('Eingabe Email'!$B194+1)/MAX('Eingabe Email'!$B:$B),'H1 Originaldaten'!D62,4),2),1)","v":24},{"$f":"ROUND(MAX(_xlfn.NORM.INV(('Eingabe Email'!$B194+1)/MAX('Eingabe Email'!$B:$B),'H1 Originaldaten'!E62,4),2),1)","v":28.7},{"$f":"ROUND(MAX(_xlfn.NORM.INV(('Eingabe Email'!$B194+1)/MAX('Eingabe Email'!$B:$B),'H1 Originaldaten'!F62,200),2),0)","v":6548},{"$f":"'H1 Originaldaten'!G62","v":"bc"}]
[{"$f":"'H1 Originaldaten'!A63","v":"funeral.directors"},{"$f":"ROUND(MAX(_xlfn.NORM.INV(('Eingabe Email'!$B195+1)/MAX('Eingabe Email'!$B:$B),'H1 Originaldaten'!B63,7),2),1)","v":12},{"$f":"ROUND(MAX(_xlfn.NORM.INV(('Eingabe Email'!$B195+1)/MAX('Eingabe Email'!$B:$B),'H1 Originaldaten'!C63,400),2),1)","v":7952.4},{"$f":"ROUND(MAX(_xlfn.NORM.INV(('Eingabe Email'!$B195+1)/MAX('Eingabe Email'!$B:$B),'H1 Originaldaten'!D63,4),2),1)","v":6.8},{"$f":"ROUND(MAX(_xlfn.NORM.INV(('Eingabe Email'!$B195+1)/MAX('Eingabe Email'!$B:$B),'H1 Originaldaten'!E63,4),2),1)","v":55.7},{"$f":"ROUND(MAX(_xlfn.NORM.INV(('Eingabe Email'!$B195+1)/MAX('Eingabe Email'!$B:$B),'H1 Originaldaten'!F63,200),2),0)","v":6183},{"$f":"'H1 Originaldaten'!G63","v":"bc"}]
[{"$f":"'H1 Originaldaten'!A64","v":"babysitters"},{"$f":"ROUND(MAX(_xlfn.NORM.INV(('Eingabe Email'!$B196+1)/MAX('Eingabe Email'!$B:$B),'H1 Originaldaten'!B64,7),2),1)","v":11.3},{"$f":"ROUND(MAX(_xlfn.NORM.INV(('Eingabe Email'!$B196+1)/MAX('Eingabe Email'!$B:$B),'H1 Originaldaten'!C64,400),2),1)","v":716.8},{"$f":"ROUND(MAX(_xlfn.NORM.INV(('Eingabe Email'!$B196+1)/MAX('Eingabe Email'!$B:$B),'H1 Originaldaten'!D64,4),2),1)","v":97.6},{"$f":"ROUND(MAX(_xlfn.NORM.INV(('Eingabe Email'!$B196+1)/MAX('Eingabe Email'!$B:$B),'H1 Originaldaten'!E64,4),2),1)","v":27},{"$f":"ROUND(MAX(_xlfn.NORM.INV(('Eingabe Email'!$B196+1)/MAX('Eingabe Email'!$B:$B),'H1 Originaldaten'!F64,200),2),0)","v":6200},{"$f":"'H1 Originaldaten'!G64","v":"NA"}]
[{"$f":"'H1 Originaldaten'!A65","v":"launderers"},{"$f":"ROUND(MAX(_xlfn.NORM.INV(('Eingabe Email'!$B197+1)/MAX('Eingabe Email'!$B:$B),'H1 Originaldaten'!B65,7),2),1)","v":3.5},{"$f":"ROUND(MAX(_xlfn.NORM.INV(('Eingabe Email'!$B197+1)/MAX('Eingabe Email'!$B:$B),'H1 Originaldaten'!C65,400),2),1)","v":2783.3},{"$f":"ROUND(MAX(_xlfn.NORM.INV(('Eingabe Email'!$B197+1)/MAX('Eingabe Email'!$B:$B),'H1 Originaldaten'!D65,4),2),1)","v":67.099999999999994},{"$f":"ROUND(MAX(_xlfn.NORM.INV(('Eingabe Email'!$B197+1)/MAX('Eingabe Email'!$B:$B),'H1 Originaldaten'!E65,4),2),1)","v":18.600000000000001},{"$f":"ROUND(MAX(_xlfn.NORM.INV(('Eingabe Email'!$B197+1)/MAX('Eingabe Email'!$B:$B),'H1 Originaldaten'!F65,200),2),0)","v":6054},{"$f":"'H1 Originaldaten'!G65","v":"bc"}]
[{"$f":"'H1 Originaldaten'!A66","v":"janitors"},{"$f":"ROUND(MAX(_xlfn.NORM.INV(('Eingabe Email'!$B198+1)/MAX('Eingabe Email'!$B:$B),'H1 Originaldaten'!B66,7),2),1)","v":2},{"$f":"ROUND(MAX(_xlfn.NORM.INV(('Eingabe Email'!$B198+1)/MAX('Eingabe Email'!$B:$B),'H1 Originaldaten'!C66,400),2),1)","v":2628.1},{"$f":"ROUND(MAX(_xlfn.NORM.INV(('Eingabe Email'!$B198+1)/MAX('Eingabe Email'!$B:$B),'H1 Originaldaten'!D66,4),2),1)","v":25.1},{"$f":"ROUND(MAX(_xlfn.NORM.INV(('Eingabe Email'!$B198+1)/MAX('Eingabe Email'!$B:$B),'H1 Originaldaten'!E66,4),2),1)","v":8.9},{"$f":"ROUND(MAX(_xlfn.NORM.INV(('Eingabe Email'!$B198+1)/MAX('Eingabe Email'!$B:$B),'H1 Originaldaten'!F66,200),2),0)","v":5769},{"$f":"'H1 Originaldaten'!G66","v":"bc"}]
[{"$f":"'H1 Originaldaten'!A67","v":"elevator.operators"},{"$f":"ROUND(MAX(_xlfn.NORM.INV(('Eingabe Email'!$B199+1)/MAX('Eingabe Email'!$B:$B),'H1 Originaldaten'!B67,7),2),1)","v":8.8000000000000007},{"$f":"ROUND(MAX(_xlfn.NORM.INV(('Eingabe Email'!$B199+1)/MAX('Eingabe Email'!$B:$B),'H1 Originaldaten'!C67,400),2),1)","v":3650},{"$f":"ROUND(MAX(_xlfn.NORM.INV(('Eingabe Email'!$B199+1)/MAX('Eingabe Email'!$B:$B),'H1 Originaldaten'!D67,4),2),1)","v":30.8},{"$f":"ROUND(MAX(_xlfn.NORM.INV(('Eingabe Email'!$B199+1)/MAX('Eingabe Email'!$B:$B),'H1 Originaldaten'!E67,4),2),1)","v":20.8},{"$f":"ROUND(MAX(_xlfn.NORM.INV(('Eingabe Email'!$B199+1)/MAX('Eingabe Email'!$B:$B),'H1 Originaldaten'!F67,200),2),0)","v":6227},{"$f":"'H1 Originaldaten'!G67","v":"bc"}]
[{"$f":"'H1 Originaldaten'!A68","v":"farmers"},{"$f":"ROUND(MAX(_xlfn.NORM.INV(('Eingabe Email'!$B200+1)/MAX('Eingabe Email'!$B:$B),'H1 Originaldaten'!B68,7),2),1)","v":9.6},{"$f":"ROUND(MAX(_xlfn.NORM.INV(('Eingabe Email'!$B200+1)/MAX('Eingabe Email'!$B:$B),'H1 Originaldaten'!C68,400),2),1)","v":3800.8},{"$f":"ROUND(MAX(_xlfn.NORM.INV(('Eingabe Email'!$B200+1)/MAX('Eingabe Email'!$B:$B),'H1 Originaldaten'!D68,4),2),1)","v":5.2},{"$f":"ROUND(MAX(_xlfn.NORM.INV(('Eingabe Email'!$B200+1)/MAX('Eingabe Email'!$B:$B),'H1 Originaldaten'!E68,4),2),1)","v":45.7},{"$f":"ROUND(MAX(_xlfn.NORM.INV(('Eingabe Email'!$B200+1)/MAX('Eingabe Email'!$B:$B),'H1 Originaldaten'!F68,200),2),0)","v":7191},{"$f":"'H1 Originaldaten'!G68","v":"NA"}]
[{"$f":"'H1 Originaldaten'!A69","v":"farm.workers"},{"$f":"ROUND(MAX(_xlfn.NORM.INV(('Eingabe Email'!$B201+1)/MAX('Eingabe Email'!$B:$B),'H1 Originaldaten'!B69,7),2),1)","v":2},{"$f":"ROUND(MAX(_xlfn.NORM.INV(('Eingabe Email'!$B201+1)/MAX('Eingabe Email'!$B:$B),'H1 Originaldaten'!C69,400),2),1)","v":1256.3},{"$f":"ROUND(MAX(_xlfn.NORM.INV(('Eingabe Email'!$B201+1)/MAX('Eingabe Email'!$B:$B),'H1 Originaldaten'!D69,4),2),1)","v":23.8},{"$f":"ROUND(MAX(_xlfn.NORM.INV(('Eingabe Email'!$B201+1)/MAX('Eingabe Email'!$B:$B),'H1 Originaldaten'!E69,4),2),1)","v":17.5},{"$f":"ROUND(MAX(_xlfn.NORM.INV(('Eingabe Email'!$B201+1)/MAX('Eingabe Email'!$B:$B),'H1 Originaldaten'!F69,200),2),0)","v":6982},{"$f":"'H1 Originaldaten'!G69","v":"bc"}]
[{"$f":"'H1 Originaldaten'!A70","v":"rotary.well.drillers"},{"$f":"ROUND(MAX(_xlfn.NORM.INV(('Eingabe Email'!$B202+1)/MAX('Eingabe Email'!$B:$B),'H1 Originaldaten'!B70,7),2),1)","v":10.8},{"$f":"ROUND(MAX(_xlfn.NORM.INV(('Eingabe Email'!$B202+1)/MAX('Eingabe Email'!$B:$B),'H1 Originaldaten'!C70,400),2),1)","v":6972.4},{"$f":"ROUND(MAX(_xlfn.NORM.INV(('Eingabe Email'!$B202+1)/MAX('Eingabe Email'!$B:$B),'H1 Originaldaten'!D70,4),2),1)","v":2},{"$f":"ROUND(MAX(_xlfn.NORM.INV(('Eingabe Email'!$B202+1)/MAX('Eingabe Email'!$B:$B),'H1 Originaldaten'!E70,4),2),1)","v":36.4},{"$f":"ROUND(MAX(_xlfn.NORM.INV(('Eingabe Email'!$B202+1)/MAX('Eingabe Email'!$B:$B),'H1 Originaldaten'!F70,200),2),0)","v":7767},{"$f":"'H1 Originaldaten'!G70","v":"bc"}]
[{"$f":"'H1 Originaldaten'!A71","v":"bakers"},{"$f":"ROUND(MAX(_xlfn.NORM.INV(('Eingabe Email'!$B203+1)/MAX('Eingabe Email'!$B:$B),'H1 Originaldaten'!B71,7),2),1)","v":20.100000000000001},{"$f":"ROUND(MAX(_xlfn.NORM.INV(('Eingabe Email'!$B203+1)/MAX('Eingabe Email'!$B:$B),'H1 Originaldaten'!C71,400),2),1)","v":4913.8999999999996},{"$f":"ROUND(MAX(_xlfn.NORM.INV(('Eingabe Email'!$B203+1)/MAX('Eingabe Email'!$B:$B),'H1 Originaldaten'!D71,4),2),1)","v":40.4},{"$f":"ROUND(MAX(_xlfn.NORM.INV(('Eingabe Email'!$B203+1)/MAX('Eingabe Email'!$B:$B),'H1 Originaldaten'!E71,4),2),1)","v":46},{"$f":"ROUND(MAX(_xlfn.NORM.INV(('Eingabe Email'!$B203+1)/MAX('Eingabe Email'!$B:$B),'H1 Originaldaten'!F71,200),2),0)","v":8570},{"$f":"'H1 Originaldaten'!G71","v":"bc"}]
[{"$f":"'H1 Originaldaten'!A72","v":"slaughterers.1"},{"$f":"ROUND(MAX(_xlfn.NORM.INV(('Eingabe Email'!$B204+1)/MAX('Eingabe Email'!$B:$B),'H1 Originaldaten'!B72,7),2),1)","v":3.5},{"$f":"ROUND(MAX(_xlfn.NORM.INV(('Eingabe Email'!$B204+1)/MAX('Eingabe Email'!$B:$B),'H1 Originaldaten'!C72,400),2),1)","v":4899.3999999999996},{"$f":"ROUND(MAX(_xlfn.NORM.INV(('Eingabe Email'!$B204+1)/MAX('Eingabe Email'!$B:$B),'H1 Originaldaten'!D72,4),2),1)","v":14.9},{"$f":"ROUND(MAX(_xlfn.NORM.INV(('Eingabe Email'!$B204+1)/MAX('Eingabe Email'!$B:$B),'H1 Originaldaten'!E72,4),2),1)","v":22.9},{"$f":"ROUND(MAX(_xlfn.NORM.INV(('Eingabe Email'!$B204+1)/MAX('Eingabe Email'!$B:$B),'H1 Originaldaten'!F72,200),2),0)","v":8098},{"$f":"'H1 Originaldaten'!G72","v":"bc"}]
[{"$f":"'H1 Originaldaten'!A73","v":"slaughterers.2"},{"$f":"ROUND(MAX(_xlfn.NORM.INV(('Eingabe Email'!$B205+1)/MAX('Eingabe Email'!$B:$B),'H1 Originaldaten'!B73,7),2),1)","v":2},{"$f":"ROUND(MAX(_xlfn.NORM.INV(('Eingabe Email'!$B205+1)/MAX('Eingabe Email'!$B:$B),'H1 Originaldaten'!C73,400),2),1)","v":4334.3},{"$f":"ROUND(MAX(_xlfn.NORM.INV(('Eingabe Email'!$B205+1)/MAX('Eingabe Email'!$B:$B),'H1 Originaldaten'!D73,4),2),1)","v":9.3000000000000007},{"$f":"ROUND(MAX(_xlfn.NORM.INV(('Eingabe Email'!$B205+1)/MAX('Eingabe Email'!$B:$B),'H1 Originaldaten'!E73,4),2),1)","v":26.8},{"$f":"ROUND(MAX(_xlfn.NORM.INV(('Eingabe Email'!$B205+1)/MAX('Eingabe Email'!$B:$B),'H1 Originaldaten'!F73,200),2),0)","v":7815},{"$f":"'H1 Originaldaten'!G73","v":"bc"}]
[{"$f":"'H1 Originaldaten'!A74","v":"canners"},{"$f":"ROUND(MAX(_xlfn.NORM.INV(('Eingabe Email'!$B206+1)/MAX('Eingabe Email'!$B:$B),'H1 Originaldaten'!B74,7),2),1)","v":20.7},{"$f":"ROUND(MAX(_xlfn.NORM.INV(('Eingabe Email'!$B206+1)/MAX('Eingabe Email'!$B:$B),'H1 Originaldaten'!C74,400),2),1)","v":2650.7},{"$f":"ROUND(MAX(_xlfn.NORM.INV(('Eingabe Email'!$B206+1)/MAX('Eingabe Email'!$B:$B),'H1 Originaldaten'!D74,4),2),1)","v":79.8},{"$f":"ROUND(MAX(_xlfn.NORM.INV(('Eingabe Email'!$B206+1)/MAX('Eingabe Email'!$B:$B),'H1 Originaldaten'!E74,4),2),1)","v":30.8},{"$f":"ROUND(MAX(_xlfn.NORM.INV(('Eingabe Email'!$B206+1)/MAX('Eingabe Email'!$B:$B),'H1 Originaldaten'!F74,200),2),0)","v":8601},{"$f":"'H1 Originaldaten'!G74","v":"bc"}]
[{"$f":"'H1 Originaldaten'!A75","v":"textile.weavers"},{"$f":"ROUND(MAX(_xlfn.NORM.INV(('Eingabe Email'!$B207+1)/MAX('Eingabe Email'!$B:$B),'H1 Originaldaten'!B75,7),2),1)","v":6},{"$f":"ROUND(MAX(_xlfn.NORM.INV(('Eingabe Email'!$B207+1)/MAX('Eingabe Email'!$B:$B),'H1 Originaldaten'!C75,400),2),1)","v":4404.8},{"$f":"ROUND(MAX(_xlfn.NORM.INV(('Eingabe Email'!$B207+1)/MAX('Eingabe Email'!$B:$B),'H1 Originaldaten'!D75,4),2),1)","v":31},{"$f":"ROUND(MAX(_xlfn.NORM.INV(('Eingabe Email'!$B207+1)/MAX('Eingabe Email'!$B:$B),'H1 Originaldaten'!E75,4),2),1)","v":32.9},{"$f":"ROUND(MAX(_xlfn.NORM.INV(('Eingabe Email'!$B207+1)/MAX('Eingabe Email'!$B:$B),'H1 Originaldaten'!F75,200),2),0)","v":8248},{"$f":"'H1 Originaldaten'!G75","v":"bc"}]
[{"$f":"'H1 Originaldaten'!A76","v":"textile.labourers"},{"$f":"ROUND(MAX(_xlfn.NORM.INV(('Eingabe Email'!$B208+1)/MAX('Eingabe Email'!$B:$B),'H1 Originaldaten'!B76,7),2),1)","v":2},{"$f":"ROUND(MAX(_xlfn.NORM.INV(('Eingabe Email'!$B208+1)/MAX('Eingabe Email'!$B:$B),'H1 Originaldaten'!C76,400),2),1)","v":2636.6},{"$f":"ROUND(MAX(_xlfn.NORM.INV(('Eingabe Email'!$B208+1)/MAX('Eingabe Email'!$B:$B),'H1 Originaldaten'!D76,4),2),1)","v":31},{"$f":"ROUND(MAX(_xlfn.NORM.INV(('Eingabe Email'!$B208+1)/MAX('Eingabe Email'!$B:$B),'H1 Originaldaten'!E76,4),2),1)","v":20.3},{"$f":"ROUND(MAX(_xlfn.NORM.INV(('Eingabe Email'!$B208+1)/MAX('Eingabe Email'!$B:$B),'H1 Originaldaten'!F76,200),2),0)","v":7854},{"$f":"'H1 Originaldaten'!G76","v":"bc"}]
[{"$f":"'H1 Originaldaten'!A77","v":"tool.die.makers"},{"$f":"ROUND(MAX(_xlfn.NORM.INV(('Eingabe Email'!$B209+1)/MAX('Eingabe Email'!$B:$B),'H1 Originaldaten'!B77,7),2),1)","v":9.1},{"$f":"ROUND(MAX(_xlfn.NORM.INV(('Eingabe Email'!$B209+1)/MAX('Eingabe Email'!$B:$B),'H1 Originaldaten'!C77,400),2),1)","v":7984.3},{"$f":"ROUND(MAX(_xlfn.NORM.INV(('Eingabe Email'!$B209+1)/MAX('Eingabe Email'!$B:$B),'H1 Originaldaten'!D77,4),2),1)","v":2},{"$f":"ROUND(MAX(_xlfn.NORM.INV(('Eingabe Email'!$B209+1)/MAX('Eingabe Email'!$B:$B),'H1 Originaldaten'!E77,4),2),1)","v":41.9},{"$f":"ROUND(MAX(_xlfn.NORM.INV(('Eingabe Email'!$B209+1)/MAX('Eingabe Email'!$B:$B),'H1 Originaldaten'!F77,200),2),0)","v":8282},{"$f":"'H1 Originaldaten'!G77","v":"bc"}]
[{"$f":"'H1 Originaldaten'!A78","v":"machinists"},{"$f":"ROUND(MAX(_xlfn.NORM.INV(('Eingabe Email'!$B210+1)/MAX('Eingabe Email'!$B:$B),'H1 Originaldaten'!B78,7),2),1)","v":12.4},{"$f":"ROUND(MAX(_xlfn.NORM.INV(('Eingabe Email'!$B210+1)/MAX('Eingabe Email'!$B:$B),'H1 Originaldaten'!C78,400),2),1)","v":6891.6},{"$f":"ROUND(MAX(_xlfn.NORM.INV(('Eingabe Email'!$B210+1)/MAX('Eingabe Email'!$B:$B),'H1 Originaldaten'!D78,4),2),1)","v":6.3},{"$f":"ROUND(MAX(_xlfn.NORM.INV(('Eingabe Email'!$B210+1)/MAX('Eingabe Email'!$B:$B),'H1 Originaldaten'!E78,4),2),1)","v":46.3},{"$f":"ROUND(MAX(_xlfn.NORM.INV(('Eingabe Email'!$B210+1)/MAX('Eingabe Email'!$B:$B),'H1 Originaldaten'!F78,200),2),0)","v":8416},{"$f":"'H1 Originaldaten'!G78","v":"bc"}]
[{"$f":"'H1 Originaldaten'!A79","v":"sheet.metal.workers"},{"$f":"ROUND(MAX(_xlfn.NORM.INV(('Eingabe Email'!$B211+1)/MAX('Eingabe Email'!$B:$B),'H1 Originaldaten'!B79,7),2),1)","v":7.1},{"$f":"ROUND(MAX(_xlfn.NORM.INV(('Eingabe Email'!$B211+1)/MAX('Eingabe Email'!$B:$B),'H1 Originaldaten'!C79,400),2),1)","v":6488.1},{"$f":"ROUND(MAX(_xlfn.NORM.INV(('Eingabe Email'!$B211+1)/MAX('Eingabe Email'!$B:$B),'H1 Originaldaten'!D79,4),2),1)","v":2},{"$f":"ROUND(MAX(_xlfn.NORM.INV(('Eingabe Email'!$B211+1)/MAX('Eingabe Email'!$B:$B),'H1 Originaldaten'!E79,4),2),1)","v":35.1},{"$f":"ROUND(MAX(_xlfn.NORM.INV(('Eingabe Email'!$B211+1)/MAX('Eingabe Email'!$B:$B),'H1 Originaldaten'!F79,200),2),0)","v":8295},{"$f":"'H1 Originaldaten'!G79","v":"bc"}]
[{"$f":"'H1 Originaldaten'!A80","v":"welders"},{"$f":"ROUND(MAX(_xlfn.NORM.INV(('Eingabe Email'!$B212+1)/MAX('Eingabe Email'!$B:$B),'H1 Originaldaten'!B80,7),2),1)","v":2},{"$f":"ROUND(MAX(_xlfn.NORM.INV(('Eingabe Email'!$B212+1)/MAX('Eingabe Email'!$B:$B),'H1 Originaldaten'!C80,400),2),1)","v":5456.1},{"$f":"ROUND(MAX(_xlfn.NORM.INV(('Eingabe Email'!$B212+1)/MAX('Eingabe Email'!$B:$B),'H1 Originaldaten'!D80,4),2),1)","v":2},{"$f":"ROUND(MAX(_xlfn.NORM.INV(('Eingabe Email'!$B212+1)/MAX('Eingabe Email'!$B:$B),'H1 Originaldaten'!E80,4),2),1)","v":31.6},{"$f":"ROUND(MAX(_xlfn.NORM.INV(('Eingabe Email'!$B212+1)/MAX('Eingabe Email'!$B:$B),'H1 Originaldaten'!F80,200),2),0)","v":7825},{"$f":"'H1 Originaldaten'!G80","v":"bc"}]
[{"$f":"'H1 Originaldaten'!A81","v":"auto.workers"},{"$f":"ROUND(MAX(_xlfn.NORM.INV(('Eingabe Email'!$B213+1)/MAX('Eingabe Email'!$B:$B),'H1 Originaldaten'!B81,7),2),1)","v":6.7},{"$f":"ROUND(MAX(_xlfn.NORM.INV(('Eingabe Email'!$B213+1)/MAX('Eingabe Email'!$B:$B),'H1 Originaldaten'!C81,400),2),1)","v":5711.9},{"$f":"ROUND(MAX(_xlfn.NORM.INV(('Eingabe Email'!$B213+1)/MAX('Eingabe Email'!$B:$B),'H1 Originaldaten'!D81,4),2),1)","v":12.6},{"$f":"ROUND(MAX(_xlfn.NORM.INV(('Eingabe Email'!$B213+1)/MAX('Eingabe Email'!$B:$B),'H1 Originaldaten'!E81,4),2),1)","v":34.9},{"$f":"ROUND(MAX(_xlfn.NORM.INV(('Eingabe Email'!$B213+1)/MAX('Eingabe Email'!$B:$B),'H1 Originaldaten'!F81,200),2),0)","v":8463},{"$f":"'H1 Originaldaten'!G81","v":"bc"}]
[{"$f":"'H1 Originaldaten'!A82","v":"aircraft.workers"},{"$f":"ROUND(MAX(_xlfn.NORM.INV(('Eingabe Email'!$B214+1)/MAX('Eingabe Email'!$B:$B),'H1 Originaldaten'!B82,7),2),1)","v":5.9},{"$f":"ROUND(MAX(_xlfn.NORM.INV(('Eingabe Email'!$B214+1)/MAX('Eingabe Email'!$B:$B),'H1 Originaldaten'!C82,400),2),1)","v":6409.1},{"$f":"ROUND(MAX(_xlfn.NORM.INV(('Eingabe Email'!$B214+1)/MAX('Eingabe Email'!$B:$B),'H1 Originaldaten'!D82,4),2),1)","v":4.0999999999999996},{"$f":"ROUND(MAX(_xlfn.NORM.INV(('Eingabe Email'!$B214+1)/MAX('Eingabe Email'!$B:$B),'H1 Originaldaten'!E82,4),2),1)","v":42.1},{"$f":"ROUND(MAX(_xlfn.NORM.INV(('Eingabe Email'!$B214+1)/MAX('Eingabe Email'!$B:$B),'H1 Originaldaten'!F82,200),2),0)","v":8433},{"$f":"'H1 Originaldaten'!G82","v":"bc"}]
[{"$f":"'H1 Originaldaten'!A83","v":"electronic.workers"},{"$f":"ROUND(MAX(_xlfn.NORM.INV(('Eingabe Email'!$B215+1)/MAX('Eingabe Email'!$B:$B),'H1 Originaldaten'!B83,7),2),1)","v":5.7},{"$f":"ROUND(MAX(_xlfn.NORM.INV(('Eingabe Email'!$B215+1)/MAX('Eingabe Email'!$B:$B),'H1 Originaldaten'!C83,400),2),1)","v":3769.8},{"$f":"ROUND(MAX(_xlfn.NORM.INV(('Eingabe Email'!$B215+1)/MAX('Eingabe Email'!$B:$B),'H1 Originaldaten'!D83,4),2),1)","v":72.8},{"$f":"ROUND(MAX(_xlfn.NORM.INV(('Eingabe Email'!$B215+1)/MAX('Eingabe Email'!$B:$B),'H1 Originaldaten'!E83,4),2),1)","v":49.1},{"$f":"ROUND(MAX(_xlfn.NORM.INV(('Eingabe Email'!$B215+1)/MAX('Eingabe Email'!$B:$B),'H1 Originaldaten'!F83,200),2),0)","v":8448},{"$f":"'H1 Originaldaten'!G83","v":"bc"}]
[{"$f":"'H1 Originaldaten'!A84","v":"radio.tv.repairmen"},{"$f":"ROUND(MAX(_xlfn.NORM.INV(('Eingabe Email'!$B216+1)/MAX('Eingabe Email'!$B:$B),'H1 Originaldaten'!B84,7),2),1)","v":7.5},{"$f":"ROUND(MAX(_xlfn.NORM.INV(('Eingabe Email'!$B216+1)/MAX('Eingabe Email'!$B:$B),'H1 Originaldaten'!C84,400),2),1)","v":5287.7},{"$f":"ROUND(MAX(_xlfn.NORM.INV(('Eingabe Email'!$B216+1)/MAX('Eingabe Email'!$B:$B),'H1 Originaldaten'!D84,4),2),1)","v":2},{"$f":"ROUND(MAX(_xlfn.NORM.INV(('Eingabe Email'!$B216+1)/MAX('Eingabe Email'!$B:$B),'H1 Originaldaten'!E84,4),2),1)","v":35.6},{"$f":"ROUND(MAX(_xlfn.NORM.INV(('Eingabe Email'!$B216+1)/MAX('Eingabe Email'!$B:$B),'H1 Originaldaten'!F84,200),2),0)","v":8456},{"$f":"'H1 Originaldaten'!G84","v":"bc"}]
[{"$f":"'H1 Originaldaten'!A85","v":"sewing.mach.operators"},{"$f":"ROUND(MAX(_xlfn.NORM.INV(('Eingabe Email'!$B217+1)/MAX('Eingabe Email'!$B:$B),'H1 Originaldaten'!B85,7),2),1)","v":17.7},{"$f":"ROUND(MAX(_xlfn.NORM.INV(('Eingabe Email'!$B217+1)/MAX('Eingabe Email'!$B:$B),'H1 Originaldaten'!C85,400),2),1)","v":3492.7},{"$f":"ROUND(MAX(_xlfn.NORM.INV(('Eingabe Email'!$B217+1)/MAX('Eingabe Email'!$B:$B),'H1 Originaldaten'!D85,4),2),1)","v":97.1},{"$f":"ROUND(MAX(_xlfn.NORM.INV(('Eingabe Email'!$B217+1)/MAX('Eingabe Email'!$B:$B),'H1 Originaldaten'!E85,4),2),1)","v":34.700000000000003},{"$f":"ROUND(MAX(_xlfn.NORM.INV(('Eingabe Email'!$B217+1)/MAX('Eingabe Email'!$B:$B),'H1 Originaldaten'!F85,200),2),0)","v":8886},{"$f":"'H1 Originaldaten'!G85","v":"bc"}]
[{"$f":"'H1 Originaldaten'!A86","v":"auto.repairmen"},{"$f":"ROUND(MAX(_xlfn.NORM.INV(('Eingabe Email'!$B218+1)/MAX('Eingabe Email'!$B:$B),'H1 Originaldaten'!B86,7),2),1)","v":2},{"$f":"ROUND(MAX(_xlfn.NORM.INV(('Eingabe Email'!$B218+1)/MAX('Eingabe Email'!$B:$B),'H1 Originaldaten'!C86,400),2),1)","v":4843.8},{"$f":"ROUND(MAX(_xlfn.NORM.INV(('Eingabe Email'!$B218+1)/MAX('Eingabe Email'!$B:$B),'H1 Originaldaten'!D86,4),2),1)","v":2},{"$f":"ROUND(MAX(_xlfn.NORM.INV(('Eingabe Email'!$B218+1)/MAX('Eingabe Email'!$B:$B),'H1 Originaldaten'!E86,4),2),1)","v":28.6},{"$f":"ROUND(MAX(_xlfn.NORM.INV(('Eingabe Email'!$B218+1)/MAX('Eingabe Email'!$B:$B),'H1 Originaldaten'!F86,200),2),0)","v":8105},{"$f":"'H1 Originaldaten'!G86","v":"bc"}]
[{"$f":"'H1 Originaldaten'!A87","v":"aircraft.repairmen"},{"$f":"ROUND(MAX(_xlfn.NORM.INV(('Eingabe Email'!$B219+1)/MAX('Eingabe Email'!$B:$B),'H1 Originaldaten'!B87,7),2),1)","v":6},{"$f":"ROUND(MAX(_xlfn.NORM.INV(('Eingabe Email'!$B219+1)/MAX('Eingabe Email'!$B:$B),'H1 Originaldaten'!C87,400),2),1)","v":7483.4},{"$f":"ROUND(MAX(_xlfn.NORM.INV(('Eingabe Email'!$B219+1)/MAX('Eingabe Email'!$B:$B),'H1 Originaldaten'!D87,4),2),1)","v":2},{"$f":"ROUND(MAX(_xlfn.NORM.INV(('Eingabe Email'!$B219+1)/MAX('Eingabe Email'!$B:$B),'H1 Originaldaten'!E87,4),2),1)","v":48},{"$f":"ROUND(MAX(_xlfn.NORM.INV(('Eingabe Email'!$B219+1)/MAX('Eingabe Email'!$B:$B),'H1 Originaldaten'!F87,200),2),0)","v":8466},{"$f":"'H1 Originaldaten'!G87","v":"bc"}]
[{"$f":"'H1 Originaldaten'!A88","v":"railway.sectionmen"},{"$f":"ROUND(MAX(_xlfn.NORM.INV(('Eingabe Email'!$B220+1)/MAX('Eingabe Email'!$B:$B),'H1 Originaldaten'!B88,7),2),1)","v":6},{"$f":"ROUND(MAX(_xlfn.NORM.INV(('Eingabe Email'!$B220+1)/MAX('Eingabe Email'!$B:$B),'H1 Originaldaten'!C88,400),2),1)","v":4654.8999999999996},{"$f":"ROUND(MAX(_xlfn.NORM.INV(('Eingabe Email'!$B220+1)/MAX('Eingabe Email'!$B:$B),'H1 Originaldaten'!D88,4),2),1)","v":2},{"$f":"ROUND(MAX(_xlfn.NORM.INV(('Eingabe Email'!$B220+1)/MAX('Eingabe Email'!$B:$B),'H1 Originaldaten'!E88,4),2),1)","v":26.9},{"$f":"ROUND(MAX(_xlfn.NORM.INV(('Eingabe Email'!$B220+1)/MAX('Eingabe Email'!$B:$B),'H1 Originaldaten'!F88,200),2),0)","v":8694},{"$f":"'H1 Originaldaten'!G88","v":"bc"}]
[{"$f":"'H1 Originaldaten'!A89","v":"electrical.linemen"},{"$f":"ROUND(MAX(_xlfn.NORM.INV(('Eingabe Email'!$B221+1)/MAX('Eingabe Email'!$B:$B),'H1 Originaldaten'!B89,7),2),1)","v":4.5999999999999996},{"$f":"ROUND(MAX(_xlfn.NORM.INV(('Eingabe Email'!$B221+1)/MAX('Eingabe Email'!$B:$B),'H1 Originaldaten'!C89,400),2),1)","v":8064.2},{"$f":"ROUND(MAX(_xlfn.NORM.INV(('Eingabe Email'!$B221+1)/MAX('Eingabe Email'!$B:$B),'H1 Originaldaten'!D89,4),2),1)","v":2},{"$f":"ROUND(MAX(_xlfn.NORM.INV(('Eingabe Email'!$B221+1)/MAX('Eingabe Email'!$B:$B),'H1 Originaldaten'!E89,4),2),1)","v":38.4},{"$f":"ROUND(MAX(_xlfn.NORM.INV(('Eingabe Email'!$B221+1)/MAX('Eingabe Email'!$B:$B),'H1 Originaldaten'!F89,200),2),0)","v":8605},{"$f":"'H1 Originaldaten'!G89","v":"bc"}]
[{"$f":"'H1 Originaldaten'!A90","v":"electricians"},{"$f":"ROUND(MAX(_xlfn.NORM.INV(('Eingabe Email'!$B222+1)/MAX('Eingabe Email'!$B:$B),'H1 Originaldaten'!B90,7),2),1)","v":5.9},{"$f":"ROUND(MAX(_xlfn.NORM.INV(('Eingabe Email'!$B222+1)/MAX('Eingabe Email'!$B:$B),'H1 Originaldaten'!C90,400),2),1)","v":6914.6},{"$f":"ROUND(MAX(_xlfn.NORM.INV(('Eingabe Email'!$B222+1)/MAX('Eingabe Email'!$B:$B),'H1 Originaldaten'!D90,4),2),1)","v":2},{"$f":"ROUND(MAX(_xlfn.NORM.INV(('Eingabe Email'!$B222+1)/MAX('Eingabe Email'!$B:$B),'H1 Originaldaten'!E90,4),2),1)","v":47.9},{"$f":"ROUND(MAX(_xlfn.NORM.INV(('Eingabe Email'!$B222+1)/MAX('Eingabe Email'!$B:$B),'H1 Originaldaten'!F90,200),2),0)","v":8617},{"$f":"'H1 Originaldaten'!G90","v":"bc"}]
[{"$f":"'H1 Originaldaten'!A91","v":"construction.foremen"},{"$f":"ROUND(MAX(_xlfn.NORM.INV(('Eingabe Email'!$B223+1)/MAX('Eingabe Email'!$B:$B),'H1 Originaldaten'!B91,7),2),1)","v":8.1999999999999993},{"$f":"ROUND(MAX(_xlfn.NORM.INV(('Eingabe Email'!$B223+1)/MAX('Eingabe Email'!$B:$B),'H1 Originaldaten'!C91,400),2),1)","v":8880.4},{"$f":"ROUND(MAX(_xlfn.NORM.INV(('Eingabe Email'!$B223+1)/MAX('Eingabe Email'!$B:$B),'H1 Originaldaten'!D91,4),2),1)","v":2},{"$f":"ROUND(MAX(_xlfn.NORM.INV(('Eingabe Email'!$B223+1)/MAX('Eingabe Email'!$B:$B),'H1 Originaldaten'!E91,4),2),1)","v":51.1},{"$f":"ROUND(MAX(_xlfn.NORM.INV(('Eingabe Email'!$B223+1)/MAX('Eingabe Email'!$B:$B),'H1 Originaldaten'!F91,200),2),0)","v":8780},{"$f":"'H1 Originaldaten'!G91","v":"bc"}]
[{"$f":"'H1 Originaldaten'!A92","v":"carpenters"},{"$f":"ROUND(MAX(_xlfn.NORM.INV(('Eingabe Email'!$B224+1)/MAX('Eingabe Email'!$B:$B),'H1 Originaldaten'!B92,7),2),1)","v":2},{"$f":"ROUND(MAX(_xlfn.NORM.INV(('Eingabe Email'!$B224+1)/MAX('Eingabe Email'!$B:$B),'H1 Originaldaten'!C92,400),2),1)","v":4766.8},{"$f":"ROUND(MAX(_xlfn.NORM.INV(('Eingabe Email'!$B224+1)/MAX('Eingabe Email'!$B:$B),'H1 Originaldaten'!D92,4),2),1)","v":2},{"$f":"ROUND(MAX(_xlfn.NORM.INV(('Eingabe Email'!$B224+1)/MAX('Eingabe Email'!$B:$B),'H1 Originaldaten'!E92,4),2),1)","v":33.6},{"$f":"ROUND(MAX(_xlfn.NORM.INV(('Eingabe Email'!$B224+1)/MAX('Eingabe Email'!$B:$B),'H1 Originaldaten'!F92,200),2),0)","v":8515},{"$f":"'H1 Originaldaten'!G92","v":"bc"}]
[{"$f":"'H1 Originaldaten'!A93","v":"masons"},{"$f":"ROUND(MAX(_xlfn.NORM.INV(('Eingabe Email'!$B225+1)/MAX('Eingabe Email'!$B:$B),'H1 Originaldaten'!B93,7),2),1)","v":2},{"$f":"ROUND(MAX(_xlfn.NORM.INV(('Eingabe Email'!$B225+1)/MAX('Eingabe Email'!$B:$B),'H1 Originaldaten'!C93,400),2),1)","v":5061.6000000000004},{"$f":"ROUND(MAX(_xlfn.NORM.INV(('Eingabe Email'!$B225+1)/MAX('Eingabe Email'!$B:$B),'H1 Originaldaten'!D93,4),2),1)","v":2},{"$f":"ROUND(MAX(_xlfn.NORM.INV(('Eingabe Email'!$B225+1)/MAX('Eingabe Email'!$B:$B),'H1 Originaldaten'!E93,4),2),1)","v":27.2},{"$f":"ROUND(MAX(_xlfn.NORM.INV(('Eingabe Email'!$B225+1)/MAX('Eingabe Email'!$B:$B),'H1 Originaldaten'!F93,200),2),0)","v":8333},{"$f":"'H1 Originaldaten'!G93","v":"bc"}]
[{"$f":"'H1 Originaldaten'!A94","v":"house.painters"},{"$f":"ROUND(MAX(_xlfn.NORM.INV(('Eingabe Email'!$B226+1)/MAX('Eingabe Email'!$B:$B),'H1 Originaldaten'!B94,7),2),1)","v":3.2},{"$f":"ROUND(MAX(_xlfn.NORM.INV(('Eingabe Email'!$B226+1)/MAX('Eingabe Email'!$B:$B),'H1 Originaldaten'!C94,400),2),1)","v":4287.8},{"$f":"ROUND(MAX(_xlfn.NORM.INV(('Eingabe Email'!$B226+1)/MAX('Eingabe Email'!$B:$B),'H1 Originaldaten'!D94,4),2),1)","v":2},{"$f":"ROUND(MAX(_xlfn.NORM.INV(('Eingabe Email'!$B226+1)/MAX('Eingabe Email'!$B:$B),'H1 Originaldaten'!E94,4),2),1)","v":27.3},{"$f":"ROUND(MAX(_xlfn.NORM.INV(('Eingabe Email'!$B226+1)/MAX('Eingabe Email'!$B:$B),'H1 Originaldaten'!F94,200),2),0)","v":8654},{"$f":"'H1 Originaldaten'!G94","v":"bc"}]
[{"$f":"'H1 Originaldaten'!A95","v":"plumbers"},{"$f":"ROUND(MAX(_xlfn.NORM.INV(('Eingabe Email'!$B227+1)/MAX('Eingabe Email'!$B:$B),'H1 Originaldaten'!B95,7),2),1)","v":4.5999999999999996},{"$f":"ROUND(MAX(_xlfn.NORM.INV(('Eingabe Email'!$B227+1)/MAX('Eingabe Email'!$B:$B),'H1 Originaldaten'!C95,400),2),1)","v":6716.4},{"$f":"ROUND(MAX(_xlfn.NORM.INV(('Eingabe Email'!$B227+1)/MAX('Eingabe Email'!$B:$B),'H1 Originaldaten'!D95,4),2),1)","v":2},{"$f":"ROUND(MAX(_xlfn.NORM.INV(('Eingabe Email'!$B227+1)/MAX('Eingabe Email'!$B:$B),'H1 Originaldaten'!E95,4),2),1)","v":40.799999999999997},{"$f":"ROUND(MAX(_xlfn.NORM.INV(('Eingabe Email'!$B227+1)/MAX('Eingabe Email'!$B:$B),'H1 Originaldaten'!F95,200),2),0)","v":8685},{"$f":"'H1 Originaldaten'!G95","v":"bc"}]
[{"$f":"'H1 Originaldaten'!A96","v":"construction.labourers"},{"$f":"ROUND(MAX(_xlfn.NORM.INV(('Eingabe Email'!$B228+1)/MAX('Eingabe Email'!$B:$B),'H1 Originaldaten'!B96,7),2),1)","v":2},{"$f":"ROUND(MAX(_xlfn.NORM.INV(('Eingabe Email'!$B228+1)/MAX('Eingabe Email'!$B:$B),'H1 Originaldaten'!C96,400),2),1)","v":3517.9},{"$f":"ROUND(MAX(_xlfn.NORM.INV(('Eingabe Email'!$B228+1)/MAX('Eingabe Email'!$B:$B),'H1 Originaldaten'!D96,4),2),1)","v":2},{"$f":"ROUND(MAX(_xlfn.NORM.INV(('Eingabe Email'!$B228+1)/MAX('Eingabe Email'!$B:$B),'H1 Originaldaten'!E96,4),2),1)","v":22.6},{"$f":"ROUND(MAX(_xlfn.NORM.INV(('Eingabe Email'!$B228+1)/MAX('Eingabe Email'!$B:$B),'H1 Originaldaten'!F96,200),2),0)","v":8602},{"$f":"'H1 Originaldaten'!G96","v":"bc"}]
[{"$f":"'H1 Originaldaten'!A97","v":"pilots"},{"$f":"ROUND(MAX(_xlfn.NORM.INV(('Eingabe Email'!$B229+1)/MAX('Eingabe Email'!$B:$B),'H1 Originaldaten'!B97,7),2),1)","v":18.8},{"$f":"ROUND(MAX(_xlfn.NORM.INV(('Eingabe Email'!$B229+1)/MAX('Eingabe Email'!$B:$B),'H1 Originaldaten'!C97,400),2),1)","v":14405.6},{"$f":"ROUND(MAX(_xlfn.NORM.INV(('Eingabe Email'!$B229+1)/MAX('Eingabe Email'!$B:$B),'H1 Originaldaten'!D97,4),2),1)","v":4.3},{"$f":"ROUND(MAX(_xlfn.NORM.INV(('Eingabe Email'!$B229+1)/MAX('Eingabe Email'!$B:$B),'H1 Originaldaten'!E97,4),2),1)","v":69.8},{"$f":"ROUND(MAX(_xlfn.NORM.INV(('Eingabe Email'!$B229+1)/MAX('Eingabe Email'!$B:$B),'H1 Originaldaten'!F97,200),2),0)","v":9298},{"$f":"'H1 Originaldaten'!G97","v":"prof"}]
[{"$f":"'H1 Originaldaten'!A98","v":"train.engineers"},{"$f":"ROUND(MAX(_xlfn.NORM.INV(('Eingabe Email'!$B230+1)/MAX('Eingabe Email'!$B:$B),'H1 Originaldaten'!B98,7),2),1)","v":2},{"$f":"ROUND(MAX(_xlfn.NORM.INV(('Eingabe Email'!$B230+1)/MAX('Eingabe Email'!$B:$B),'H1 Originaldaten'!C98,400),2),1)","v":8260.4},{"$f":"ROUND(MAX(_xlfn.NORM.INV(('Eingabe Email'!$B230+1)/MAX('Eingabe Email'!$B:$B),'H1 Originaldaten'!D98,4),2),1)","v":2},{"$f":"ROUND(MAX(_xlfn.NORM.INV(('Eingabe Email'!$B230+1)/MAX('Eingabe Email'!$B:$B),'H1 Originaldaten'!E98,4),2),1)","v":43.1},{"$f":"ROUND(MAX(_xlfn.NORM.INV(('Eingabe Email'!$B230+1)/MAX('Eingabe Email'!$B:$B),'H1 Originaldaten'!F98,200),2),0)","v":8839},{"$f":"'H1 Originaldaten'!G98","v":"bc"}]
[{"$f":"'H1 Originaldaten'!A99","v":"bus.drivers"},{"$f":"ROUND(MAX(_xlfn.NORM.INV(('Eingabe Email'!$B231+1)/MAX('Eingabe Email'!$B:$B),'H1 Originaldaten'!B99,7),2),1)","v":14.7},{"$f":"ROUND(MAX(_xlfn.NORM.INV(('Eingabe Email'!$B231+1)/MAX('Eingabe Email'!$B:$B),'H1 Originaldaten'!C99,400),2),1)","v":5969.3},{"$f":"ROUND(MAX(_xlfn.NORM.INV(('Eingabe Email'!$B231+1)/MAX('Eingabe Email'!$B:$B),'H1 Originaldaten'!D99,4),2),1)","v":13.5},{"$f":"ROUND(MAX(_xlfn.NORM.INV(('Eingabe Email'!$B231+1)/MAX('Eingabe Email'!$B:$B),'H1 Originaldaten'!E99,4),2),1)","v":40},{"$f":"ROUND(MAX(_xlfn.NORM.INV(('Eingabe Email'!$B231+1)/MAX('Eingabe Email'!$B:$B),'H1 Originaldaten'!F99,200),2),0)","v":9375},{"$f":"'H1 Originaldaten'!G99","v":"bc"}]
[{"$f":"'H1 Originaldaten'!A100","v":"taxi.drivers"},{"$f":"ROUND(MAX(_xlfn.NORM.INV(('Eingabe Email'!$B232+1)/MAX('Eingabe Email'!$B:$B),'H1 Originaldaten'!B100,7),2),1)","v":8.6},{"$f":"ROUND(MAX(_xlfn.NORM.INV(('Eingabe Email'!$B232+1)/MAX('Eingabe Email'!$B:$B),'H1 Originaldaten'!C100,400),2),1)","v":4261.6000000000004},{"$f":"ROUND(MAX(_xlfn.NORM.INV(('Eingabe Email'!$B232+1)/MAX('Eingabe Email'!$B:$B),'H1 Originaldaten'!D100,4),2),1)","v":4},{"$f":"ROUND(MAX(_xlfn.NORM.INV(('Eingabe Email'!$B232+1)/MAX('Eingabe Email'!$B:$B),'H1 Originaldaten'!E100,4),2),1)","v":25.5},{"$f":"ROUND(MAX(_xlfn.NORM.INV(('Eingabe Email'!$B232+1)/MAX('Eingabe Email'!$B:$B),'H1 Originaldaten'!F100,200),2),0)","v":9192},{"$f":"'H1 Originaldaten'!G100","v":"bc"}]
[{"$f":"'H1 Originaldaten'!A101","v":"longshoremen"},{"$f":"ROUND(MAX(_xlfn.NORM.INV(('Eingabe Email'!$B233+1)/MAX('Eingabe Email'!$B:$B),'H1 Originaldaten'!B101,7),2),1)","v":13.9},{"$f":"ROUND(MAX(_xlfn.NORM.INV(('Eingabe Email'!$B233+1)/MAX('Eingabe Email'!$B:$B),'H1 Originaldaten'!C101,400),2),1)","v":5069.1000000000004},{"$f":"ROUND(MAX(_xlfn.NORM.INV(('Eingabe Email'!$B233+1)/MAX('Eingabe Email'!$B:$B),'H1 Originaldaten'!D101,4),2),1)","v":3.2},{"$f":"ROUND(MAX(_xlfn.NORM.INV(('Eingabe Email'!$B233+1)/MAX('Eingabe Email'!$B:$B),'H1 Originaldaten'!E101,4),2),1)","v":29.3},{"$f":"ROUND(MAX(_xlfn.NORM.INV(('Eingabe Email'!$B233+1)/MAX('Eingabe Email'!$B:$B),'H1 Originaldaten'!F101,200),2),0)","v":9471},{"$f":"'H1 Originaldaten'!G101","v":"bc"}]
[{"$f":"'H1 Originaldaten'!A102","v":"typesetters"},{"$f":"ROUND(MAX(_xlfn.NORM.INV(('Eingabe Email'!$B234+1)/MAX('Eingabe Email'!$B:$B),'H1 Originaldaten'!B102,7),2),1)","v":13.9},{"$f":"ROUND(MAX(_xlfn.NORM.INV(('Eingabe Email'!$B234+1)/MAX('Eingabe Email'!$B:$B),'H1 Originaldaten'!C102,400),2),1)","v":6682},{"$f":"ROUND(MAX(_xlfn.NORM.INV(('Eingabe Email'!$B234+1)/MAX('Eingabe Email'!$B:$B),'H1 Originaldaten'!D102,4),2),1)","v":15.8},{"$f":"ROUND(MAX(_xlfn.NORM.INV(('Eingabe Email'!$B234+1)/MAX('Eingabe Email'!$B:$B),'H1 Originaldaten'!E102,4),2),1)","v":44.4},{"$f":"ROUND(MAX(_xlfn.NORM.INV(('Eingabe Email'!$B234+1)/MAX('Eingabe Email'!$B:$B),'H1 Originaldaten'!F102,200),2),0)","v":9621},{"$f":"'H1 Originaldaten'!G102","v":"bc"}]
[{"$f":"'H1 Originaldaten'!A103","v":"bookbinders"},{"$f":"ROUND(MAX(_xlfn.NORM.INV(('Eingabe Email'!$B235+1)/MAX('Eingabe Email'!$B:$B),'H1 Originaldaten'!B103,7),2),1)","v":12.1},{"$f":"ROUND(MAX(_xlfn.NORM.INV(('Eingabe Email'!$B235+1)/MAX('Eingabe Email'!$B:$B),'H1 Originaldaten'!C103,400),2),1)","v":3821.7},{"$f":"ROUND(MAX(_xlfn.NORM.INV(('Eingabe Email'!$B235+1)/MAX('Eingabe Email'!$B:$B),'H1 Originaldaten'!D103,4),2),1)","v":72.900000000000006},{"$f":"ROUND(MAX(_xlfn.NORM.INV(('Eingabe Email'!$B235+1)/MAX('Eingabe Email'!$B:$B),'H1 Originaldaten'!E103,4),2),1)","v":37.200000000000003},{"$f":"ROUND(MAX(_xlfn.NORM.INV(('Eingabe Email'!$B235+1)/MAX('Eingabe Email'!$B:$B),'H1 Originaldaten'!F103,200),2),0)","v":9619},{"$f":"'H1 Originaldaten'!G103","v":"bc"}]

{"sheet":"H2","index":2,"n_rows":393,"n_cols":10,"rows_kept":393,"cut":false,"hidden":false,"merged":[]}
["ID","mpg","cylinders","displacement","horsepower","weight","acceleration","year","origin","name"]
[1,{"$f":"ROUND(MAX(_xlfn.NORM.INV(('Eingabe Email'!$B134+1)/MAX('Eingabe Email'!$B:$B),'H2 Originaldaten'!B2,7),2),1)","v":18.899999999999999},{"$f":"'H2 Originaldaten'!C2","v":8},{"$f":"ROUND(MAX(_xlfn.NORM.INV(('Eingabe Email'!$B134+1)/MAX('Eingabe Email'!$B:$B),'H2 Originaldaten'!D2,7),2),1)","v":307.89999999999998},{"$f":"ROUND(MAX(_xlfn.NORM.INV(('Eingabe Email'!$B134+1)/MAX('Eingabe Email'!$B:$B),'H2 Originaldaten'!E2,7),2),1)","v":130.9},{"$f":"ROUND(MAX(_xlfn.NORM.INV(('Eingabe Email'!$B134+1)/MAX('Eingabe Email'!$B:$B),'H2 Originaldaten'!F2,7),2),1)","v":3504.9},{"$f":"ROUND(MAX(_xlfn.NORM.INV(('Eingabe Email'!$B134+1)/MAX('Eingabe Email'!$B:$B),'H2 Originaldaten'!G2,7),2),1)","v":12.9},{"$f":"'H2 Originaldaten'!H2","v":70},{"$f":"'H2 Originaldaten'!I2","v":1},{"$f":"'H2 Originaldaten'!J2","v":"chevrolet chevelle malibu"}]
[2,{"$f":"ROUND(MAX(_xlfn.NORM.INV(('Eingabe Email'!$B135+1)/MAX('Eingabe Email'!$B:$B),'H2 Originaldaten'!B3,7),2),1)","v":2},{"$f":"'H2 Originaldaten'!C3","v":8},{"$f":"ROUND(MAX(_xlfn.NORM.INV(('Eingabe Email'!$B135+1)/MAX('Eingabe Email'!$B:$B),'H2 Originaldaten'!D3,7),2),1)","v":331.5},{"$f":"ROUND(MAX(_xlfn.NORM.INV(('Eingabe Email'!$B135+1)/MAX('Eingabe Email'!$B:$B),'H2 Originaldaten'!E3,7),2),1)","v":146.5},{"$f":"ROUND(MAX(_xlfn.NORM.INV(('Eingabe Email'!$B135+1)/MAX('Eingabe Email'!$B:$B),'H2 Originaldaten'!F3,7),2),1)","v":3674.5},{"$f":"ROUND(MAX(_xlfn.NORM.INV(('Eingabe Email'!$B135+1)/MAX('Eingabe Email'!$B:$B),'H2 Originaldaten'!G3,7),2),1)","v":2},{"$f":"'H2 Originaldaten'!H3","v":70},{"$f":"'H2 Originaldaten'!I3","v":1},{"$f":"'H2 Originaldaten'!J3","v":"buick skylark 320"}]
[3,{"$f":"ROUND(MAX(_xlfn.NORM.INV(('Eingabe Email'!$B136+1)/MAX('Eingabe Email'!$B:$B),'H2 Originaldaten'!B4,7),2),1)","v":8.6},{"$f":"'H2 Originaldaten'!C4","v":8},{"$f":"ROUND(MAX(_xlfn.NORM.INV(('Eingabe Email'!$B136+1)/MAX('Eingabe Email'!$B:$B),'H2 Originaldaten'!D4,7),2),1)","v":308.60000000000002},{"$f":"ROUND(MAX(_xlfn.NORM.INV(('Eingabe Email'!$B136+1)/MAX('Eingabe Email'!$B:$B),'H2 Originaldaten'!E4,7),2),1)","v":140.6},{"$f":"ROUND(MAX(_xlfn.NORM.INV(('Eingabe Email'!$B136+1)/MAX('Eingabe Email'!$B:$B),'H2 Originaldaten'!F4,7),2),1)","v":3426.6},{"$f":"ROUND(MAX(_xlfn.NORM.INV(('Eingabe Email'!$B136+1)/MAX('Eingabe Email'!$B:$B),'H2 Originaldaten'!G4,7),2),1)","v":2},{"$f":"'H2 Originaldaten'!H4","v":70},{"$f":"'H2 Originaldaten'!I4","v":1},{"$f":"'H2 Originaldaten'!J4","v":"plymouth satellite"}]
[4,{"$f":"ROUND(MAX(_xlfn.NORM.INV(('Eingabe Email'!$B137+1)/MAX('Eingabe Email'!$B:$B),'H2 Originaldaten'!B5,7),2),1)","v":11.6},{"$f":"'H2 Originaldaten'!C5","v":8},{"$f":"ROUND(MAX(_xlfn.NORM.INV(('Eingabe Email'!$B137+1)/MAX('Eingabe Email'!$B:$B),'H2 Originaldaten'!D5,7),2),1)","v":299.60000000000002},{"$f":"ROUND(MAX(_xlfn.NORM.INV(('Eingabe Email'!$B137+1)/MAX('Eingabe Email'!$B:$B),'H2 Originaldaten'!E5,7),2),1)","v":145.6},{"$f":"ROUND(MAX(_xlfn.NORM.INV(('Eingabe Email'!$B137+1)/MAX('Eingabe Email'!$B:$B),'H2 Originaldaten'!F5,7),2),1)","v":3428.6},{"$f":"ROUND(MAX(_xlfn.NORM.INV(('Eingabe Email'!$B137+1)/MAX('Eingabe Email'!$B:$B),'H2 Originaldaten'!G5,7),2),1)","v":7.6},{"$f":"'H2 Originaldaten'!H5","v":70},{"$f":"'H2 Originaldaten'!I5","v":1},{"$f":"'H2 Originaldaten'!J5","v":"amc rebel sst"}]
[5,{"$f":"ROUND(MAX(_xlfn.NORM.INV(('Eingabe Email'!$B138+1)/MAX('Eingabe Email'!$B:$B),'H2 Originaldaten'!B6,7),2),1)","v":17.399999999999999},{"$f":"'H2 Originaldaten'!C6","v":8},{"$f":"ROUND(MAX(_xlfn.NORM.INV(('Eingabe Email'!$B138+1)/MAX('Eingabe Email'!$B:$B),'H2 Originaldaten'!D6,7),2),1)","v":302.39999999999998},{"$f":"ROUND(MAX(_xlfn.NORM.INV(('Eingabe Email'!$B138+1)/MAX('Eingabe Email'!$B:$B),'H2 Originaldaten'!E6,7),2),1)","v":140.4},{"$f":"ROUND(MAX(_xlfn.NORM.INV(('Eingabe Email'!$B138+1)/MAX('Eingabe Email'!$B:$B),'H2 Originaldaten'!F6,7),2),1)","v":3449.4},{"$f":"ROUND(MAX(_xlfn.NORM.INV(('Eingabe Email'!$B138+1)/MAX('Eingabe Email'!$B:$B),'H2 Originaldaten'!G6,7),2),1)","v":10.9},{"$f":"'H2 Originaldaten'!H6","v":70},{"$f":"'H2 Originaldaten'!I6","v":1},{"$f":"'H2 Originaldaten'!J6","v":"ford torino"}]
[6,{"$f":"ROUND(MAX(_xlfn.NORM.INV(('Eingabe Email'!$B139+1)/MAX('Eingabe Email'!$B:$B),'H2 Originaldaten'!B7,7),2),1)","v":19.100000000000001},{"$f":"'H2 Originaldaten'!C7","v":8},{"$f":"ROUND(MAX(_xlfn.NORM.INV(('Eingabe Email'!$B139+1)/MAX('Eingabe Email'!$B:$B),'H2 Originaldaten'!D7,7),2),1)","v":433.1},{"$f":"ROUND(MAX(_xlfn.NORM.INV(('Eingabe Email'!$B139+1)/MAX('Eingabe Email'!$B:$B),'H2 Originaldaten'!E7,7),2),1)","v":202.1},{"$f":"ROUND(MAX(_xlfn.NORM.INV(('Eingabe Email'!$B139+1)/MAX('Eingabe Email'!$B:$B),'H2 Originaldaten'!F7,7),2),1)","v":4345.1000000000004},{"$f":"ROUND(MAX(_xlfn.NORM.INV(('Eingabe Email'!$B139+1)/MAX('Eingabe Email'!$B:$B),'H2 Originaldaten'!G7,7),2),1)","v":14.1},{"$f":"'H2 Originaldaten'!H7","v":70},{"$f":"'H2 Originaldaten'!I7","v":1},{"$f":"'H2 Originaldaten'!J7","v":"ford galaxie 500"}]
[7,{"$f":"ROUND(MAX(_xlfn.NORM.INV(('Eingabe Email'!$B140+1)/MAX('Eingabe Email'!$B:$B),'H2 Originaldaten'!B8,7),2),1)","v":20.9},{"$f":"'H2 Originaldaten'!C8","v":8},{"$f":"ROUND(MAX(_xlfn.NORM.INV(('Eingabe Email'!$B140+1)/MAX('Eingabe Email'!$B:$B),'H2 Originaldaten'!D8,7),2),1)","v":460.9},{"$f":"ROUND(MAX(_xlfn.NORM.INV(('Eingabe Email'!$B140+1)/MAX('Eingabe Email'!$B:$B),'H2 Originaldaten'!E8,7),2),1)","v":226.9},{"$f":"ROUND(MAX(_xlfn.NORM.INV(('Eingabe Email'!$B140+1)/MAX('Eingabe Email'!$B:$B),'H2 Originaldaten'!F8,7),2),1)","v":4360.8999999999996},{"$f":"ROUND(MAX(_xlfn.NORM.INV(('Eingabe Email'!$B140+1)/MAX('Eingabe Email'!$B:$B),'H2 Originaldaten'!G8,7),2),1)","v":15.9},{"$f":"'H2 Originaldaten'!H8","v":70},{"$f":"'H2 Originaldaten'!I8","v":1},{"$f":"'H2 Originaldaten'!J8","v":"chevrolet impala"}]
[8,{"$f":"ROUND(MAX(_xlfn.NORM.INV(('Eingabe Email'!$B141+1)/MAX('Eingabe Email'!$B:$B),'H2 Originaldaten'!B9,7),2),1)","v":16.8},{"$f":"'H2 Originaldaten'!C9","v":8},{"$f":"ROUND(MAX(_xlfn.NORM.INV(('Eingabe Email'!$B141+1)/MAX('Eingabe Email'!$B:$B),'H2 Originaldaten'!D9,7),2),1)","v":442.8},{"$f":"ROUND(MAX(_xlfn.NORM.INV(('Eingabe Email'!$B141+1)/MAX('Eingabe Email'!$B:$B),'H2 Originaldaten'!E9,7),2),1)","v":217.8},{"$f":"ROUND(MAX(_xlfn.NORM.INV(('Eingabe Email'!$B141+1)/MAX('Eingabe Email'!$B:$B),'H2 Originaldaten'!F9,7),2),1)","v":4314.8},{"$f":"ROUND(MAX(_xlfn.NORM.INV(('Eingabe Email'!$B141+1)/MAX('Eingabe Email'!$B:$B),'H2 Originaldaten'!G9,7),2),1)","v":11.3},{"$f":"'H2 Originaldaten'!H9","v":70},{"$f":"'H2 Originaldaten'!I9","v":1},{"$f":"'H2 Originaldaten'!J9","v":"plymouth fury iii"}]
[9,{"$f":"ROUND(MAX(_xlfn.NORM.INV(('Eingabe Email'!$B142+1)/MAX('Eingabe Email'!$B:$B),'H2 Originaldaten'!B10,7),2),1)","v":11.9},{"$f":"'H2 Originaldaten'!C10","v":8},{"$f":"ROUND(MAX(_xlfn.NORM.INV(('Eingabe Email'!$B142+1)/MAX('Eingabe Email'!$B:$B),'H2 Originaldaten'!D10,7),2),1)","v":452.9},{"$f":"ROUND(MAX(_xlfn.NORM.INV(('Eingabe Email'!$B142+1)/MAX('Eingabe Email'!$B:$B),'H2 Originaldaten'!E10,7),2),1)","v":222.9},{"$f":"ROUND(MAX(_xlfn.NORM.INV(('Eingabe Email'!$B142+1)/MAX('Eingabe Email'!$B:$B),'H2 Originaldaten'!F10,7),2),1)","v":4422.8999999999996},{"$f":"ROUND(MAX(_xlfn.NORM.INV(('Eingabe Email'!$B142+1)/MAX('Eingabe Email'!$B:$B),'H2 Originaldaten'!G10,7),2),1)","v":7.9},{"$f":"'H2 Originaldaten'!H10","v":70},{"$f":"'H2 Originaldaten'!I10","v":1},{"$f":"'H2 Originaldaten'!J10","v":"pontiac catalina"}]
[10,{"$f":"ROUND(MAX(_xlfn.NORM.INV(('Eingabe Email'!$B143+1)/MAX('Eingabe Email'!$B:$B),'H2 Originaldaten'!B11,7),2),1)","v":20},{"$f":"'H2 Originaldaten'!C11","v":8},{"$f":"ROUND(MAX(_xlfn.NORM.INV(('Eingabe Email'!$B143+1)/MAX('Eingabe Email'!$B:$B),'H2 Originaldaten'!D11,7),2),1)","v":395},{"$f":"ROUND(MAX(_xlfn.NORM.INV(('Eingabe Email'!$B143+1)/MAX('Eingabe Email'!$B:$B),'H2 Originaldaten'!E11,7),2),1)","v":195},{"$f":"ROUND(MAX(_xlfn.NORM.INV(('Eingabe Email'!$B143+1)/MAX('Eingabe Email'!$B:$B),'H2 Originaldaten'!F11,7),2),1)","v":3855},{"$f":"ROUND(MAX(_xlfn.NORM.INV(('Eingabe Email'!$B143+1)/MAX('Eingabe Email'!$B:$B),'H2 Originaldaten'!G11,7),2),1)","v":13.5},{"$f":"'H2 Originaldaten'!H11","v":70},{"$f":"'H2 Originaldaten'!I11","v":1},{"$f":"'H2 Originaldaten'!J11","v":"amc ambassador dpl"}]
[11,{"$f":"ROUND(MAX(_xlfn.NORM.INV(('Eingabe Email'!$B144+1)/MAX('Eingabe Email'!$B:$B),'H2 Originaldaten'!B12,7),2),1)","v":11.1},{"$f":"'H2 Originaldaten'!C12","v":8},{"$f":"ROUND(MAX(_xlfn.NORM.INV(('Eingabe Email'!$B144+1)/MAX('Eingabe Email'!$B:$B),'H2 Originaldaten'!D12,7),2),1)","v":379.1},{"$f":"ROUND(MAX(_xlfn.NORM.INV(('Eingabe Email'!$B144+1)/MAX('Eingabe Email'!$B:$B),'H2 Originaldaten'!E12,7),2),1)","v":166.1},{"$f":"ROUND(MAX(_xlfn.NORM.INV(('Eingabe Email'!$B144+1)/MAX('Eingabe Email'!$B:$B),'H2 Originaldaten'!F12,7),2),1)","v":3559.1},{"$f":"ROUND(MAX(_xlfn.NORM.INV(('Eingabe Email'!$B144+1)/MAX('Eingabe Email'!$B:$B),'H2 Originaldaten'!G12,7),2),1)","v":6.1},{"$f":"'H2 Originaldaten'!H12","v":70},{"$f":"'H2 Originaldaten'!I12","v":1},{"$f":"'H2 Originaldaten'!J12","v":"dodge challenger se"}]
[12,{"$f":"ROUND(MAX(_xlfn.NORM.INV(('Eingabe Email'!$B145+1)/MAX('Eingabe Email'!$B:$B),'H2 Originaldaten'!B13,7),2),1)","v":17.100000000000001},{"$f":"'H2 Originaldaten'!C13","v":8},{"$f":"ROUND(MAX(_xlfn.NORM.INV(('Eingabe Email'!$B145+1)/MAX('Eingabe Email'!$B:$B),'H2 Originaldaten'!D13,7),2),1)","v":343.1},{"$f":"ROUND(MAX(_xlfn.NORM.INV(('Eingabe Email'!$B145+1)/MAX('Eingabe Email'!$B:$B),'H2 Originaldaten'!E13,7),2),1)","v":163.1},{"$f":"ROUND(MAX(_xlfn.NORM.INV(('Eingabe Email'!$B145+1)/MAX('Eingabe Email'!$B:$B),'H2 Originaldaten'!F13,7),2),1)","v":3612.1},{"$f":"ROUND(MAX(_xlfn.NORM.INV(('Eingabe Email'!$B145+1)/MAX('Eingabe Email'!$B:$B),'H2 Originaldaten'!G13,7),2),1)","v":11.1},{"$f":"'H2 Originaldaten'!H13","v":70},{"$f":"'H2 Originaldaten'!I13","v":1},{"$f":"'H2 Originaldaten'!J13","v":"plymouth 'cuda 340"}]
[13,{"$f":"ROUND(MAX(_xlfn.NORM.INV(('Eingabe Email'!$B146+1)/MAX('Eingabe Email'!$B:$B),'H2 Originaldaten'!B14,7),2),1)","v":14},{"$f":"'H2 Originaldaten'!C14","v":8},{"$f":"ROUND(MAX(_xlfn.NORM.INV(('Eingabe Email'!$B146+1)/MAX('Eingabe Email'!$B:$B),'H2 Originaldaten'!D14,7),2),1)","v":399},{"$f":"ROUND(MAX(_xlfn.NORM.INV(('Eingabe Email'!$B146+1)/MAX('Eingabe Email'!$B:$B),'H2 Originaldaten'!E14,7),2),1)","v":149},{"$f":"ROUND(MAX(_xlfn.NORM.INV(('Eingabe Email'!$B146+1)/MAX('Eingabe Email'!$B:$B),'H2 Originaldaten'!F14,7),2),1)","v":3760},{"$f":"ROUND(MAX(_xlfn.NORM.INV(('Eingabe Email'!$B146+1)/MAX('Eingabe Email'!$B:$B),'H2 Originaldaten'!G14,7),2),1)","v":8.5},{"$f":"'H2 Originaldaten'!H14","v":70},{"$f":"'H2 Originaldaten'!I14","v":1},{"$f":"'H2 Originaldaten'!J14","v":"chevrolet monte carlo"}]
[14,{"$f":"ROUND(MAX(_xlfn.NORM.INV(('Eingabe Email'!$B147+1)/MAX('Eingabe Email'!$B:$B),'H2 Originaldaten'!B15,7),2),1)","v":15.7},{"$f":"'H2 Originaldaten'!C15","v":8},{"$f":"ROUND(MAX(_xlfn.NORM.INV(('Eingabe Email'!$B147+1)/MAX('Eingabe Email'!$B:$B),'H2 Originaldaten'!D15,7),2),1)","v":456.7},{"$f":"ROUND(MAX(_xlfn.NORM.INV(('Eingabe Email'!$B147+1)/MAX('Eingabe Email'!$B:$B),'H2 Originaldaten'!E15,7),2),1)","v":226.7},{"$f":"ROUND(MAX(_xlfn.NORM.INV(('Eingabe Email'!$B147+1)/MAX('Eingabe Email'!$B:$B),'H2 Originaldaten'!F15,7),2),1)","v":3087.7},{"$f":"ROUND(MAX(_xlfn.NORM.INV(('Eingabe Email'!$B147+1)/MAX('Eingabe Email'!$B:$B),'H2 Originaldaten'!G15,7),2),1)","v":11.7},{"$f":"'H2 Originaldaten'!H15","v":70},{"$f":"'H2 Originaldaten'!I15","v":1},{"$f":"'H2 Originaldaten'!J15","v":"buick estate wagon (sw)"}]
[15,{"$f":"ROUND(MAX(_xlfn.NORM.INV(('Eingabe Email'!$B148+1)/MAX('Eingabe Email'!$B:$B),'H2 Originaldaten'!B16,7),2),1)","v":22.3},{"$f":"'H2 Originaldaten'!C16","v":4},{"$f":"ROUND(MAX(_xlfn.NORM.INV(('Eingabe Email'!$B148+1)/MAX('Eingabe Email'!$B:$B),'H2 Originaldaten'!D16,7),2),1)","v":111.3},{"$f":"ROUND(MAX(_xlfn.NORM.INV(('Eingabe Email'!$B148+1)/MAX('Eingabe Email'!$B:$B),'H2 Originaldaten'!E16,7),2),1)","v":93.3},{"$f":"ROUND(MAX(_xlfn.NORM.INV(('Eingabe Email'!$B148+1)/MAX('Eingabe Email'!$B:$B),'H2 Originaldaten'!F16,7),2),1)","v":2370.3000000000002},{"$f":"ROUND(MAX(_xlfn.NORM.INV(('Eingabe Email'!$B148+1)/MAX('Eingabe Email'!$B:$B),'H2 Originaldaten'!G16,7),2),1)","v":13.3},{"$f":"'H2 Originaldaten'!H16","v":70},{"$f":"'H2 Originaldaten'!I16","v":3},{"$f":"'H2 Originaldaten'!J16","v":"toyota corona mark ii"}]
[16,{"$f":"ROUND(MAX(_xlfn.NORM.INV(('Eingabe Email'!$B149+1)/MAX('Eingabe Email'!$B:$B),'H2 Originaldaten'!B17,7),2),1)","v":32},{"$f":"'H2 Originaldaten'!C17","v":6},{"$f":"ROUND(MAX(_xlfn.NORM.INV(('Eingabe Email'!$B149+1)/MAX('Eingabe Email'!$B:$B),'H2 Originaldaten'!D17,7),2),1)","v":208},{"$f":"ROUND(MAX(_xlfn.NORM.INV(('Eingabe Email'!$B149+1)/MAX('Eingabe Email'!$B:$B),'H2 Originaldaten'!E17,7),2),1)","v":105},{"$f":"ROUND(MAX(_xlfn.NORM.INV(('Eingabe Email'!$B149+1)/MAX('Eingabe Email'!$B:$B),'H2 Originaldaten'!F17,7),2),1)","v":2843},{"$f":"ROUND(MAX(_xlfn.NORM.INV(('Eingabe Email'!$B149+1)/MAX('Eingabe Email'!$B:$B),'H2 Originaldaten'!G17,7),2),1)","v":25.5},{"$f":"'H2 Originaldaten'!H17","v":70},{"$f":"'H2 Originaldaten'!I17","v":1},{"$f":"'H2 Originaldaten'!J17","v":"plymouth duster"}]
[17,{"$f":"ROUND(MAX(_xlfn.NORM.INV(('Eingabe Email'!$B150+1)/MAX('Eingabe Email'!$B:$B),'H2 Originaldaten'!B18,7),2),1)","v":24.2},{"$f":"'H2 Originaldaten'!C18","v":6},{"$f":"ROUND(MAX(_xlfn.NORM.INV(('Eingabe Email'!$B150+1)/MAX('Eingabe Email'!$B:$B),'H2 Originaldaten'!D18,7),2),1)","v":205.2},{"$f":"ROUND(MAX(_xlfn.NORM.INV(('Eingabe Email'!$B150+1)/MAX('Eingabe Email'!$B:$B),'H2 Originaldaten'!E18,7),2),1)","v":103.2},{"$f":"ROUND(MAX(_xlfn.NORM.INV(('Eingabe Email'!$B150+1)/MAX('Eingabe Email'!$B:$B),'H2 Originaldaten'!F18,7),2),1)","v":2780.2},{"$f":"ROUND(MAX(_xlfn.NORM.INV(('Eingabe Email'!$B150+1)/MAX('Eingabe Email'!$B:$B),'H2 Originaldaten'!G18,7),2),1)","v":21.7},{"$f":"'H2 Originaldaten'!H18","v":70},{"$f":"'H2 Originaldaten'!I18","v":1},{"$f":"'H2 Originaldaten'!J18","v":"amc hornet"}]
[18,{"$f":"ROUND(MAX(_xlfn.NORM.INV(('Eingabe Email'!$B151+1)/MAX('Eingabe Email'!$B:$B),'H2 Originaldaten'!B19,7),2),1)","v":27.7},{"$f":"'H2 Originaldaten'!C19","v":6},{"$f":"ROUND(MAX(_xlfn.NORM.INV(('Eingabe Email'!$B151+1)/MAX('Eingabe Email'!$B:$B),'H2 Originaldaten'!D19,7),2),1)","v":206.7},{"$f":"ROUND(MAX(_xlfn.NORM.INV(('Eingabe Email'!$B151+1)/MAX('Eingabe Email'!$B:$B),'H2 Originaldaten'!E19,7),2),1)","v":91.7},{"$f":"ROUND(MAX(_xlfn.NORM.INV(('Eingabe Email'!$B151+1)/MAX('Eingabe Email'!$B:$B),'H2 Originaldaten'!F19,7),2),1)","v":2593.6999999999998},{"$f":"ROUND(MAX(_xlfn.NORM.INV(('Eingabe Email'!$B151+1)/MAX('Eingabe Email'!$B:$B),'H2 Originaldaten'!G19,7),2),1)","v":22.7},{"$f":"'H2 Originaldaten'!H19","v":70},{"$f":"'H2 Originaldaten'!I19","v":1},{"$f":"'H2 Originaldaten'!J19","v":"ford maverick"}]
[19,{"$f":"ROUND(MAX(_xlfn.NORM.INV(('Eingabe Email'!$B152+1)/MAX('Eingabe Email'!$B:$B),'H2 Originaldaten'!B20,7),2),1)","v":31.2},{"$f":"'H2 Originaldaten'!C20","v":4},{"$f":"ROUND(MAX(_xlfn.NORM.INV(('Eingabe Email'!$B152+1)/MAX('Eingabe Email'!$B:$B),'H2 Originaldaten'!D20,7),2),1)","v":101.2},{"$f":"ROUND(MAX(_xlfn.NORM.INV(('Eingabe Email'!$B152+1)/MAX('Eingabe Email'!$B:$B),'H2 Originaldaten'!E20,7),2),1)","v":92.2},{"$f":"ROUND(MAX(_xlfn.NORM.INV(('Eingabe Email'!$B152+1)/MAX('Eingabe Email'!$B:$B),'H2 Originaldaten'!F20,7),2),1)","v":2134.1999999999998},{"$f":"ROUND(MAX(_xlfn.NORM.INV(('Eingabe Email'!$B152+1)/MAX('Eingabe Email'!$B:$B),'H2 Originaldaten'!G20,7),2),1)","v":18.7},{"$f":"'H2 Originaldaten'!H20","v":70},{"$f":"'H2 Originaldaten'!I20","v":3},{"$f":"'H2 Originaldaten'!J20","v":"datsun pl510"}]
[20,{"$f":"ROUND(MAX(_xlfn.NORM.INV(('Eingabe Email'!$B153+1)/MAX('Eingabe Email'!$B:$B),'H2 Originaldaten'!B21,7),2),1)","v":27.2},{"$f":"'H2 Originaldaten'!C21","v":4},{"$f":"ROUND(MAX(_xlfn.NORM.INV(('Eingabe Email'!$B153+1)/MAX('Eingabe Email'!$B:$B),'H2 Originaldaten'!D21,7),2),1)","v":98.2},{"$f":"ROUND(MAX(_xlfn.NORM.INV(('Eingabe Email'!$B153+1)/MAX('Eingabe Email'!$B:$B),'H2 Originaldaten'!E21,7),2),1)","v":47.2},{"$f":"ROUND(MAX(_xlfn.NORM.INV(('Eingabe Email'!$B153+1)/MAX('Eingabe Email'!$B:$B),'H2 Originaldaten'!F21,7),2),1)","v":1836.2},{"$f":"ROUND(MAX(_xlfn.NORM.INV(('Eingabe Email'!$B153+1)/MAX('Eingabe Email'!$B:$B),'H2 Originaldaten'!G21,7),2),1)","v":21.7},{"$f":"'H2 Originaldaten'!H21","v":70},{"$f":"'H2 Originaldaten'!I21","v":2},{"$f":"'H2 Originaldaten'!J21","v":"volkswagen 1131 deluxe sedan"}]
[21,{"$f":"ROUND(MAX(_xlfn.NORM.INV(('Eingabe Email'!$B154+1)/MAX('Eingabe Email'!$B:$B),'H2 Originaldaten'!B22,7),2),1)","v":32.799999999999997},{"$f":"'H2 Originaldaten'!C22","v":4},{"$f":"ROUND(MAX(_xlfn.NORM.INV(('Eingabe Email'!$B154+1)/MAX('Eingabe Email'!$B:$B),'H2 Originaldaten'!D22,7),2),1)","v":117.8},{"$f":"ROUND(MAX(_xlfn.NORM.INV(('Eingabe Email'!$B154+1)/MAX('Eingabe Email'!$B:$B),'H2 Originaldaten'!E22,7),2),1)","v":94.8},{"$f":"ROUND(MAX(_xlfn.NORM.INV(('Eingabe Email'!$B154+1)/MAX('Eingabe Email'!$B:$B),'H2 Originaldaten'!F22,7),2),1)","v":2679.8},{"$f":"ROUND(MAX(_xlfn.NORM.INV(('Eingabe Email'!$B154+1)/MAX('Eingabe Email'!$B:$B),'H2 Originaldaten'!G22,7),2),1)","v":25.3},{"$f":"'H2 Originaldaten'!H22","v":70},{"$f":"'H2 Originaldaten'!I22","v":2},{"$f":"'H2 Originaldaten'!J22","v":"peugeot 504"}]
[22,{"$f":"ROUND(MAX(_xlfn.NORM.INV(('Eingabe Email'!$B155+1)/MAX('Eingabe Email'!$B:$B),'H2 Originaldaten'!B23,7),2),1)","v":30.6},{"$f":"'H2 Originaldaten'!C23","v":4},{"$f":"ROUND(MAX(_xlfn.NORM.INV(('Eingabe Email'!$B155+1)/MAX('Eingabe Email'!$B:$B),'H2 Originaldaten'!D23,7),2),1)","v":113.6},{"$f":"ROUND(MAX(_xlfn.NORM.INV(('Eingabe Email'!$B155+1)/MAX('Eingabe Email'!$B:$B),'H2 Originaldaten'!E23,7),2),1)","v":96.6},{"$f":"ROUND(MAX(_xlfn.NORM.INV(('Eingabe Email'!$B155+1)/MAX('Eingabe Email'!$B:$B),'H2 Originaldaten'!F23,7),2),1)","v":2436.6},{"$f":"ROUND(MAX(_xlfn.NORM.INV(('Eingabe Email'!$B155+1)/MAX('Eingabe Email'!$B:$B),'H2 Originaldaten'!G23,7),2),1)","v":21.1},{"$f":"'H2 Originaldaten'!H23","v":70},{"$f":"'H2 Originaldaten'!I23","v":2},{"$f":"'H2 Originaldaten'!J23","v":"audi 100 ls"}]
[23,{"$f":"ROUND(MAX(_xlfn.NORM.INV(('Eingabe Email'!$B156+1)/MAX('Eingabe Email'!$B:$B),'H2 Originaldaten'!B24,7),2),1)","v":26.1},{"$f":"'H2 Originaldaten'!C24","v":4},{"$f":"ROUND(MAX(_xlfn.NORM.INV(('Eingabe Email'!$B156+1)/MAX('Eingabe Email'!$B:$B),'H2 Originaldaten'!D24,7),2),1)","v":105.1},{"$f":"ROUND(MAX(_xlfn.NORM.INV(('Eingabe Email'!$B156+1)/MAX('Eingabe Email'!$B:$B),'H2 Originaldaten'!E24,7),2),1)","v":96.1},{"$f":"ROUND(MAX(_xlfn.NORM.INV(('Eingabe Email'!$B156+1)/MAX('Eingabe Email'!$B:$B),'H2 Originaldaten'!F24,7),2),1)","v":2376.1},{"$f":"ROUND(MAX(_xlfn.NORM.INV(('Eingabe Email'!$B156+1)/MAX('Eingabe Email'!$B:$B),'H2 Originaldaten'!G24,7),2),1)","v":18.600000000000001},{"$f":"'H2 Originaldaten'!H24","v":70},{"$f":"'H2 Originaldaten'!I24","v":2},{"$f":"'H2 Originaldaten'!J24","v":"saab 99e"}]
[24,{"$f":"ROUND(MAX(_xlfn.NORM.INV(('Eingabe Email'!$B157+1)/MAX('Eingabe Email'!$B:$B),'H2 Originaldaten'!B25,7),2),1)","v":30},{"$f":"'H2 Originaldaten'!C25","v":4},{"$f":"ROUND(MAX(_xlfn.NORM.INV(('Eingabe Email'!$B157+1)/MAX('Eingabe Email'!$B:$B),'H2 Originaldaten'!D25,7),2),1)","v":125},{"$f":"ROUND(MAX(_xlfn.NORM.INV(('Eingabe Email'!$B157+1)/MAX('Eingabe Email'!$B:$B),'H2 Originaldaten'!E25,7),2),1)","v":117},{"$f":"ROUND(MAX(_xlfn.NORM.INV(('Eingabe Email'!$B157+1)/MAX('Eingabe Email'!$B:$B),'H2 Originaldaten'!F25,7),2),1)","v":2238},{"$f":"ROUND(MAX(_xlfn.NORM.INV(('Eingabe Email'!$B157+1)/MAX('Eingabe Email'!$B:$B),'H2 Originaldaten'!G25,7),2),1)","v":16.5},{"$f":"'H2 Originaldaten'!H25","v":70},{"$f":"'H2 Originaldaten'!I25","v":2},{"$f":"'H2 Originaldaten'!J25","v":"bmw 2002"}]
[25,{"$f":"ROUND(MAX(_xlfn.NORM.INV(('Eingabe Email'!$B158+1)/MAX('Eingabe Email'!$B:$B),'H2 Originaldaten'!B26,7),2),1)","v":22.2},{"$f":"'H2 Originaldaten'!C26","v":6},{"$f":"ROUND(MAX(_xlfn.NORM.INV(('Eingabe Email'!$B158+1)/MAX('Eingabe Email'!$B:$B),'H2 Originaldaten'!D26,7),2),1)","v":200.2},{"$f":"ROUND(MAX(_xlfn.NORM.INV(('Eingabe Email'!$B158+1)/MAX('Eingabe Email'!$B:$B),'H2 Originaldaten'!E26,7),2),1)","v":91.2},{"$f":"ROUND(MAX(_xlfn.NORM.INV(('Eingabe Email'!$B158+1)/MAX('Eingabe Email'!$B:$B),'H2 Originaldaten'!F26,7),2),1)","v":2649.2},{"$f":"ROUND(MAX(_xlfn.NORM.INV(('Eingabe Email'!$B158+1)/MAX('Eingabe Email'!$B:$B),'H2 Originaldaten'!G26,7),2),1)","v":16.2},{"$f":"'H2 Originaldaten'!H26","v":70},{"$f":"'H2 Originaldaten'!I26","v":1},{"$f":"'H2 Originaldaten'!J26","v":"amc gremlin"}]
[26,{"$f":"ROUND(MAX(_xlfn.NORM.INV(('Eingabe Email'!$B159+1)/MAX('Eingabe Email'!$B:$B),'H2 Originaldaten'!B27,7),2),1)","v":4.8},{"$f":"'H2 Originaldaten'!C27","v":8},{"$f":"ROUND(MAX(_xlfn.NORM.INV(('Eingabe Email'!$B159+1)/MAX('Eingabe Email'!$B:$B),'H2 Originaldaten'!D27,7),2),1)","v":354.8},{"$f":"ROUND(MAX(_xlfn.NORM.INV(('Eingabe Email'!$B159+1)/MAX('Eingabe Email'!$B:$B),'H2 Originaldaten'!E27,7),2),1)","v":209.8},{"$f":"ROUND(MAX(_xlfn.NORM.INV(('Eingabe Email'!$B159+1)/MAX('Eingabe Email'!$B:$B),'H2 Originaldaten'!F27,7),2),1)","v":4609.8},{"$f":"ROUND(MAX(_xlfn.NORM.INV(('Eingabe Email'!$B159+1)/MAX('Eingabe Email'!$B:$B),'H2 Originaldaten'!G27,7),2),1)","v":8.8000000000000007},{"$f":"'H2 Originaldaten'!H27","v":70},{"$f":"'H2 Originaldaten'!I27","v":1},{"$f":"'H2 Originaldaten'!J27","v":"ford f250"}]
[27,{"$f":"ROUND(MAX(_xlfn.NORM.INV(('Eingabe Email'!$B160+1)/MAX('Eingabe Email'!$B:$B),'H2 Originaldaten'!B28,7),2),1)","v":18.100000000000001},{"$f":"'H2 Originaldaten'!C28","v":8},{"$f":"ROUND(MAX(_xlfn.NORM.INV(('Eingabe Email'!$B160+1)/MAX('Eingabe Email'!$B:$B),'H2 Originaldaten'!D28,7),2),1)","v":315.10000000000002},{"$f":"ROUND(MAX(_xlfn.NORM.INV(('Eingabe Email'!$B160+1)/MAX('Eingabe Email'!$B:$B),'H2 Originaldaten'!E28,7),2),1)","v":208.1},{"$f":"ROUND(MAX(_xlfn.NORM.INV(('Eingabe Email'!$B160+1)/MAX('Eingabe Email'!$B:$B),'H2 Originaldaten'!F28,7),2),1)","v":4384.1000000000004},{"$f":"ROUND(MAX(_xlfn.NORM.INV(('Eingabe Email'!$B160+1)/MAX('Eingabe Email'!$B:$B),'H2 Originaldaten'!G28,7),2),1)","v":23.1},{"$f":"'H2 Originaldaten'!H28","v":70},{"$f":"'H2 Originaldaten'!I28","v":1},{"$f":"'H2 Originaldaten'!J28","v":"chevy c20"}]
[28,{"$f":"ROUND(MAX(_xlfn.NORM.INV(('Eingabe Email'!$B161+1)/MAX('Eingabe Email'!$B:$B),'H2 Originaldaten'!B29,7),2),1)","v":11.7},{"$f":"'H2 Originaldaten'!C29","v":8},{"$f":"ROUND(MAX(_xlfn.NORM.INV(('Eingabe Email'!$B161+1)/MAX('Eingabe Email'!$B:$B),'H2 Originaldaten'!D29,7),2),1)","v":318.7},{"$f":"ROUND(MAX(_xlfn.NORM.INV(('Eingabe Email'!$B161+1)/MAX('Eingabe Email'!$B:$B),'H2 Originaldaten'!E29,7),2),1)","v":210.7},{"$f":"ROUND(MAX(_xlfn.NORM.INV(('Eingabe Email'!$B161+1)/MAX('Eingabe Email'!$B:$B),'H2 Originaldaten'!F29,7),2),1)","v":4382.7},{"$f":"ROUND(MAX(_xlfn.NORM.INV(('Eingabe Email'!$B161+1)/MAX('Eingabe Email'!$B:$B),'H2 Originaldaten'!G29,7),2),1)","v":14.2},{"$f":"'H2 Originaldaten'!H29","v":70},{"$f":"'H2 Originaldaten'!I29","v":1},{"$f":"'H2 Originaldaten'!J29","v":"dodge d200"}]
[29,{"$f":"ROUND(MAX(_xlfn.NORM.INV(('Eingabe Email'!$B162+1)/MAX('Eingabe Email'!$B:$B),'H2 Originaldaten'!B30,7),2),1)","v":19.8},{"$f":"'H2 Originaldaten'!C30","v":8},{"$f":"ROUND(MAX(_xlfn.NORM.INV(('Eingabe Email'!$B162+1)/MAX('Eingabe Email'!$B:$B),'H2 Originaldaten'!D30,7),2),1)","v":314.8},{"$f":"ROUND(MAX(_xlfn.NORM.INV(('Eingabe Email'!$B162+1)/MAX('Eingabe Email'!$B:$B),'H2 Originaldaten'!E30,7),2),1)","v":203.8},{"$f":"ROUND(MAX(_xlfn.NORM.INV(('Eingabe Email'!$B162+1)/MAX('Eingabe Email'!$B:$B),'H2 Originaldaten'!F30,7),2),1)","v":4742.8},{"$f":"ROUND(MAX(_xlfn.NORM.INV(('Eingabe Email'!$B162+1)/MAX('Eingabe Email'!$B:$B),'H2 Originaldaten'!G30,7),2),1)","v":29.3},{"$f":"'H2 Originaldaten'!H30","v":70},{"$f":"'H2 Originaldaten'!I30","v":1},{"$f":"'H2 Originaldaten'!J30","v":"hi 1200d"}]
[30,{"$f":"ROUND(MAX(_xlfn.NORM.INV(('Eingabe Email'!$B163+1)/MAX('Eingabe Email'!$B:$B),'H2 Originaldaten'!B31,7),2),1)","v":36.9},{"$f":"'H2 Originaldaten'!C31","v":4},{"$f":"ROUND(MAX(_xlfn.NORM.INV(('Eingabe Email'!$B163+1)/MAX('Eingabe Email'!$B:$B),'H2 Originaldaten'!D31,7),2),1)","v":106.9},{"$f":"ROUND(MAX(_xlfn.NORM.INV(('Eingabe Email'!$B163+1)/MAX('Eingabe Email'!$B:$B),'H2 Originaldaten'!E31,7),2),1)","v":97.9},{"$f":"ROUND(MAX(_xlfn.NORM.INV(('Eingabe Email'!$B163+1)/MAX('Eingabe Email'!$B:$B),'H2 Originaldaten'!F31,7),2),1)","v":2139.9},{"$f":"ROUND(MAX(_xlfn.NORM.INV(('Eingabe Email'!$B163+1)/MAX('Eingabe Email'!$B:$B),'H2 Originaldaten'!G31,7),2),1)","v":24.4},{"$f":"'H2 Originaldaten'!H31","v":71},{"$f":"'H2 Originaldaten'!I31","v":3},{"$f":"'H2 Originaldaten'!J31","v":"datsun pl510"}]
[31,{"$f":"ROUND(MAX(_xlfn.NORM.INV(('Eingabe Email'!$B164+1)/MAX('Eingabe Email'!$B:$B),'H2 Originaldaten'!B32,7),2),1)","v":19.399999999999999},{"$f":"'H2 Originaldaten'!C32","v":4},{"$f":"ROUND(MAX(_xlfn.NORM.INV(('Eingabe Email'!$B164+1)/MAX('Eingabe Email'!$B:$B),'H2 Originaldaten'!D32,7),2),1)","v":131.4},{"$f":"ROUND(MAX(_xlfn.NORM.INV(('Eingabe Email'!$B164+1)/MAX('Eingabe Email'!$B:$B),'H2 Originaldaten'!E32,7),2),1)","v":81.400000000000006},{"$f":"ROUND(MAX(_xlfn.NORM.INV(('Eingabe Email'!$B164+1)/MAX('Eingabe Email'!$B:$B),'H2 Originaldaten'!F32,7),2),1)","v":2255.4},{"$f":"ROUND(MAX(_xlfn.NORM.INV(('Eingabe Email'!$B164+1)/MAX('Eingabe Email'!$B:$B),'H2 Originaldaten'!G32,7),2),1)","v":6.9},{"$f":"'H2 Originaldaten'!H32","v":71},{"$f":"'H2 Originaldaten'!I32","v":1},{"$f":"'H2 Originaldaten'!J32","v":"chevrolet vega 2300"}]
[32,{"$f":"ROUND(MAX(_xlfn.NORM.INV(('Eingabe Email'!$B165+1)/MAX('Eingabe Email'!$B:$B),'H2 Originaldaten'!B33,7),2),1)","v":29},{"$f":"'H2 Originaldaten'!C33","v":4},{"$f":"ROUND(MAX(_xlfn.NORM.INV(('Eingabe Email'!$B165+1)/MAX('Eingabe Email'!$B:$B),'H2 Originaldaten'!D33,7),2),1)","v":117},{"$f":"ROUND(MAX(_xlfn.NORM.INV(('Eingabe Email'!$B165+1)/MAX('Eingabe Email'!$B:$B),'H2 Originaldaten'!E33,7),2),1)","v":99},{"$f":"ROUND(MAX(_xlfn.NORM.INV(('Eingabe Email'!$B165+1)/MAX('Eingabe Email'!$B:$B),'H2 Originaldaten'!F33,7),2),1)","v":2232},{"$f":"ROUND(MAX(_xlfn.NORM.INV(('Eingabe Email'!$B165+1)/MAX('Eingabe Email'!$B:$B),'H2 Originaldaten'!G33,7),2),1)","v":18},{"$f":"'H2 Originaldaten'!H33","v":71},{"$f":"'H2 Originaldaten'!I33","v":3},{"$f":"'H2 Originaldaten'!J33","v":"toyota corona"}]
[33,{"$f":"ROUND(MAX(_xlfn.NORM.INV(('Eingabe Email'!$B166+1)/MAX('Eingabe Email'!$B:$B),'H2 Originaldaten'!B34,7),2),1)","v":18.100000000000001},{"$f":"'H2 Originaldaten'!C34","v":6},{"$f":"ROUND(MAX(_xlfn.NORM.INV(('Eingabe Email'!$B166+1)/MAX('Eingabe Email'!$B:$B),'H2 Originaldaten'!D34,7),2),1)","v":231.1},{"$f":"ROUND(MAX(_xlfn.NORM.INV(('Eingabe Email'!$B166+1)/MAX('Eingabe Email'!$B:$B),'H2 Originaldaten'!E34,7),2),1)","v":99.1},{"$f":"ROUND(MAX(_xlfn.NORM.INV(('Eingabe Email'!$B166+1)/MAX('Eingabe Email'!$B:$B),'H2 Originaldaten'!F34,7),2),1)","v":2633.1},{"$f":"ROUND(MAX(_xlfn.NORM.INV(('Eingabe Email'!$B166+1)/MAX('Eingabe Email'!$B:$B),'H2 Originaldaten'!G34,7),2),1)","v":12.1},{"$f":"'H2 Originaldaten'!H34","v":71},{"$f":"'H2 Originaldaten'!I34","v":1},{"$f":"'H2 Originaldaten'!J34","v":"amc gremlin"}]
[34,{"$f":"ROUND(MAX(_xlfn.NORM.INV(('Eingabe Email'!$B167+1)/MAX('Eingabe Email'!$B:$B),'H2 Originaldaten'!B35,7),2),1)","v":10.7},{"$f":"'H2 Originaldaten'!C35","v":6},{"$f":"ROUND(MAX(_xlfn.NORM.INV(('Eingabe Email'!$B167+1)/MAX('Eingabe Email'!$B:$B),'H2 Originaldaten'!D35,7),2),1)","v":219.7},{"$f":"ROUND(MAX(_xlfn.NORM.INV(('Eingabe Email'!$B167+1)/MAX('Eingabe Email'!$B:$B),'H2 Originaldaten'!E35,7),2),1)","v":99.7},{"$f":"ROUND(MAX(_xlfn.NORM.INV(('Eingabe Email'!$B167+1)/MAX('Eingabe Email'!$B:$B),'H2 Originaldaten'!F35,7),2),1)","v":3433.7},{"$f":"ROUND(MAX(_xlfn.NORM.INV(('Eingabe Email'!$B167+1)/MAX('Eingabe Email'!$B:$B),'H2 Originaldaten'!G35,7),2),1)","v":10.199999999999999},{"$f":"'H2 Originaldaten'!H35","v":71},{"$f":"'H2 Originaldaten'!I35","v":1},{"$f":"'H2 Originaldaten'!J35","v":"plymouth satellite custom"}]
[35,{"$f":"ROUND(MAX(_xlfn.NORM.INV(('Eingabe Email'!$B168+1)/MAX('Eingabe Email'!$B:$B),'H2 Originaldaten'!B36,7),2),1)","v":9.3000000000000007},{"$f":"'H2 Originaldaten'!C36","v":6},{"$f":"ROUND(MAX(_xlfn.NORM.INV(('Eingabe Email'!$B168+1)/MAX('Eingabe Email'!$B:$B),'H2 Originaldaten'!D36,7),2),1)","v":242.3},{"$f":"ROUND(MAX(_xlfn.NORM.INV(('Eingabe Email'!$B168+1)/MAX('Eingabe Email'!$B:$B),'H2 Originaldaten'!E36,7),2),1)","v":92.3},{"$f":"ROUND(MAX(_xlfn.NORM.INV(('Eingabe Email'!$B168+1)/MAX('Eingabe Email'!$B:$B),'H2 Originaldaten'!F36,7),2),1)","v":3321.3},{"$f":"ROUND(MAX(_xlfn.NORM.INV(('Eingabe Email'!$B168+1)/MAX('Eingabe Email'!$B:$B),'H2 Originaldaten'!G36,7),2),1)","v":7.8},{"$f":"'H2 Originaldaten'!H36","v":71},{"$f":"'H2 Originaldaten'!I36","v":1},{"$f":"'H2 Originaldaten'!J36","v":"chevrolet chevelle malibu"}]
[36,{"$f":"ROUND(MAX(_xlfn.NORM.INV(('Eingabe Email'!$B169+1)/MAX('Eingabe Email'!$B:$B),'H2 Originaldaten'!B37,7),2),1)","v":24},{"$f":"'H2 Originaldaten'!C37","v":6},{"$f":"ROUND(MAX(_xlfn.NORM.INV(('Eingabe Email'!$B169+1)/MAX('Eingabe Email'!$B:$B),'H2 Originaldaten'!D37,7),2),1)","v":255},{"$f":"ROUND(MAX(_xlfn.NORM.INV(('Eingabe Email'!$B169+1)/MAX('Eingabe Email'!$B:$B),'H2 Originaldaten'!E37,7),2),1)","v":93},{"$f":"ROUND(MAX(_xlfn.NORM.INV(('Eingabe Email'!$B169+1)/MAX('Eingabe Email'!$B:$B),'H2 Originaldaten'!F37,7),2),1)","v":3307},{"$f":"ROUND(MAX(_xlfn.NORM.INV(('Eingabe Email'!$B169+1)/MAX('Eingabe Email'!$B:$B),'H2 Originaldaten'!G37,7),2),1)","v":20.5},{"$f":"'H2 Originaldaten'!H37","v":71},{"$f":"'H2 Originaldaten'!I37","v":1},{"$f":"'H2 Originaldaten'!J37","v":"ford torino 500"}]
[37,{"$f":"ROUND(MAX(_xlfn.NORM.INV(('Eingabe Email'!$B170+1)/MAX('Eingabe Email'!$B:$B),'H2 Originaldaten'!B38,7),2),1)","v":15.4},{"$f":"'H2 Originaldaten'!C38","v":6},{"$f":"ROUND(MAX(_xlfn.NORM.INV(('Eingabe Email'!$B170+1)/MAX('Eingabe Email'!$B:$B),'H2 Originaldaten'!D38,7),2),1)","v":229.4},{"$f":"ROUND(MAX(_xlfn.NORM.INV(('Eingabe Email'!$B170+1)/MAX('Eingabe Email'!$B:$B),'H2 Originaldaten'!E38,7),2),1)","v":97.4},{"$f":"ROUND(MAX(_xlfn.NORM.INV(('Eingabe Email'!$B170+1)/MAX('Eingabe Email'!$B:$B),'H2 Originaldaten'!F38,7),2),1)","v":3285.4},{"$f":"ROUND(MAX(_xlfn.NORM.INV(('Eingabe Email'!$B170+1)/MAX('Eingabe Email'!$B:$B),'H2 Originaldaten'!G38,7),2),1)","v":12.9},{"$f":"'H2 Originaldaten'!H38","v":71},{"$f":"'H2 Originaldaten'!I38","v":1},{"$f":"'H2 Originaldaten'!J38","v":"amc matador"}]
[38,{"$f":"ROUND(MAX(_xlfn.NORM.INV(('Eingabe Email'!$B171+1)/MAX('Eingabe Email'!$B:$B),'H2 Originaldaten'!B39,7),2),1)","v":12.6},{"$f":"'H2 Originaldaten'!C39","v":8},{"$f":"ROUND(MAX(_xlfn.NORM.INV(('Eingabe Email'!$B171+1)/MAX('Eingabe Email'!$B:$B),'H2 Originaldaten'!D39,7),2),1)","v":348.6},{"$f":"ROUND(MAX(_xlfn.NORM.INV(('Eingabe Email'!$B171+1)/MAX('Eingabe Email'!$B:$B),'H2 Originaldaten'!E39,7),2),1)","v":163.6},{"$f":"ROUND(MAX(_xlfn.NORM.INV(('Eingabe Email'!$B171+1)/MAX('Eingabe Email'!$B:$B),'H2 Originaldaten'!F39,7),2),1)","v":4207.6000000000004},{"$f":"ROUND(MAX(_xlfn.NORM.INV(('Eingabe Email'!$B171+1)/MAX('Eingabe Email'!$B:$B),'H2 Originaldaten'!G39,7),2),1)","v":10.6},{"$f":"'H2 Originaldaten'!H39","v":71},{"$f":"'H2 Originaldaten'!I39","v":1},{"$f":"'H2 Originaldaten'!J39","v":"chevrolet impala"}]
[39,{"$f":"ROUND(MAX(_xlfn.NORM.INV(('Eingabe Email'!$B172+1)/MAX('Eingabe Email'!$B:$B),'H2 Originaldaten'!B40,7),2),1)","v":23.7},{"$f":"'H2 Originaldaten'!C40","v":8},{"$f":"ROUND(MAX(_xlfn.NORM.INV(('Eingabe Email'!$B172+1)/MAX('Eingabe Email'!$B:$B),'H2 Originaldaten'!D40,7),2),1)","v":409.7},{"$f":"ROUND(MAX(_xlfn.NORM.INV(('Eingabe Email'!$B172+1)/MAX('Eingabe Email'!$B:$B),'H2 Originaldaten'!E40,7),2),1)","v":184.7},{"$f":"ROUND(MAX(_xlfn.NORM.INV(('Eingabe Email'!$B172+1)/MAX('Eingabe Email'!$B:$B),'H2 Originaldaten'!F40,7),2),1)","v":4473.7},{"$f":"ROUND(MAX(_xlfn.NORM.INV(('Eingabe Email'!$B172+1)/MAX('Eingabe Email'!$B:$B),'H2 Originaldaten'!G40,7),2),1)","v":21.2},{"$f":"'H2 Originaldaten'!H40","v":71},{"$f":"'H2 Originaldaten'!I40","v":1},{"$f":"'H2 Originaldaten'!J40","v":"pontiac catalina brougham"}]
[40,{"$f":"ROUND(MAX(_xlfn.NORM.INV(('Eingabe Email'!$B173+1)/MAX('Eingabe Email'!$B:$B),'H2 Originaldaten'!B41,7),2),1)","v":13.3},{"$f":"'H2 Originaldaten'!C41","v":8},{"$f":"ROUND(MAX(_xlfn.NORM.INV(('Eingabe Email'!$B173+1)/MAX('Eingabe Email'!$B:$B),'H2 Originaldaten'!D41,7),2),1)","v":350.3},{"$f":"ROUND(MAX(_xlfn.NORM.INV(('Eingabe Email'!$B173+1)/MAX('Eingabe Email'!$B:$B),'H2 Originaldaten'!E41,7),2),1)","v":152.30000000000001},{"$f":"ROUND(MAX(_xlfn.NORM.INV(('Eingabe Email'!$B173+1)/MAX('Eingabe Email'!$B:$B),'H2 Originaldaten'!F41,7),2),1)","v":4153.3},{"$f":"ROUND(MAX(_xlfn.NORM.INV(('Eingabe Email'!$B173+1)/MAX('Eingabe Email'!$B:$B),'H2 Originaldaten'!G41,7),2),1)","v":12.8},{"$f":"'H2 Originaldaten'!H41","v":71},{"$f":"'H2 Originaldaten'!I41","v":1},{"$f":"'H2 Originaldaten'!J41","v":"ford galaxie 500"}]
[41,{"$f":"ROUND(MAX(_xlfn.NORM.INV(('Eingabe Email'!$B174+1)/MAX('Eingabe Email'!$B:$B),'H2 Originaldaten'!B42,7),2),1)","v":21.6},{"$f":"'H2 Originaldaten'!C42","v":8},{"$f":"ROUND(MAX(_xlfn.NORM.INV(('Eingabe Email'!$B174+1)/MAX('Eingabe Email'!$B:$B),'H2 Originaldaten'!D42,7),2),1)","v":325.60000000000002},{"$f":"ROUND(MAX(_xlfn.NORM.INV(('Eingabe Email'!$B174+1)/MAX('Eingabe Email'!$B:$B),'H2 Originaldaten'!E42,7),2),1)","v":157.6},{"$f":"ROUND(MAX(_xlfn.NORM.INV(('Eingabe Email'!$B174+1)/MAX('Eingabe Email'!$B:$B),'H2 Originaldaten'!F42,7),2),1)","v":4103.6000000000004},{"$f":"ROUND(MAX(_xlfn.NORM.INV(('Eingabe Email'!$B174+1)/MAX('Eingabe Email'!$B:$B),'H2 Originaldaten'!G42,7),2),1)","v":20.6},{"$f":"'H2 Originaldaten'!H42","v":71},{"$f":"'H2 Originaldaten'!I42","v":1},{"$f":"'H2 Originaldaten'!J42","v":"plymouth fury iii"}]
[42,{"$f":"ROUND(MAX(_xlfn.NORM.INV(('Eingabe Email'!$B175+1)/MAX('Eingabe Email'!$B:$B),'H2 Originaldaten'!B43,7),2),1)","v":9.3000000000000007},{"$f":"'H2 Originaldaten'!C43","v":8},{"$f":"ROUND(MAX(_xlfn.NORM.INV(('Eingabe Email'!$B175+1)/MAX('Eingabe Email'!$B:$B),'H2 Originaldaten'!D43,7),2),1)","v":380.3},{"$f":"ROUND(MAX(_xlfn.NORM.INV(('Eingabe Email'!$B175+1)/MAX('Eingabe Email'!$B:$B),'H2 Originaldaten'!E43,7),2),1)","v":177.3},{"$f":"ROUND(MAX(_xlfn.NORM.INV(('Eingabe Email'!$B175+1)/MAX('Eingabe Email'!$B:$B),'H2 Originaldaten'!F43,7),2),1)","v":4952.3},{"$f":"ROUND(MAX(_xlfn.NORM.INV(('Eingabe Email'!$B175+1)/MAX('Eingabe Email'!$B:$B),'H2 Originaldaten'!G43,7),2),1)","v":8.8000000000000007},{"$f":"'H2 Originaldaten'!H43","v":71},{"$f":"'H2 Originaldaten'!I43","v":1},{"$f":"'H2 Originaldaten'!J43","v":"dodge monaco (sw)"}]
[43,{"$f":"ROUND(MAX(_xlfn.NORM.INV(('Eingabe Email'!$B176+1)/MAX('Eingabe Email'!$B:$B),'H2 Originaldaten'!B44,7),2),1)","v":24.7},{"$f":"'H2 Originaldaten'!C44","v":8},{"$f":"ROUND(MAX(_xlfn.NORM.INV(('Eingabe Email'!$B176+1)/MAX('Eingabe Email'!$B:$B),'H2 Originaldaten'!D44,7),2),1)","v":411.7},{"$f":"ROUND(MAX(_xlfn.NORM.INV(('Eingabe Email'!$B176+1)/MAX('Eingabe Email'!$B:$B),'H2 Originaldaten'!E44,7),2),1)","v":181.7},{"$f":"ROUND(MAX(_xlfn.NORM.INV(('Eingabe Email'!$B176+1)/MAX('Eingabe Email'!$B:$B),'H2 Originaldaten'!F44,7),2),1)","v":4757.7},{"$f":"ROUND(MAX(_xlfn.NORM.INV(('Eingabe Email'!$B176+1)/MAX('Eingabe Email'!$B:$B),'H2 Originaldaten'!G44,7),2),1)","v":23.7},{"$f":"'H2 Originaldaten'!H44","v":71},{"$f":"'H2 Originaldaten'!I44","v":1},{"$f":"'H2 Originaldaten'!J44","v":"ford country squire (sw)"}]
[44,{"$f":"ROUND(MAX(_xlfn.NORM.INV(('Eingabe Email'!$B177+1)/MAX('Eingabe Email'!$B:$B),'H2 Originaldaten'!B45,7),2),1)","v":15.3},{"$f":"'H2 Originaldaten'!C45","v":8},{"$f":"ROUND(MAX(_xlfn.NORM.INV(('Eingabe Email'!$B177+1)/MAX('Eingabe Email'!$B:$B),'H2 Originaldaten'!D45,7),2),1)","v":402.3},{"$f":"ROUND(MAX(_xlfn.NORM.INV(('Eingabe Email'!$B177+1)/MAX('Eingabe Email'!$B:$B),'H2 Originaldaten'!E45,7),2),1)","v":177.3},{"$f":"ROUND(MAX(_xlfn.NORM.INV(('Eingabe Email'!$B177+1)/MAX('Eingabe Email'!$B:$B),'H2 Originaldaten'!F45,7),2),1)","v":5142.3},{"$f":"ROUND(MAX(_xlfn.NORM.INV(('Eingabe Email'!$B177+1)/MAX('Eingabe Email'!$B:$B),'H2 Originaldaten'!G45,7),2),1)","v":14.3},{"$f":"'H2 Originaldaten'!H45","v":71},{"$f":"'H2 Originaldaten'!I45","v":1},{"$f":"'H2 Originaldaten'!J45","v":"pontiac safari (sw)"}]
[45,{"$f":"ROUND(MAX(_xlfn.NORM.INV(('Eingabe Email'!$B178+1)/MAX('Eingabe Email'!$B:$B),'H2 Originaldaten'!B46,7),2),1)","v":13},{"$f":"'H2 Originaldaten'!C46","v":6},{"$f":"ROUND(MAX(_xlfn.NORM.INV(('Eingabe Email'!$B178+1)/MAX('Eingabe Email'!$B:$B),'H2 Originaldaten'!D46,7),2),1)","v":253},{"$f":"ROUND(MAX(_xlfn.NORM.INV(('Eingabe Email'!$B178+1)/MAX('Eingabe Email'!$B:$B),'H2 Originaldaten'!E46,7),2),1)","v":105},{"$f":"ROUND(MAX(_xlfn.NORM.INV(('Eingabe Email'!$B178+1)/MAX('Eingabe Email'!$B:$B),'H2 Originaldaten'!F46,7),2),1)","v":2957},{"$f":"ROUND(MAX(_xlfn.NORM.INV(('Eingabe Email'!$B178+1)/MAX('Eingabe Email'!$B:$B),'H2 Originaldaten'!G46,7),2),1)","v":8.5},{"$f":"'H2 Originaldaten'!H46","v":71},{"$f":"'H2 Originaldaten'!I46","v":1},{"$f":"'H2 Originaldaten'!J46","v":"amc hornet sportabout (sw)"}]
[46,{"$f":"ROUND(MAX(_xlfn.NORM.INV(('Eingabe Email'!$B179+1)/MAX('Eingabe Email'!$B:$B),'H2 Originaldaten'!B47,7),2),1)","v":26.2},{"$f":"'H2 Originaldaten'!C47","v":4},{"$f":"ROUND(MAX(_xlfn.NORM.INV(('Eingabe Email'!$B179+1)/MAX('Eingabe Email'!$B:$B),'H2 Originaldaten'!D47,7),2),1)","v":144.19999999999999},{"$f":"ROUND(MAX(_xlfn.NORM.INV(('Eingabe Email'!$B179+1)/MAX('Eingabe Email'!$B:$B),'H2 Originaldaten'!E47,7),2),1)","v":76.2},{"$f":"ROUND(MAX(_xlfn.NORM.INV(('Eingabe Email'!$B179+1)/MAX('Eingabe Email'!$B:$B),'H2 Originaldaten'!F47,7),2),1)","v":2412.1999999999998},{"$f":"ROUND(MAX(_xlfn.NORM.INV(('Eingabe Email'!$B179+1)/MAX('Eingabe Email'!$B:$B),'H2 Originaldaten'!G47,7),2),1)","v":23.2},{"$f":"'H2 Originaldaten'!H47","v":71},{"$f":"'H2 Originaldaten'!I47","v":1},{"$f":"'H2 Originaldaten'!J47","v":"chevrolet vega (sw)"}]
[47,{"$f":"ROUND(MAX(_xlfn.NORM.INV(('Eingabe Email'!$B180+1)/MAX('Eingabe Email'!$B:$B),'H2 Originaldaten'!B48,7),2),1)","v":16.100000000000001},{"$f":"'H2 Originaldaten'!C48","v":6},{"$f":"ROUND(MAX(_xlfn.NORM.INV(('Eingabe Email'!$B180+1)/MAX('Eingabe Email'!$B:$B),'H2 Originaldaten'!D48,7),2),1)","v":247.1},{"$f":"ROUND(MAX(_xlfn.NORM.INV(('Eingabe Email'!$B180+1)/MAX('Eingabe Email'!$B:$B),'H2 Originaldaten'!E48,7),2),1)","v":97.1},{"$f":"ROUND(MAX(_xlfn.NORM.INV(('Eingabe Email'!$B180+1)/MAX('Eingabe Email'!$B:$B),'H2 Originaldaten'!F48,7),2),1)","v":3279.1},{"$f":"ROUND(MAX(_xlfn.NORM.INV(('Eingabe Email'!$B180+1)/MAX('Eingabe Email'!$B:$B),'H2 Originaldaten'!G48,7),2),1)","v":12.1},{"$f":"'H2 Originaldaten'!H48","v":71},{"$f":"'H2 Originaldaten'!I48","v":1},{"$f":"'H2 Originaldaten'!J48","v":"pontiac firebird"}]
[48,{"$f":"ROUND(MAX(_xlfn.NORM.INV(('Eingabe Email'!$B181+1)/MAX('Eingabe Email'!$B:$B),'H2 Originaldaten'!B49,7),2),1)","v":15.1},{"$f":"'H2 Originaldaten'!C49","v":6},{"$f":"ROUND(MAX(_xlfn.NORM.INV(('Eingabe Email'!$B181+1)/MAX('Eingabe Email'!$B:$B),'H2 Originaldaten'!D49,7),2),1)","v":247.1},{"$f":"ROUND(MAX(_xlfn.NORM.INV(('Eingabe Email'!$B181+1)/MAX('Eingabe Email'!$B:$B),'H2 Originaldaten'!E49,7),2),1)","v":85.1},{"$f":"ROUND(MAX(_xlfn.NORM.INV(('Eingabe Email'!$B181+1)/MAX('Eingabe Email'!$B:$B),'H2 Originaldaten'!F49,7),2),1)","v":3136.1},{"$f":"ROUND(MAX(_xlfn.NORM.INV(('Eingabe Email'!$B181+1)/MAX('Eingabe Email'!$B:$B),'H2 Originaldaten'!G49,7),2),1)","v":11.6},{"$f":"'H2 Originaldaten'!H49","v":71},{"$f":"'H2 Originaldaten'!I49","v":1},{"$f":"'H2 Originaldaten'!J49","v":"ford mustang"}]
[49,{"$f":"ROUND(MAX(_xlfn.NORM.INV(('Eingabe Email'!$B182+1)/MAX('Eingabe Email'!$B:$B),'H2 Originaldaten'!B50,7),2),1)","v":29},{"$f":"'H2 Originaldaten'!C50","v":4},{"$f":"ROUND(MAX(_xlfn.NORM.INV(('Eingabe Email'!$B182+1)/MAX('Eingabe Email'!$B:$B),'H2 Originaldaten'!D50,7),2),1)","v":128},{"$f":"ROUND(MAX(_xlfn.NORM.INV(('Eingabe Email'!$B182+1)/MAX('Eingabe Email'!$B:$B),'H2 Originaldaten'!E50,7),2),1)","v":92},{"$f":"ROUND(MAX(_xlfn.NORM.INV(('Eingabe Email'!$B182+1)/MAX('Eingabe Email'!$B:$B),'H2 Originaldaten'!F50,7),2),1)","v":2226},{"$f":"ROUND(MAX(_xlfn.NORM.INV(('Eingabe Email'!$B182+1)/MAX('Eingabe Email'!$B:$B),'H2 Originaldaten'!G50,7),2),1)","v":20},{"$f":"'H2 Originaldaten'!H50","v":71},{"$f":"'H2 Originaldaten'!I50","v":1},{"$f":"'H2 Originaldaten'!J50","v":"mercury capri 2000"}]
[50,{"$f":"ROUND(MAX(_xlfn.NORM.INV(('Eingabe Email'!$B183+1)/MAX('Eingabe Email'!$B:$B),'H2 Originaldaten'!B51,7),2),1)","v":27.8},{"$f":"'H2 Originaldaten'!C51","v":4},{"$f":"ROUND(MAX(_xlfn.NORM.INV(('Eingabe Email'!$B183+1)/MAX('Eingabe Email'!$B:$B),'H2 Originaldaten'!D51,7),2),1)","v":115.8},{"$f":"ROUND(MAX(_xlfn.NORM.INV(('Eingabe Email'!$B183+1)/MAX('Eingabe Email'!$B:$B),'H2 Originaldaten'!E51,7),2),1)","v":89.8},{"$f":"ROUND(MAX(_xlfn.NORM.INV(('Eingabe Email'!$B183+1)/MAX('Eingabe Email'!$B:$B),'H2 Originaldaten'!F51,7),2),1)","v":2122.8000000000002},{"$f":"ROUND(MAX(_xlfn.NORM.INV(('Eingabe Email'!$B183+1)/MAX('Eingabe Email'!$B:$B),'H2 Originaldaten'!G51,7),2),1)","v":13.8},{"$f":"'H2 Originaldaten'!H51","v":71},{"$f":"'H2 Originaldaten'!I51","v":2},{"$f":"'H2 Originaldaten'!J51","v":"opel 1900"}]
[51,{"$f":"ROUND(MAX(_xlfn.NORM.INV(('Eingabe Email'!$B184+1)/MAX('Eingabe Email'!$B:$B),'H2 Originaldaten'!B52,7),2),1)","v":31.6},{"$f":"'H2 Originaldaten'!C52","v":4},{"$f":"ROUND(MAX(_xlfn.NORM.INV(('Eingabe Email'!$B184+1)/MAX('Eingabe Email'!$B:$B),'H2 Originaldaten'!D52,7),2),1)","v":80.599999999999994},{"$f":"ROUND(MAX(_xlfn.NORM.INV(('Eingabe Email'!$B184+1)/MAX('Eingabe Email'!$B:$B),'H2 Originaldaten'!E52,7),2),1)","v":71.599999999999994},{"$f":"ROUND(MAX(_xlfn.NORM.INV(('Eingabe Email'!$B184+1)/MAX('Eingabe Email'!$B:$B),'H2 Originaldaten'!F52,7),2),1)","v":2075.6},{"$f":"ROUND(MAX(_xlfn.NORM.INV(('Eingabe Email'!$B184+1)/MAX('Eingabe Email'!$B:$B),'H2 Originaldaten'!G52,7),2),1)","v":21.1},{"$f":"'H2 Originaldaten'!H52","v":71},{"$f":"'H2 Originaldaten'!I52","v":2},{"$f":"'H2 Originaldaten'!J52","v":"peugeot 304"}]
[52,{"$f":"ROUND(MAX(_xlfn.NORM.INV(('Eingabe Email'!$B185+1)/MAX('Eingabe Email'!$B:$B),'H2 Originaldaten'!B53,7),2),1)","v":30.3},{"$f":"'H2 Originaldaten'!C53","v":4},{"$f":"ROUND(MAX(_xlfn.NORM.INV(('Eingabe Email'!$B185+1)/MAX('Eingabe Email'!$B:$B),'H2 Originaldaten'!D53,7),2),1)","v":88.3},{"$f":"ROUND(MAX(_xlfn.NORM.INV(('Eingabe Email'!$B185+1)/MAX('Eingabe Email'!$B:$B),'H2 Originaldaten'!E53,7),2),1)","v":76.3},{"$f":"ROUND(MAX(_xlfn.NORM.INV(('Eingabe Email'!$B185+1)/MAX('Eingabe Email'!$B:$B),'H2 Originaldaten'!F53,7),2),1)","v":2065.3000000000002},{"$f":"ROUND(MAX(_xlfn.NORM.INV(('Eingabe Email'!$B185+1)/MAX('Eingabe Email'!$B:$B),'H2 Originaldaten'!G53,7),2),1)","v":14.8},{"$f":"'H2 Originaldaten'!H53","v":71},{"$f":"'H2 Originaldaten'!I53","v":2},{"$f":"'H2 Originaldaten'!J53","v":"fiat 124b"}]
[53,{"$f":"ROUND(MAX(_xlfn.NORM.INV(('Eingabe Email'!$B186+1)/MAX('Eingabe Email'!$B:$B),'H2 Originaldaten'!B54,7),2),1)","v":28.4},{"$f":"'H2 Originaldaten'!C54","v":4},{"$f":"ROUND(MAX(_xlfn.NORM.INV(('Eingabe Email'!$B186+1)/MAX('Eingabe Email'!$B:$B),'H2 Originaldaten'!D54,7),2),1)","v":68.400000000000006},{"$f":"ROUND(MAX(_xlfn.NORM.INV(('Eingabe Email'!$B186+1)/MAX('Eingabe Email'!$B:$B),'H2 Originaldaten'!E54,7),2),1)","v":62.4},{"$f":"ROUND(MAX(_xlfn.NORM.INV(('Eingabe Email'!$B186+1)/MAX('Eingabe Email'!$B:$B),'H2 Originaldaten'!F54,7),2),1)","v":1770.4},{"$f":"ROUND(MAX(_xlfn.NORM.INV(('Eingabe Email'!$B186+1)/MAX('Eingabe Email'!$B:$B),'H2 Originaldaten'!G54,7),2),1)","v":16.399999999999999},{"$f":"'H2 Originaldaten'!H54","v":71},{"$f":"'H2 Originaldaten'!I54","v":3},{"$f":"'H2 Originaldaten'!J54","v":"toyota corolla 1200"}]
[54,{"$f":"ROUND(MAX(_xlfn.NORM.INV(('Eingabe Email'!$B187+1)/MAX('Eingabe Email'!$B:$B),'H2 Originaldaten'!B55,7),2),1)","v":33.799999999999997},{"$f":"'H2 Originaldaten'!C55","v":4},{"$f":"ROUND(MAX(_xlfn.NORM.INV(('Eingabe Email'!$B187+1)/MAX('Eingabe Email'!$B:$B),'H2 Originaldaten'!D55,7),2),1)","v":70.8},{"$f":"ROUND(MAX(_xlfn.NORM.INV(('Eingabe Email'!$B187+1)/MAX('Eingabe Email'!$B:$B),'H2 Originaldaten'!E55,7),2),1)","v":67.8},{"$f":"ROUND(MAX(_xlfn.NORM.INV(('Eingabe Email'!$B187+1)/MAX('Eingabe Email'!$B:$B),'H2 Originaldaten'!F55,7),2),1)","v":1611.8},{"$f":"ROUND(MAX(_xlfn.NORM.INV(('Eingabe Email'!$B187+1)/MAX('Eingabe Email'!$B:$B),'H2 Originaldaten'!G55,7),2),1)","v":16.8},{"$f":"'H2 Originaldaten'!H55","v":71},{"$f":"'H2 Originaldaten'!I55","v":3},{"$f":"'H2 Originaldaten'!J55","v":"datsun 1200"}]
[55,{"$f":"ROUND(MAX(_xlfn.NORM.INV(('Eingabe Email'!$B188+1)/MAX('Eingabe Email'!$B:$B),'H2 Originaldaten'!B56,7),2),1)","v":33.6},{"$f":"'H2 Originaldaten'!C56","v":4},{"$f":"ROUND(MAX(_xlfn.NORM.INV(('Eingabe Email'!$B188+1)/MAX('Eingabe Email'!$B:$B),'H2 Originaldaten'!D56,7),2),1)","v":103.6},{"$f":"ROUND(MAX(_xlfn.NORM.INV(('Eingabe Email'!$B188+1)/MAX('Eingabe Email'!$B:$B),'H2 Originaldaten'!E56,7),2),1)","v":66.599999999999994},{"$f":"ROUND(MAX(_xlfn.NORM.INV(('Eingabe Email'!$B188+1)/MAX('Eingabe Email'!$B:$B),'H2 Originaldaten'!F56,7),2),1)","v":1840.6},{"$f":"ROUND(MAX(_xlfn.NORM.INV(('Eingabe Email'!$B188+1)/MAX('Eingabe Email'!$B:$B),'H2 Originaldaten'!G56,7),2),1)","v":25.6},{"$f":"'H2 Originaldaten'!H56","v":71},{"$f":"'H2 Originaldaten'!I56","v":2},{"$f":"'H2 Originaldaten'!J56","v":"volkswagen model 111"}]
[56,{"$f":"ROUND(MAX(_xlfn.NORM.INV(('Eingabe Email'!$B189+1)/MAX('Eingabe Email'!$B:$B),'H2 Originaldaten'!B57,7),2),1)","v":25.2},{"$f":"'H2 Originaldaten'!C57","v":4},{"$f":"ROUND(MAX(_xlfn.NORM.INV(('Eingabe Email'!$B189+1)/MAX('Eingabe Email'!$B:$B),'H2 Originaldaten'!D57,7),2),1)","v":90.2},{"$f":"ROUND(MAX(_xlfn.NORM.INV(('Eingabe Email'!$B189+1)/MAX('Eingabe Email'!$B:$B),'H2 Originaldaten'!E57,7),2),1)","v":69.2},{"$f":"ROUND(MAX(_xlfn.NORM.INV(('Eingabe Email'!$B189+1)/MAX('Eingabe Email'!$B:$B),'H2 Originaldaten'!F57,7),2),1)","v":1954.2},{"$f":"ROUND(MAX(_xlfn.NORM.INV(('Eingabe Email'!$B189+1)/MAX('Eingabe Email'!$B:$B),'H2 Originaldaten'!G57,7),2),1)","v":19.7},{"$f":"'H2 Originaldaten'!H57","v":71},{"$f":"'H2 Originaldaten'!I57","v":1},{"$f":"'H2 Originaldaten'!J57","v":"plymouth cricket"}]
[57,{"$f":"ROUND(MAX(_xlfn.NORM.INV(('Eingabe Email'!$B190+1)/MAX('Eingabe Email'!$B:$B),'H2 Originaldaten'!B58,7),2),1)","v":24.2},{"$f":"'H2 Originaldaten'!C58","v":4},{"$f":"ROUND(MAX(_xlfn.NORM.INV(('Eingabe Email'!$B190+1)/MAX('Eingabe Email'!$B:$B),'H2 Originaldaten'!D58,7),2),1)","v":113.2},{"$f":"ROUND(MAX(_xlfn.NORM.INV(('Eingabe Email'!$B190+1)/MAX('Eingabe Email'!$B:$B),'H2 Originaldaten'!E58,7),2),1)","v":95.2},{"$f":"ROUND(MAX(_xlfn.NORM.INV(('Eingabe Email'!$B190+1)/MAX('Eingabe Email'!$B:$B),'H2 Originaldaten'!F58,7),2),1)","v":2278.1999999999998},{"$f":"ROUND(MAX(_xlfn.NORM.INV(('Eingabe Email'!$B190+1)/MAX('Eingabe Email'!$B:$B),'H2 Originaldaten'!G58,7),2),1)","v":15.7},{"$f":"'H2 Originaldaten'!H58","v":72},{"$f":"'H2 Originaldaten'!I58","v":3},{"$f":"'H2 Originaldaten'!J58","v":"toyota corona hardtop"}]
[58,{"$f":"ROUND(MAX(_xlfn.NORM.INV(('Eingabe Email'!$B191+1)/MAX('Eingabe Email'!$B:$B),'H2 Originaldaten'!B59,7),2),1)","v":21.5},{"$f":"'H2 Originaldaten'!C59","v":4},{"$f":"ROUND(MAX(_xlfn.NORM.INV(('Eingabe Email'!$B191+1)/MAX('Eingabe Email'!$B:$B),'H2 Originaldaten'!D59,7),2),1)","v":94},{"$f":"ROUND(MAX(_xlfn.NORM.INV(('Eingabe Email'!$B191+1)/MAX('Eingabe Email'!$B:$B),'H2 Originaldaten'!E59,7),2),1)","v":76.5},{"$f":"ROUND(MAX(_xlfn.NORM.INV(('Eingabe Email'!$B191+1)/MAX('Eingabe Email'!$B:$B),'H2 Originaldaten'!F59,7),2),1)","v":2122.5},{"$f":"ROUND(MAX(_xlfn.NORM.INV(('Eingabe Email'!$B191+1)/MAX('Eingabe Email'!$B:$B),'H2 Originaldaten'!G59,7),2),1)","v":13.5},{"$f":"'H2 Originaldaten'!H59","v":72},{"$f":"'H2 Originaldaten'!I59","v":1},{"$f":"'H2 Originaldaten'!J59","v":"dodge colt hardtop"}]
[59,{"$f":"ROUND(MAX(_xlfn.NORM.INV(('Eingabe Email'!$B192+1)/MAX('Eingabe Email'!$B:$B),'H2 Originaldaten'!B60,7),2),1)","v":29.6},{"$f":"'H2 Originaldaten'!C60","v":4},{"$f":"ROUND(MAX(_xlfn.NORM.INV(('Eingabe Email'!$B192+1)/MAX('Eingabe Email'!$B:$B),'H2 Originaldaten'!D60,7),2),1)","v":103.6},{"$f":"ROUND(MAX(_xlfn.NORM.INV(('Eingabe Email'!$B192+1)/MAX('Eingabe Email'!$B:$B),'H2 Originaldaten'!E60,7),2),1)","v":60.6},{"$f":"ROUND(MAX(_xlfn.NORM.INV(('Eingabe Email'!$B192+1)/MAX('Eingabe Email'!$B:$B),'H2 Originaldaten'!F60,7),2),1)","v":2260.6},{"$f":"ROUND(MAX(_xlfn.NORM.INV(('Eingabe Email'!$B192+1)/MAX('Eingabe Email'!$B:$B),'H2 Originaldaten'!G60,7),2),1)","v":30.1},{"$f":"'H2 Originaldaten'!H60","v":72},{"$f":"'H2 Originaldaten'!I60","v":2},{"$f":"'H2 Originaldaten'!J60","v":"volkswagen type 3"}]
[60,{"$f":"ROUND(MAX(_xlfn.NORM.INV(('Eingabe Email'!$B193+1)/MAX('Eingabe Email'!$B:$B),'H2 Originaldaten'!B61,7),2),1)","v":22.2},{"$f":"'H2 Originaldaten'!C61","v":4},{"$f":"ROUND(MAX(_xlfn.NORM.INV(('Eingabe Email'!$B193+1)/MAX('Eingabe Email'!$B:$B),'H2 Originaldaten'!D61,7),2),1)","v":142.19999999999999},{"$f":"ROUND(MAX(_xlfn.NORM.INV(('Eingabe Email'!$B193+1)/MAX('Eingabe Email'!$B:$B),'H2 Originaldaten'!E61,7),2),1)","v":92.2},{"$f":"ROUND(MAX(_xlfn.NORM.INV(('Eingabe Email'!$B193+1)/MAX('Eingabe Email'!$B:$B),'H2 Originaldaten'!F61,7),2),1)","v":2410.1999999999998},{"$f":"ROUND(MAX(_xlfn.NORM.INV(('Eingabe Email'!$B193+1)/MAX('Eingabe Email'!$B:$B),'H2 Originaldaten'!G61,7),2),1)","v":21.7},{"$f":"'H2 Originaldaten'!H61","v":72},{"$f":"'H2 Originaldaten'!I61","v":1},{"$f":"'H2 Originaldaten'!J61","v":"chevrolet vega"}]
[61,{"$f":"ROUND(MAX(_xlfn.NORM.INV(('Eingabe Email'!$B194+1)/MAX('Eingabe Email'!$B:$B),'H2 Originaldaten'!B62,7),2),1)","v":35.9},{"$f":"'H2 Originaldaten'!C62","v":4},{"$f":"ROUND(MAX(_xlfn.NORM.INV(('Eingabe Email'!$B194+1)/MAX('Eingabe Email'!$B:$B),'H2 Originaldaten'!D62,7),2),1)","v":136.9},{"$f":"ROUND(MAX(_xlfn.NORM.INV(('Eingabe Email'!$B194+1)/MAX('Eingabe Email'!$B:$B),'H2 Originaldaten'!E62,7),2),1)","v":100.9},{"$f":"ROUND(MAX(_xlfn.NORM.INV(('Eingabe Email'!$B194+1)/MAX('Eingabe Email'!$B:$B),'H2 Originaldaten'!F62,7),2),1)","v":2240.9},{"$f":"ROUND(MAX(_xlfn.NORM.INV(('Eingabe Email'!$B194+1)/MAX('Eingabe Email'!$B:$B),'H2 Originaldaten'!G62,7),2),1)","v":31.4},{"$f":"'H2 Originaldaten'!H62","v":72},{"$f":"'H2 Originaldaten'!I62","v":1},{"$f":"'H2 Originaldaten'!J62","v":"ford pinto runabout"}]
[62,{"$f":"ROUND(MAX(_xlfn.NORM.INV(('Eingabe Email'!$B195+1)/MAX('Eingabe Email'!$B:$B),'H2 Originaldaten'!B63,7),2),1)","v":14.5},{"$f":"'H2 Originaldaten'!C63","v":8},{"$f":"ROUND(MAX(_xlfn.NORM.INV(('Eingabe Email'!$B195+1)/MAX('Eingabe Email'!$B:$B),'H2 Originaldaten'!D63,7),2),1)","v":351.5},{"$f":"ROUND(MAX(_xlfn.NORM.INV(('Eingabe Email'!$B195+1)/MAX('Eingabe Email'!$B:$B),'H2 Originaldaten'!E63,7),2),1)","v":166.5},{"$f":"ROUND(MAX(_xlfn.NORM.INV(('Eingabe Email'!$B195+1)/MAX('Eingabe Email'!$B:$B),'H2 Originaldaten'!F63,7),2),1)","v":4275.5},{"$f":"ROUND(MAX(_xlfn.NORM.INV(('Eingabe Email'!$B195+1)/MAX('Eingabe Email'!$B:$B),'H2 Originaldaten'!G63,7),2),1)","v":13.5},{"$f":"'H2 Originaldaten'!H63","v":72},{"$f":"'H2 Originaldaten'!I63","v":1},{"$f":"'H2 Originaldaten'!J63","v":"chevrolet impala"}]
[63,{"$f":"ROUND(MAX(_xlfn.NORM.INV(('Eingabe Email'!$B196+1)/MAX('Eingabe Email'!$B:$B),'H2 Originaldaten'!B64,7),2),1)","v":15.9},{"$f":"'H2 Originaldaten'!C64","v":8},{"$f":"ROUND(MAX(_xlfn.NORM.INV(('Eingabe Email'!$B196+1)/MAX('Eingabe Email'!$B:$B),'H2 Originaldaten'!D64,7),2),1)","v":401.9},{"$f":"ROUND(MAX(_xlfn.NORM.INV(('Eingabe Email'!$B196+1)/MAX('Eingabe Email'!$B:$B),'H2 Originaldaten'!E64,7),2),1)","v":176.9},{"$f":"ROUND(MAX(_xlfn.NORM.INV(('Eingabe Email'!$B196+1)/MAX('Eingabe Email'!$B:$B),'H2 Originaldaten'!F64,7),2),1)","v":4386.8999999999996},{"$f":"ROUND(MAX(_xlfn.NORM.INV(('Eingabe Email'!$B196+1)/MAX('Eingabe Email'!$B:$B),'H2 Originaldaten'!G64,7),2),1)","v":13.9},{"$f":"'H2 Originaldaten'!H64","v":72},{"$f":"'H2 Originaldaten'!I64","v":1},{"$f":"'H2 Originaldaten'!J64","v":"pontiac catalina"}]
[64,{"$f":"ROUND(MAX(_xlfn.NORM.INV(('Eingabe Email'!$B197+1)/MAX('Eingabe Email'!$B:$B),'H2 Originaldaten'!B65,7),2),1)","v":11.2},{"$f":"'H2 Originaldaten'!C65","v":8},{"$f":"ROUND(MAX(_xlfn.NORM.INV(('Eingabe Email'!$B197+1)/MAX('Eingabe Email'!$B:$B),'H2 Originaldaten'!D65,7),2),1)","v":314.2},{"$f":"ROUND(MAX(_xlfn.NORM.INV(('Eingabe Email'!$B197+1)/MAX('Eingabe Email'!$B:$B),'H2 Originaldaten'!E65,7),2),1)","v":146.19999999999999},{"$f":"ROUND(MAX(_xlfn.NORM.INV(('Eingabe Email'!$B197+1)/MAX('Eingabe Email'!$B:$B),'H2 Originaldaten'!F65,7),2),1)","v":4131.2},{"$f":"ROUND(MAX(_xlfn.NORM.INV(('Eingabe Email'!$B197+1)/MAX('Eingabe Email'!$B:$B),'H2 Originaldaten'!G65,7),2),1)","v":9.6999999999999993},{"$f":"'H2 Originaldaten'!H65","v":72},{"$f":"'H2 Originaldaten'!I65","v":1},{"$f":"'H2 Originaldaten'!J65","v":"plymouth fury iii"}]
[65,{"$f":"ROUND(MAX(_xlfn.NORM.INV(('Eingabe Email'!$B198+1)/MAX('Eingabe Email'!$B:$B),'H2 Originaldaten'!B66,7),2),1)","v":2},{"$f":"'H2 Originaldaten'!C66","v":8},{"$f":"ROUND(MAX(_xlfn.NORM.INV(('Eingabe Email'!$B198+1)/MAX('Eingabe Email'!$B:$B),'H2 Originaldaten'!D66,7),2),1)","v":336.2},{"$f":"ROUND(MAX(_xlfn.NORM.INV(('Eingabe Email'!$B198+1)/MAX('Eingabe Email'!$B:$B),'H2 Originaldaten'!E66,7),2),1)","v":138.19999999999999},{"$f":"ROUND(MAX(_xlfn.NORM.INV(('Eingabe Email'!$B198+1)/MAX('Eingabe Email'!$B:$B),'H2 Originaldaten'!F66,7),2),1)","v":4114.2},{"$f":"ROUND(MAX(_xlfn.NORM.INV(('Eingabe Email'!$B198+1)/MAX('Eingabe Email'!$B:$B),'H2 Originaldaten'!G66,7),2),1)","v":2},{"$f":"'H2 Originaldaten'!H66","v":72},{"$f":"'H2 Originaldaten'!I66","v":1},{"$f":"'H2 Originaldaten'!J66","v":"ford galaxie 500"}]
[66,{"$f":"ROUND(MAX(_xlfn.NORM.INV(('Eingabe Email'!$B199+1)/MAX('Eingabe Email'!$B:$B),'H2 Originaldaten'!B67,7),2),1)","v":18.2},{"$f":"'H2 Originaldaten'!C67","v":8},{"$f":"ROUND(MAX(_xlfn.NORM.INV(('Eingabe Email'!$B199+1)/MAX('Eingabe Email'!$B:$B),'H2 Originaldaten'!D67,7),2),1)","v":305.2},{"$f":"ROUND(MAX(_xlfn.NORM.INV(('Eingabe Email'!$B199+1)/MAX('Eingabe Email'!$B:$B),'H2 Originaldaten'!E67,7),2),1)","v":151.19999999999999},{"$f":"ROUND(MAX(_xlfn.NORM.INV(('Eingabe Email'!$B199+1)/MAX('Eingabe Email'!$B:$B),'H2 Originaldaten'!F67,7),2),1)","v":3673.2},{"$f":"ROUND(MAX(_xlfn.NORM.INV(('Eingabe Email'!$B199+1)/MAX('Eingabe Email'!$B:$B),'H2 Originaldaten'!G67,7),2),1)","v":12.7},{"$f":"'H2 Originaldaten'!H67","v":72},{"$f":"'H2 Originaldaten'!I67","v":1},{"$f":"'H2 Originaldaten'!J67","v":"amc ambassador sst"}]
[67,{"$f":"ROUND(MAX(_xlfn.NORM.INV(('Eingabe Email'!$B200+1)/MAX('Eingabe Email'!$B:$B),'H2 Originaldaten'!B68,7),2),1)","v":13.8},{"$f":"'H2 Originaldaten'!C68","v":8},{"$f":"ROUND(MAX(_xlfn.NORM.INV(('Eingabe Email'!$B200+1)/MAX('Eingabe Email'!$B:$B),'H2 Originaldaten'!D68,7),2),1)","v":431.8},{"$f":"ROUND(MAX(_xlfn.NORM.INV(('Eingabe Email'!$B200+1)/MAX('Eingabe Email'!$B:$B),'H2 Originaldaten'!E68,7),2),1)","v":210.8},{"$f":"ROUND(MAX(_xlfn.NORM.INV(('Eingabe Email'!$B200+1)/MAX('Eingabe Email'!$B:$B),'H2 Originaldaten'!F68,7),2),1)","v":4635.8},{"$f":"ROUND(MAX(_xlfn.NORM.INV(('Eingabe Email'!$B200+1)/MAX('Eingabe Email'!$B:$B),'H2 Originaldaten'!G68,7),2),1)","v":13.8},{"$f":"'H2 Originaldaten'!H68","v":72},{"$f":"'H2 Originaldaten'!I68","v":1},{"$f":"'H2 Originaldaten'!J68","v":"mercury marquis"}]
[68,{"$f":"ROUND(MAX(_xlfn.NORM.INV(('Eingabe Email'!$B201+1)/MAX('Eingabe Email'!$B:$B),'H2 Originaldaten'!B69,7),2),1)","v":6},{"$f":"'H2 Originaldaten'!C69","v":8},{"$f":"ROUND(MAX(_xlfn.NORM.INV(('Eingabe Email'!$B201+1)/MAX('Eingabe Email'!$B:$B),'H2 Originaldaten'!D69,7),2),1)","v":343},{"$f":"ROUND(MAX(_xlfn.NORM.INV(('Eingabe Email'!$B201+1)/MAX('Eingabe Email'!$B:$B),'H2 Originaldaten'!E69,7),2),1)","v":148},{"$f":"ROUND(MAX(_xlfn.NORM.INV(('Eingabe Email'!$B201+1)/MAX('Eingabe Email'!$B:$B),'H2 Originaldaten'!F69,7),2),1)","v":4495},{"$f":"ROUND(MAX(_xlfn.NORM.INV(('Eingabe Email'!$B201+1)/MAX('Eingabe Email'!$B:$B),'H2 Originaldaten'!G69,7),2),1)","v":6.5},{"$f":"'H2 Originaldaten'!H69","v":72},{"$f":"'H2 Originaldaten'!I69","v":1},{"$f":"'H2 Originaldaten'!J69","v":"buick lesabre custom"}]
[69,{"$f":"ROUND(MAX(_xlfn.NORM.INV(('Eingabe Email'!$B202+1)/MAX('Eingabe Email'!$B:$B),'H2 Originaldaten'!B70,7),2),1)","v":14},{"$f":"'H2 Originaldaten'!C70","v":8},{"$f":"ROUND(MAX(_xlfn.NORM.INV(('Eingabe Email'!$B202+1)/MAX('Eingabe Email'!$B:$B),'H2 Originaldaten'!D70,7),2),1)","v":352},{"$f":"ROUND(MAX(_xlfn.NORM.INV(('Eingabe Email'!$B202+1)/MAX('Eingabe Email'!$B:$B),'H2 Originaldaten'!E70,7),2),1)","v":162},{"$f":"ROUND(MAX(_xlfn.NORM.INV(('Eingabe Email'!$B202+1)/MAX('Eingabe Email'!$B:$B),'H2 Originaldaten'!F70,7),2),1)","v":4458},{"$f":"ROUND(MAX(_xlfn.NORM.INV(('Eingabe Email'!$B202+1)/MAX('Eingabe Email'!$B:$B),'H2 Originaldaten'!G70,7),2),1)","v":15.5},{"$f":"'H2 Originaldaten'!H70","v":72},{"$f":"'H2 Originaldaten'!I70","v":1},{"$f":"'H2 Originaldaten'!J70","v":"oldsmobile delta 88 royale"}]
[70,{"$f":"ROUND(MAX(_xlfn.NORM.INV(('Eingabe Email'!$B203+1)/MAX('Eingabe Email'!$B:$B),'H2 Originaldaten'!B71,7),2),1)","v":25.5},{"$f":"'H2 Originaldaten'!C71","v":8},{"$f":"ROUND(MAX(_xlfn.NORM.INV(('Eingabe Email'!$B203+1)/MAX('Eingabe Email'!$B:$B),'H2 Originaldaten'!D71,7),2),1)","v":412.5},{"$f":"ROUND(MAX(_xlfn.NORM.INV(('Eingabe Email'!$B203+1)/MAX('Eingabe Email'!$B:$B),'H2 Originaldaten'!E71,7),2),1)","v":202.5},{"$f":"ROUND(MAX(_xlfn.NORM.INV(('Eingabe Email'!$B203+1)/MAX('Eingabe Email'!$B:$B),'H2 Originaldaten'!F71,7),2),1)","v":4434.5},{"$f":"ROUND(MAX(_xlfn.NORM.INV(('Eingabe Email'!$B203+1)/MAX('Eingabe Email'!$B:$B),'H2 Originaldaten'!G71,7),2),1)","v":25},{"$f":"'H2 Originaldaten'!H71","v":72},{"$f":"'H2 Originaldaten'!I71","v":1},{"$f":"'H2 Originaldaten'!J71","v":"chrysler newport royal"}]
[71,{"$f":"ROUND(MAX(_xlfn.NORM.INV(('Eingabe Email'!$B204+1)/MAX('Eingabe Email'!$B:$B),'H2 Originaldaten'!B72,7),2),1)","v":14.9},{"$f":"'H2 Originaldaten'!C72","v":3},{"$f":"ROUND(MAX(_xlfn.NORM.INV(('Eingabe Email'!$B204+1)/MAX('Eingabe Email'!$B:$B),'H2 Originaldaten'!D72,7),2),1)","v":65.900000000000006},{"$f":"ROUND(MAX(_xlfn.NORM.INV(('Eingabe Email'!$B204+1)/MAX('Eingabe Email'!$B:$B),'H2 Originaldaten'!E72,7),2),1)","v":92.9},{"$f":"ROUND(MAX(_xlfn.NORM.INV(('Eingabe Email'!$B204+1)/MAX('Eingabe Email'!$B:$B),'H2 Originaldaten'!F72,7),2),1)","v":2325.9},{"$f":"ROUND(MAX(_xlfn.NORM.INV(('Eingabe Email'!$B204+1)/MAX('Eingabe Email'!$B:$B),'H2 Originaldaten'!G72,7),2),1)","v":9.4},{"$f":"'H2 Originaldaten'!H72","v":72},{"$f":"'H2 Originaldaten'!I72","v":3},{"$f":"'H2 Originaldaten'!J72","v":"mazda rx2 coupe"}]
[72,{"$f":"ROUND(MAX(_xlfn.NORM.INV(('Eingabe Email'!$B205+1)/MAX('Eingabe Email'!$B:$B),'H2 Originaldaten'!B73,7),2),1)","v":2},{"$f":"'H2 Originaldaten'!C73","v":8},{"$f":"ROUND(MAX(_xlfn.NORM.INV(('Eingabe Email'!$B205+1)/MAX('Eingabe Email'!$B:$B),'H2 Originaldaten'!D73,7),2),1)","v":290},{"$f":"ROUND(MAX(_xlfn.NORM.INV(('Eingabe Email'!$B205+1)/MAX('Eingabe Email'!$B:$B),'H2 Originaldaten'!E73,7),2),1)","v":136},{"$f":"ROUND(MAX(_xlfn.NORM.INV(('Eingabe Email'!$B205+1)/MAX('Eingabe Email'!$B:$B),'H2 Originaldaten'!F73,7),2),1)","v":3878},{"$f":"ROUND(MAX(_xlfn.NORM.INV(('Eingabe Email'!$B205+1)/MAX('Eingabe Email'!$B:$B),'H2 Originaldaten'!G73,7),2),1)","v":2},{"$f":"'H2 Originaldaten'!H73","v":72},{"$f":"'H2 Originaldaten'!I73","v":1},{"$f":"'H2 Originaldaten'!J73","v":"amc matador (sw)"}]
[73,{"$f":"ROUND(MAX(_xlfn.NORM.INV(('Eingabe Email'!$B206+1)/MAX('Eingabe Email'!$B:$B),'H2 Originaldaten'!B74,7),2),1)","v":26.3},{"$f":"'H2 Originaldaten'!C74","v":8},{"$f":"ROUND(MAX(_xlfn.NORM.INV(('Eingabe Email'!$B206+1)/MAX('Eingabe Email'!$B:$B),'H2 Originaldaten'!D74,7),2),1)","v":320.3},{"$f":"ROUND(MAX(_xlfn.NORM.INV(('Eingabe Email'!$B206+1)/MAX('Eingabe Email'!$B:$B),'H2 Originaldaten'!E74,7),2),1)","v":143.30000000000001},{"$f":"ROUND(MAX(_xlfn.NORM.INV(('Eingabe Email'!$B206+1)/MAX('Eingabe Email'!$B:$B),'H2 Originaldaten'!F74,7),2),1)","v":4111.3},{"$f":"ROUND(MAX(_xlfn.NORM.INV(('Eingabe Email'!$B206+1)/MAX('Eingabe Email'!$B:$B),'H2 Originaldaten'!G74,7),2),1)","v":27.3},{"$f":"'H2 Originaldaten'!H74","v":72},{"$f":"'H2 Originaldaten'!I74","v":1},{"$f":"'H2 Originaldaten'!J74","v":"chevrolet chevelle concours (sw)"}]
[74,{"$f":"ROUND(MAX(_xlfn.NORM.INV(('Eingabe Email'!$B207+1)/MAX('Eingabe Email'!$B:$B),'H2 Originaldaten'!B75,7),2),1)","v":12.3},{"$f":"'H2 Originaldaten'!C75","v":8},{"$f":"ROUND(MAX(_xlfn.NORM.INV(('Eingabe Email'!$B207+1)/MAX('Eingabe Email'!$B:$B),'H2 Originaldaten'!D75,7),2),1)","v":301.3},{"$f":"ROUND(MAX(_xlfn.NORM.INV(('Eingabe Email'!$B207+1)/MAX('Eingabe Email'!$B:$B),'H2 Originaldaten'!E75,7),2),1)","v":139.30000000000001},{"$f":"ROUND(MAX(_xlfn.NORM.INV(('Eingabe Email'!$B207+1)/MAX('Eingabe Email'!$B:$B),'H2 Originaldaten'!F75,7),2),1)","v":4293.3},{"$f":"ROUND(MAX(_xlfn.NORM.INV(('Eingabe Email'!$B207+1)/MAX('Eingabe Email'!$B:$B),'H2 Originaldaten'!G75,7),2),1)","v":15.3},{"$f":"'H2 Originaldaten'!H75","v":72},{"$f":"'H2 Originaldaten'!I75","v":1},{"$f":"'H2 Originaldaten'!J75","v":"ford gran torino (sw)"}]
[75,{"$f":"ROUND(MAX(_xlfn.NORM.INV(('Eingabe Email'!$B208+1)/MAX('Eingabe Email'!$B:$B),'H2 Originaldaten'!B76,7),2),1)","v":2},{"$f":"'H2 Originaldaten'!C76","v":8},{"$f":"ROUND(MAX(_xlfn.NORM.INV(('Eingabe Email'!$B208+1)/MAX('Eingabe Email'!$B:$B),'H2 Originaldaten'!D76,7),2),1)","v":303.2},{"$f":"ROUND(MAX(_xlfn.NORM.INV(('Eingabe Email'!$B208+1)/MAX('Eingabe Email'!$B:$B),'H2 Originaldaten'!E76,7),2),1)","v":135.19999999999999},{"$f":"ROUND(MAX(_xlfn.NORM.INV(('Eingabe Email'!$B208+1)/MAX('Eingabe Email'!$B:$B),'H2 Originaldaten'!F76,7),2),1)","v":4062.2},{"$f":"ROUND(MAX(_xlfn.NORM.INV(('Eingabe Email'!$B208+1)/MAX('Eingabe Email'!$B:$B),'H2 Originaldaten'!G76,7),2),1)","v":2},{"$f":"'H2 Originaldaten'!H76","v":72},{"$f":"'H2 Originaldaten'!I76","v":1},{"$f":"'H2 Originaldaten'!J76","v":"plymouth satellite custom (sw)"}]
[76,{"$f":"ROUND(MAX(_xlfn.NORM.INV(('Eingabe Email'!$B209+1)/MAX('Eingabe Email'!$B:$B),'H2 Originaldaten'!B77,7),2),1)","v":17},{"$f":"'H2 Originaldaten'!C77","v":4},{"$f":"ROUND(MAX(_xlfn.NORM.INV(('Eingabe Email'!$B209+1)/MAX('Eingabe Email'!$B:$B),'H2 Originaldaten'!D77,7),2),1)","v":120},{"$f":"ROUND(MAX(_xlfn.NORM.INV(('Eingabe Email'!$B209+1)/MAX('Eingabe Email'!$B:$B),'H2 Originaldaten'!E77,7),2),1)","v":111},{"$f":"ROUND(MAX(_xlfn.NORM.INV(('Eingabe Email'!$B209+1)/MAX('Eingabe Email'!$B:$B),'H2 Originaldaten'!F77,7),2),1)","v":2932},{"$f":"ROUND(MAX(_xlfn.NORM.INV(('Eingabe Email'!$B209+1)/MAX('Eingabe Email'!$B:$B),'H2 Originaldaten'!G77,7),2),1)","v":13.5},{"$f":"'H2 Originaldaten'!H77","v":72},{"$f":"'H2 Originaldaten'!I77","v":2},{"$f":"'H2 Originaldaten'!J77","v":"volvo 145e (sw)"}]
[77,{"$f":"ROUND(MAX(_xlfn.NORM.INV(('Eingabe Email'!$B210+1)/MAX('Eingabe Email'!$B:$B),'H2 Originaldaten'!B78,7),2),1)","v":25.6},{"$f":"'H2 Originaldaten'!C78","v":4},{"$f":"ROUND(MAX(_xlfn.NORM.INV(('Eingabe Email'!$B210+1)/MAX('Eingabe Email'!$B:$B),'H2 Originaldaten'!D78,7),2),1)","v":124.6},{"$f":"ROUND(MAX(_xlfn.NORM.INV(('Eingabe Email'!$B210+1)/MAX('Eingabe Email'!$B:$B),'H2 Originaldaten'!E78,7),2),1)","v":79.599999999999994},{"$f":"ROUND(MAX(_xlfn.NORM.INV(('Eingabe Email'!$B210+1)/MAX('Eingabe Email'!$B:$B),'H2 Originaldaten'!F78,7),2),1)","v":2514.6},{"$f":"ROUND(MAX(_xlfn.NORM.INV(('Eingabe Email'!$B210+1)/MAX('Eingabe Email'!$B:$B),'H2 Originaldaten'!G78,7),2),1)","v":21.6},{"$f":"'H2 Originaldaten'!H78","v":72},{"$f":"'H2 Originaldaten'!I78","v":2},{"$f":"'H2 Originaldaten'!J78","v":"volkswagen 411 (sw)"}]
[78,{"$f":"ROUND(MAX(_xlfn.NORM.INV(('Eingabe Email'!$B211+1)/MAX('Eingabe Email'!$B:$B),'H2 Originaldaten'!B79,7),2),1)","v":19.7},{"$f":"'H2 Originaldaten'!C79","v":4},{"$f":"ROUND(MAX(_xlfn.NORM.INV(('Eingabe Email'!$B211+1)/MAX('Eingabe Email'!$B:$B),'H2 Originaldaten'!D79,7),2),1)","v":118.7},{"$f":"ROUND(MAX(_xlfn.NORM.INV(('Eingabe Email'!$B211+1)/MAX('Eingabe Email'!$B:$B),'H2 Originaldaten'!E79,7),2),1)","v":85.7},{"$f":"ROUND(MAX(_xlfn.NORM.INV(('Eingabe Email'!$B211+1)/MAX('Eingabe Email'!$B:$B),'H2 Originaldaten'!F79,7),2),1)","v":2977.7},{"$f":"ROUND(MAX(_xlfn.NORM.INV(('Eingabe Email'!$B211+1)/MAX('Eingabe Email'!$B:$B),'H2 Originaldaten'!G79,7),2),1)","v":18.2},{"$f":"'H2 Originaldaten'!H79","v":72},{"$f":"'H2 Originaldaten'!I79","v":2},{"$f":"'H2 Originaldaten'!J79","v":"peugeot 504 (sw)"}]
[79,{"$f":"ROUND(MAX(_xlfn.NORM.INV(('Eingabe Email'!$B212+1)/MAX('Eingabe Email'!$B:$B),'H2 Originaldaten'!B80,7),2),1)","v":8.1},{"$f":"'H2 Originaldaten'!C80","v":4},{"$f":"ROUND(MAX(_xlfn.NORM.INV(('Eingabe Email'!$B212+1)/MAX('Eingabe Email'!$B:$B),'H2 Originaldaten'!D80,7),2),1)","v":78.099999999999994},{"$f":"ROUND(MAX(_xlfn.NORM.INV(('Eingabe Email'!$B212+1)/MAX('Eingabe Email'!$B:$B),'H2 Originaldaten'!E80,7),2),1)","v":51.1},{"$f":"ROUND(MAX(_xlfn.NORM.INV(('Eingabe Email'!$B212+1)/MAX('Eingabe Email'!$B:$B),'H2 Originaldaten'!F80,7),2),1)","v":2171.1},{"$f":"ROUND(MAX(_xlfn.NORM.INV(('Eingabe Email'!$B212+1)/MAX('Eingabe Email'!$B:$B),'H2 Originaldaten'!G80,7),2),1)","v":2},{"$f":"'H2 Originaldaten'!H80","v":72},{"$f":"'H2 Originaldaten'!I80","v":2},{"$f":"'H2 Originaldaten'!J80","v":"renault 12 (sw)"}]
[80,{"$f":"ROUND(MAX(_xlfn.NORM.INV(('Eingabe Email'!$B213+1)/MAX('Eingabe Email'!$B:$B),'H2 Originaldaten'!B81,7),2),1)","v":20.3},{"$f":"'H2 Originaldaten'!C81","v":4},{"$f":"ROUND(MAX(_xlfn.NORM.INV(('Eingabe Email'!$B213+1)/MAX('Eingabe Email'!$B:$B),'H2 Originaldaten'!D81,7),2),1)","v":120.3},{"$f":"ROUND(MAX(_xlfn.NORM.INV(('Eingabe Email'!$B213+1)/MAX('Eingabe Email'!$B:$B),'H2 Originaldaten'!E81,7),2),1)","v":84.3},{"$f":"ROUND(MAX(_xlfn.NORM.INV(('Eingabe Email'!$B213+1)/MAX('Eingabe Email'!$B:$B),'H2 Originaldaten'!F81,7),2),1)","v":2393.3000000000002},{"$f":"ROUND(MAX(_xlfn.NORM.INV(('Eingabe Email'!$B213+1)/MAX('Eingabe Email'!$B:$B),'H2 Originaldaten'!G81,7),2),1)","v":14.3},{"$f":"'H2 Originaldaten'!H81","v":72},{"$f":"'H2 Originaldaten'!I81","v":1},{"$f":"'H2 Originaldaten'!J81","v":"ford pinto (sw)"}]
[81,{"$f":"ROUND(MAX(_xlfn.NORM.INV(('Eingabe Email'!$B214+1)/MAX('Eingabe Email'!$B:$B),'H2 Originaldaten'!B82,7),2),1)","v":25.1},{"$f":"'H2 Originaldaten'!C82","v":4},{"$f":"ROUND(MAX(_xlfn.NORM.INV(('Eingabe Email'!$B214+1)/MAX('Eingabe Email'!$B:$B),'H2 Originaldaten'!D82,7),2),1)","v":94.1},{"$f":"ROUND(MAX(_xlfn.NORM.INV(('Eingabe Email'!$B214+1)/MAX('Eingabe Email'!$B:$B),'H2 Originaldaten'!E82,7),2),1)","v":89.1},{"$f":"ROUND(MAX(_xlfn.NORM.INV(('Eingabe Email'!$B214+1)/MAX('Eingabe Email'!$B:$B),'H2 Originaldaten'!F82,7),2),1)","v":2285.1},{"$f":"ROUND(MAX(_xlfn.NORM.INV(('Eingabe Email'!$B214+1)/MAX('Eingabe Email'!$B:$B),'H2 Originaldaten'!G82,7),2),1)","v":14.1},{"$f":"'H2 Originaldaten'!H82","v":72},{"$f":"'H2 Originaldaten'!I82","v":3},{"$f":"'H2 Originaldaten'!J82","v":"datsun 510 (sw)"}]
[82,{"$f":"ROUND(MAX(_xlfn.NORM.INV(('Eingabe Email'!$B215+1)/MAX('Eingabe Email'!$B:$B),'H2 Originaldaten'!B83,7),2),1)","v":20},{"$f":"'H2 Originaldaten'!C83","v":4},{"$f":"ROUND(MAX(_xlfn.NORM.INV(('Eingabe Email'!$B215+1)/MAX('Eingabe Email'!$B:$B),'H2 Originaldaten'!D83,7),2),1)","v":117},{"$f":"ROUND(MAX(_xlfn.NORM.INV(('Eingabe Email'!$B215+1)/MAX('Eingabe Email'!$B:$B),'H2 Originaldaten'!E83,7),2),1)","v":94},{"$f":"ROUND(MAX(_xlfn.NORM.INV(('Eingabe Email'!$B215+1)/MAX('Eingabe Email'!$B:$B),'H2 Originaldaten'!F83,7),2),1)","v":2503},{"$f":"ROUND(MAX(_xlfn.NORM.INV(('Eingabe Email'!$B215+1)/MAX('Eingabe Email'!$B:$B),'H2 Originaldaten'!G83,7),2),1)","v":11.5},{"$f":"'H2 Originaldaten'!H83","v":72},{"$f":"'H2 Originaldaten'!I83","v":3},{"$f":"'H2 Originaldaten'!J83","v":"toyouta corona mark ii (sw)"}]
[83,{"$f":"ROUND(MAX(_xlfn.NORM.INV(('Eingabe Email'!$B216+1)/MAX('Eingabe Email'!$B:$B),'H2 Originaldaten'!B84,7),2),1)","v":25.2},{"$f":"'H2 Originaldaten'!C84","v":4},{"$f":"ROUND(MAX(_xlfn.NORM.INV(('Eingabe Email'!$B216+1)/MAX('Eingabe Email'!$B:$B),'H2 Originaldaten'!D84,7),2),1)","v":95.2},{"$f":"ROUND(MAX(_xlfn.NORM.INV(('Eingabe Email'!$B216+1)/MAX('Eingabe Email'!$B:$B),'H2 Originaldaten'!E84,7),2),1)","v":77.2},{"$f":"ROUND(MAX(_xlfn.NORM.INV(('Eingabe Email'!$B216+1)/MAX('Eingabe Email'!$B:$B),'H2 Originaldaten'!F84,7),2),1)","v":2161.1999999999998},{"$f":"ROUND(MAX(_xlfn.NORM.INV(('Eingabe Email'!$B216+1)/MAX('Eingabe Email'!$B:$B),'H2 Originaldaten'!G84,7),2),1)","v":12.2},{"$f":"'H2 Originaldaten'!H84","v":72},{"$f":"'H2 Originaldaten'!I84","v":1},{"$f":"'H2 Originaldaten'!J84","v":"dodge colt (sw)"}]
[84,{"$f":"ROUND(MAX(_xlfn.NORM.INV(('Eingabe Email'!$B217+1)/MAX('Eingabe Email'!$B:$B),'H2 Originaldaten'!B85,7),2),1)","v":38.299999999999997},{"$f":"'H2 Originaldaten'!C85","v":4},{"$f":"ROUND(MAX(_xlfn.NORM.INV(('Eingabe Email'!$B217+1)/MAX('Eingabe Email'!$B:$B),'H2 Originaldaten'!D85,7),2),1)","v":108.3},{"$f":"ROUND(MAX(_xlfn.NORM.INV(('Eingabe Email'!$B217+1)/MAX('Eingabe Email'!$B:$B),'H2 Originaldaten'!E85,7),2),1)","v":99.3},{"$f":"ROUND(MAX(_xlfn.NORM.INV(('Eingabe Email'!$B217+1)/MAX('Eingabe Email'!$B:$B),'H2 Originaldaten'!F85,7),2),1)","v":2111.3000000000002},{"$f":"ROUND(MAX(_xlfn.NORM.INV(('Eingabe Email'!$B217+1)/MAX('Eingabe Email'!$B:$B),'H2 Originaldaten'!G85,7),2),1)","v":27.8},{"$f":"'H2 Originaldaten'!H85","v":72},{"$f":"'H2 Originaldaten'!I85","v":3},{"$f":"'H2 Originaldaten'!J85","v":"toyota corolla 1600 (sw)"}]
[85,{"$f":"ROUND(MAX(_xlfn.NORM.INV(('Eingabe Email'!$B218+1)/MAX('Eingabe Email'!$B:$B),'H2 Originaldaten'!B86,7),2),1)","v":2},{"$f":"'H2 Originaldaten'!C86","v":8},{"$f":"ROUND(MAX(_xlfn.NORM.INV(('Eingabe Email'!$B218+1)/MAX('Eingabe Email'!$B:$B),'H2 Originaldaten'!D86,7),2),1)","v":333.4},{"$f":"ROUND(MAX(_xlfn.NORM.INV(('Eingabe Email'!$B218+1)/MAX('Eingabe Email'!$B:$B),'H2 Originaldaten'!E86,7),2),1)","v":158.4},{"$f":"ROUND(MAX(_xlfn.NORM.INV(('Eingabe Email'!$B218+1)/MAX('Eingabe Email'!$B:$B),'H2 Originaldaten'!F86,7),2),1)","v":4083.4},{"$f":"ROUND(MAX(_xlfn.NORM.INV(('Eingabe Email'!$B218+1)/MAX('Eingabe Email'!$B:$B),'H2 Originaldaten'!G86,7),2),1)","v":2},{"$f":"'H2 Originaldaten'!H86","v":73},{"$f":"'H2 Originaldaten'!I86","v":1},{"$f":"'H2 Originaldaten'!J86","v":"buick century 350"}]
[86,{"$f":"ROUND(MAX(_xlfn.NORM.INV(('Eingabe Email'!$B219+1)/MAX('Eingabe Email'!$B:$B),'H2 Originaldaten'!B87,7),2),1)","v":9.9},{"$f":"'H2 Originaldaten'!C87","v":8},{"$f":"ROUND(MAX(_xlfn.NORM.INV(('Eingabe Email'!$B219+1)/MAX('Eingabe Email'!$B:$B),'H2 Originaldaten'!D87,7),2),1)","v":299.89999999999998},{"$f":"ROUND(MAX(_xlfn.NORM.INV(('Eingabe Email'!$B219+1)/MAX('Eingabe Email'!$B:$B),'H2 Originaldaten'!E87,7),2),1)","v":145.9},{"$f":"ROUND(MAX(_xlfn.NORM.INV(('Eingabe Email'!$B219+1)/MAX('Eingabe Email'!$B:$B),'H2 Originaldaten'!F87,7),2),1)","v":3667.9},{"$f":"ROUND(MAX(_xlfn.NORM.INV(('Eingabe Email'!$B219+1)/MAX('Eingabe Email'!$B:$B),'H2 Originaldaten'!G87,7),2),1)","v":7.4},{"$f":"'H2 Originaldaten'!H87","v":73},{"$f":"'H2 Originaldaten'!I87","v":1},{"$f":"'H2 Originaldaten'!J87","v":"amc matador"}]
[87,{"$f":"ROUND(MAX(_xlfn.NORM.INV(('Eingabe Email'!$B220+1)/MAX('Eingabe Email'!$B:$B),'H2 Originaldaten'!B88,7),2),1)","v":12.3},{"$f":"'H2 Originaldaten'!C88","v":8},{"$f":"ROUND(MAX(_xlfn.NORM.INV(('Eingabe Email'!$B220+1)/MAX('Eingabe Email'!$B:$B),'H2 Originaldaten'!D88,7),2),1)","v":349.3},{"$f":"ROUND(MAX(_xlfn.NORM.INV(('Eingabe Email'!$B220+1)/MAX('Eingabe Email'!$B:$B),'H2 Originaldaten'!E88,7),2),1)","v":144.30000000000001},{"$f":"ROUND(MAX(_xlfn.NORM.INV(('Eingabe Email'!$B220+1)/MAX('Eingabe Email'!$B:$B),'H2 Originaldaten'!F88,7),2),1)","v":3987.3},{"$f":"ROUND(MAX(_xlfn.NORM.INV(('Eingabe Email'!$B220+1)/MAX('Eingabe Email'!$B:$B),'H2 Originaldaten'!G88,7),2),1)","v":12.3},{"$f":"'H2 Originaldaten'!H88","v":73},{"$f":"'H2 Originaldaten'!I88","v":1},{"$f":"'H2 Originaldaten'!J88","v":"chevrolet malibu"}]
[88,{"$f":"ROUND(MAX(_xlfn.NORM.INV(('Eingabe Email'!$B221+1)/MAX('Eingabe Email'!$B:$B),'H2 Originaldaten'!B89,7),2),1)","v":9.6},{"$f":"'H2 Originaldaten'!C89","v":8},{"$f":"ROUND(MAX(_xlfn.NORM.INV(('Eingabe Email'!$B221+1)/MAX('Eingabe Email'!$B:$B),'H2 Originaldaten'!D89,7),2),1)","v":297.60000000000002},{"$f":"ROUND(MAX(_xlfn.NORM.INV(('Eingabe Email'!$B221+1)/MAX('Eingabe Email'!$B:$B),'H2 Originaldaten'!E89,7),2),1)","v":132.6},{"$f":"ROUND(MAX(_xlfn.NORM.INV(('Eingabe Email'!$B221+1)/MAX('Eingabe Email'!$B:$B),'H2 Originaldaten'!F89,7),2),1)","v":4037.6},{"$f":"ROUND(MAX(_xlfn.NORM.INV(('Eingabe Email'!$B221+1)/MAX('Eingabe Email'!$B:$B),'H2 Originaldaten'!G89,7),2),1)","v":10.1},{"$f":"'H2 Originaldaten'!H89","v":73},{"$f":"'H2 Originaldaten'!I89","v":1},{"$f":"'H2 Originaldaten'!J89","v":"ford gran torino"}]
[89,{"$f":"ROUND(MAX(_xlfn.NORM.INV(('Eingabe Email'!$B222+1)/MAX('Eingabe Email'!$B:$B),'H2 Originaldaten'!B90,7),2),1)","v":10.9},{"$f":"'H2 Originaldaten'!C90","v":8},{"$f":"ROUND(MAX(_xlfn.NORM.INV(('Eingabe Email'!$B222+1)/MAX('Eingabe Email'!$B:$B),'H2 Originaldaten'!D90,7),2),1)","v":313.89999999999998},{"$f":"ROUND(MAX(_xlfn.NORM.INV(('Eingabe Email'!$B222+1)/MAX('Eingabe Email'!$B:$B),'H2 Originaldaten'!E90,7),2),1)","v":145.9},{"$f":"ROUND(MAX(_xlfn.NORM.INV(('Eingabe Email'!$B222+1)/MAX('Eingabe Email'!$B:$B),'H2 Originaldaten'!F90,7),2),1)","v":3772.9},{"$f":"ROUND(MAX(_xlfn.NORM.INV(('Eingabe Email'!$B222+1)/MAX('Eingabe Email'!$B:$B),'H2 Originaldaten'!G90,7),2),1)","v":8.4},{"$f":"'H2 Originaldaten'!H90","v":73},{"$f":"'H2 Originaldaten'!I90","v":1},{"$f":"'H2 Originaldaten'!J90","v":"dodge coronet custom"}]
[90,{"$f":"ROUND(MAX(_xlfn.NORM.INV(('Eingabe Email'!$B223+1)/MAX('Eingabe Email'!$B:$B),'H2 Originaldaten'!B91,7),2),1)","v":12},{"$f":"'H2 Originaldaten'!C91","v":8},{"$f":"ROUND(MAX(_xlfn.NORM.INV(('Eingabe Email'!$B223+1)/MAX('Eingabe Email'!$B:$B),'H2 Originaldaten'!D91,7),2),1)","v":429},{"$f":"ROUND(MAX(_xlfn.NORM.INV(('Eingabe Email'!$B223+1)/MAX('Eingabe Email'!$B:$B),'H2 Originaldaten'!E91,7),2),1)","v":198},{"$f":"ROUND(MAX(_xlfn.NORM.INV(('Eingabe Email'!$B223+1)/MAX('Eingabe Email'!$B:$B),'H2 Originaldaten'!F91,7),2),1)","v":4952},{"$f":"ROUND(MAX(_xlfn.NORM.INV(('Eingabe Email'!$B223+1)/MAX('Eingabe Email'!$B:$B),'H2 Originaldaten'!G91,7),2),1)","v":11.5},{"$f":"'H2 Originaldaten'!H91","v":73},{"$f":"'H2 Originaldaten'!I91","v":1},{"$f":"'H2 Originaldaten'!J91","v":"mercury marquis brougham"}]
[91,{"$f":"ROUND(MAX(_xlfn.NORM.INV(('Eingabe Email'!$B224+1)/MAX('Eingabe Email'!$B:$B),'H2 Originaldaten'!B92,7),2),1)","v":3.7},{"$f":"'H2 Originaldaten'!C92","v":8},{"$f":"ROUND(MAX(_xlfn.NORM.INV(('Eingabe Email'!$B224+1)/MAX('Eingabe Email'!$B:$B),'H2 Originaldaten'!D92,7),2),1)","v":390.7},{"$f":"ROUND(MAX(_xlfn.NORM.INV(('Eingabe Email'!$B224+1)/MAX('Eingabe Email'!$B:$B),'H2 Originaldaten'!E92,7),2),1)","v":140.69999999999999},{"$f":"ROUND(MAX(_xlfn.NORM.INV(('Eingabe Email'!$B224+1)/MAX('Eingabe Email'!$B:$B),'H2 Originaldaten'!F92,7),2),1)","v":4454.7},{"$f":"ROUND(MAX(_xlfn.NORM.INV(('Eingabe Email'!$B224+1)/MAX('Eingabe Email'!$B:$B),'H2 Originaldaten'!G92,7),2),1)","v":2.7},{"$f":"'H2 Originaldaten'!H92","v":73},{"$f":"'H2 Originaldaten'!I92","v":1},{"$f":"'H2 Originaldaten'!J92","v":"chevrolet caprice classic"}]
[92,{"$f":"ROUND(MAX(_xlfn.NORM.INV(('Eingabe Email'!$B225+1)/MAX('Eingabe Email'!$B:$B),'H2 Originaldaten'!B93,7),2),1)","v":2},{"$f":"'H2 Originaldaten'!C93","v":8},{"$f":"ROUND(MAX(_xlfn.NORM.INV(('Eingabe Email'!$B225+1)/MAX('Eingabe Email'!$B:$B),'H2 Originaldaten'!D93,7),2),1)","v":335.3},{"$f":"ROUND(MAX(_xlfn.NORM.INV(('Eingabe Email'!$B225+1)/MAX('Eingabe Email'!$B:$B),'H2 Originaldaten'!E93,7),2),1)","v":142.30000000000001},{"$f":"ROUND(MAX(_xlfn.NORM.INV(('Eingabe Email'!$B225+1)/MAX('Eingabe Email'!$B:$B),'H2 Originaldaten'!F93,7),2),1)","v":4347.3},{"$f":"ROUND(MAX(_xlfn.NORM.INV(('Eingabe Email'!$B225+1)/MAX('Eingabe Email'!$B:$B),'H2 Originaldaten'!G93,7),2),1)","v":2},{"$f":"'H2 Originaldaten'!H93","v":73},{"$f":"'H2 Originaldaten'!I93","v":1},{"$f":"'H2 Originaldaten'!J93","v":"ford ltd"}]
[93,{"$f":"ROUND(MAX(_xlfn.NORM.INV(('Eingabe Email'!$B226+1)/MAX('Eingabe Email'!$B:$B),'H2 Originaldaten'!B94,7),2),1)","v":9.4},{"$f":"'H2 Originaldaten'!C94","v":8},{"$f":"ROUND(MAX(_xlfn.NORM.INV(('Eingabe Email'!$B226+1)/MAX('Eingabe Email'!$B:$B),'H2 Originaldaten'!D94,7),2),1)","v":313.39999999999998},{"$f":"ROUND(MAX(_xlfn.NORM.INV(('Eingabe Email'!$B226+1)/MAX('Eingabe Email'!$B:$B),'H2 Originaldaten'!E94,7),2),1)","v":145.4},{"$f":"ROUND(MAX(_xlfn.NORM.INV(('Eingabe Email'!$B226+1)/MAX('Eingabe Email'!$B:$B),'H2 Originaldaten'!F94,7),2),1)","v":4232.3999999999996},{"$f":"ROUND(MAX(_xlfn.NORM.INV(('Eingabe Email'!$B226+1)/MAX('Eingabe Email'!$B:$B),'H2 Originaldaten'!G94,7),2),1)","v":9.9},{"$f":"'H2 Originaldaten'!H94","v":73},{"$f":"'H2 Originaldaten'!I94","v":1},{"$f":"'H2 Originaldaten'!J94","v":"plymouth fury gran sedan"}]
[94,{"$f":"ROUND(MAX(_xlfn.NORM.INV(('Eingabe Email'!$B227+1)/MAX('Eingabe Email'!$B:$B),'H2 Originaldaten'!B95,7),2),1)","v":9.3000000000000007},{"$f":"'H2 Originaldaten'!C95","v":8},{"$f":"ROUND(MAX(_xlfn.NORM.INV(('Eingabe Email'!$B227+1)/MAX('Eingabe Email'!$B:$B),'H2 Originaldaten'!D95,7),2),1)","v":436.3},{"$f":"ROUND(MAX(_xlfn.NORM.INV(('Eingabe Email'!$B227+1)/MAX('Eingabe Email'!$B:$B),'H2 Originaldaten'!E95,7),2),1)","v":211.3},{"$f":"ROUND(MAX(_xlfn.NORM.INV(('Eingabe Email'!$B227+1)/MAX('Eingabe Email'!$B:$B),'H2 Originaldaten'!F95,7),2),1)","v":4731.3},{"$f":"ROUND(MAX(_xlfn.NORM.INV(('Eingabe Email'!$B227+1)/MAX('Eingabe Email'!$B:$B),'H2 Originaldaten'!G95,7),2),1)","v":7.3},{"$f":"'H2 Originaldaten'!H95","v":73},{"$f":"'H2 Originaldaten'!I95","v":1},{"$f":"'H2 Originaldaten'!J95","v":"chrysler new yorker brougham"}]
[95,{"$f":"ROUND(MAX(_xlfn.NORM.INV(('Eingabe Email'!$B228+1)/MAX('Eingabe Email'!$B:$B),'H2 Originaldaten'!B96,7),2),1)","v":5.0999999999999996},{"$f":"'H2 Originaldaten'!C96","v":8},{"$f":"ROUND(MAX(_xlfn.NORM.INV(('Eingabe Email'!$B228+1)/MAX('Eingabe Email'!$B:$B),'H2 Originaldaten'!D96,7),2),1)","v":448.1},{"$f":"ROUND(MAX(_xlfn.NORM.INV(('Eingabe Email'!$B228+1)/MAX('Eingabe Email'!$B:$B),'H2 Originaldaten'!E96,7),2),1)","v":218.1},{"$f":"ROUND(MAX(_xlfn.NORM.INV(('Eingabe Email'!$B228+1)/MAX('Eingabe Email'!$B:$B),'H2 Originaldaten'!F96,7),2),1)","v":4944.1000000000004},{"$f":"ROUND(MAX(_xlfn.NORM.INV(('Eingabe Email'!$B228+1)/MAX('Eingabe Email'!$B:$B),'H2 Originaldaten'!G96,7),2),1)","v":4.0999999999999996},{"$f":"'H2 Originaldaten'!H96","v":73},{"$f":"'H2 Originaldaten'!I96","v":1},{"$f":"'H2 Originaldaten'!J96","v":"buick electra 225 custom"}]
[96,{"$f":"ROUND(MAX(_xlfn.NORM.INV(('Eingabe Email'!$B229+1)/MAX('Eingabe Email'!$B:$B),'H2 Originaldaten'!B97,7),2),1)","v":19.5},{"$f":"'H2 Originaldaten'!C97","v":8},{"$f":"ROUND(MAX(_xlfn.NORM.INV(('Eingabe Email'!$B229+1)/MAX('Eingabe Email'!$B:$B),'H2 Originaldaten'!D97,7),2),1)","v":366.5},{"$f":"ROUND(MAX(_xlfn.NORM.INV(('Eingabe Email'!$B229+1)/MAX('Eingabe Email'!$B:$B),'H2 Originaldaten'!E97,7),2),1)","v":181.5},{"$f":"ROUND(MAX(_xlfn.NORM.INV(('Eingabe Email'!$B229+1)/MAX('Eingabe Email'!$B:$B),'H2 Originaldaten'!F97,7),2),1)","v":3827.5},{"$f":"ROUND(MAX(_xlfn.NORM.INV(('Eingabe Email'!$B229+1)/MAX('Eingabe Email'!$B:$B),'H2 Originaldaten'!G97,7),2),1)","v":17.5},{"$f":"'H2 Originaldaten'!H97","v":73},{"$f":"'H2 Originaldaten'!I97","v":1},{"$f":"'H2 Originaldaten'!J97","v":"amc ambassador brougham"}]
[97,{"$f":"ROUND(MAX(_xlfn.NORM.INV(('Eingabe Email'!$B230+1)/MAX('Eingabe Email'!$B:$B),'H2 Originaldaten'!B98,7),2),1)","v":7.8},{"$f":"'H2 Originaldaten'!C98","v":6},{"$f":"ROUND(MAX(_xlfn.NORM.INV(('Eingabe Email'!$B230+1)/MAX('Eingabe Email'!$B:$B),'H2 Originaldaten'!D98,7),2),1)","v":214.8},{"$f":"ROUND(MAX(_xlfn.NORM.INV(('Eingabe Email'!$B230+1)/MAX('Eingabe Email'!$B:$B),'H2 Originaldaten'!E98,7),2),1)","v":94.8},{"$f":"ROUND(MAX(_xlfn.NORM.INV(('Eingabe Email'!$B230+1)/MAX('Eingabe Email'!$B:$B),'H2 Originaldaten'!F98,7),2),1)","v":3110.8},{"$f":"ROUND(MAX(_xlfn.NORM.INV(('Eingabe Email'!$B230+1)/MAX('Eingabe Email'!$B:$B),'H2 Originaldaten'!G98,7),2),1)","v":6.3},{"$f":"'H2 Originaldaten'!H98","v":73},{"$f":"'H2 Originaldaten'!I98","v":1},{"$f":"'H2 Originaldaten'!J98","v":"plymouth valiant"}]
[98,{"$f":"ROUND(MAX(_xlfn.NORM.INV(('Eingabe Email'!$B231+1)/MAX('Eingabe Email'!$B:$B),'H2 Originaldaten'!B99,7),2),1)","v":23.1},{"$f":"'H2 Originaldaten'!C99","v":6},{"$f":"ROUND(MAX(_xlfn.NORM.INV(('Eingabe Email'!$B231+1)/MAX('Eingabe Email'!$B:$B),'H2 Originaldaten'!D99,7),2),1)","v":257.10000000000002},{"$f":"ROUND(MAX(_xlfn.NORM.INV(('Eingabe Email'!$B231+1)/MAX('Eingabe Email'!$B:$B),'H2 Originaldaten'!E99,7),2),1)","v":107.1},{"$f":"ROUND(MAX(_xlfn.NORM.INV(('Eingabe Email'!$B231+1)/MAX('Eingabe Email'!$B:$B),'H2 Originaldaten'!F99,7),2),1)","v":3285.1},{"$f":"ROUND(MAX(_xlfn.NORM.INV(('Eingabe Email'!$B231+1)/MAX('Eingabe Email'!$B:$B),'H2 Originaldaten'!G99,7),2),1)","v":25.1},{"$f":"'H2 Originaldaten'!H99","v":73},{"$f":"'H2 Originaldaten'!I99","v":1},{"$f":"'H2 Originaldaten'!J99","v":"chevrolet nova custom"}]
[99,{"$f":"ROUND(MAX(_xlfn.NORM.INV(('Eingabe Email'!$B232+1)/MAX('Eingabe Email'!$B:$B),'H2 Originaldaten'!B100,7),2),1)","v":18.7},{"$f":"'H2 Originaldaten'!C100","v":6},{"$f":"ROUND(MAX(_xlfn.NORM.INV(('Eingabe Email'!$B232+1)/MAX('Eingabe Email'!$B:$B),'H2 Originaldaten'!D100,7),2),1)","v":232.7},{"$f":"ROUND(MAX(_xlfn.NORM.INV(('Eingabe Email'!$B232+1)/MAX('Eingabe Email'!$B:$B),'H2 Originaldaten'!E100,7),2),1)","v":100.7},{"$f":"ROUND(MAX(_xlfn.NORM.INV(('Eingabe Email'!$B232+1)/MAX('Eingabe Email'!$B:$B),'H2 Originaldaten'!F100,7),2),1)","v":2945.7},{"$f":"ROUND(MAX(_xlfn.NORM.INV(('Eingabe Email'!$B232+1)/MAX('Eingabe Email'!$B:$B),'H2 Originaldaten'!G100,7),2),1)","v":16.7},{"$f":"'H2 Originaldaten'!H100","v":73},{"$f":"'H2 Originaldaten'!I100","v":1},{"$f":"'H2 Originaldaten'!J100","v":"amc hornet"}]
[100,{"$f":"ROUND(MAX(_xlfn.NORM.INV(('Eingabe Email'!$B233+1)/MAX('Eingabe Email'!$B:$B),'H2 Originaldaten'!B101,7),2),1)","v":23.5},{"$f":"'H2 Originaldaten'!C101","v":6},{"$f":"ROUND(MAX(_xlfn.NORM.INV(('Eingabe Email'!$B233+1)/MAX('Eingabe Email'!$B:$B),'H2 Originaldaten'!D101,7),2),1)","v":255.5},{"$f":"ROUND(MAX(_xlfn.NORM.INV(('Eingabe Email'!$B233+1)/MAX('Eingabe Email'!$B:$B),'H2 Originaldaten'!E101,7),2),1)","v":93.5},{"$f":"ROUND(MAX(_xlfn.NORM.INV(('Eingabe Email'!$B233+1)/MAX('Eingabe Email'!$B:$B),'H2 Originaldaten'!F101,7),2),1)","v":3026.5},{"$f":"ROUND(MAX(_xlfn.NORM.INV(('Eingabe Email'!$B233+1)/MAX('Eingabe Email'!$B:$B),'H2 Originaldaten'!G101,7),2),1)","v":22},{"$f":"'H2 Originaldaten'!H101","v":73},{"$f":"'H2 Originaldaten'!I101","v":1},{"$f":"'H2 Originaldaten'!J101","v":"ford maverick"}]
[101,{"$f":"ROUND(MAX(_xlfn.NORM.INV(('Eingabe Email'!$B234+1)/MAX('Eingabe Email'!$B:$B),'H2 Originaldaten'!B102,7),2),1)","v":26.9},{"$f":"'H2 Originaldaten'!C102","v":6},{"$f":"ROUND(MAX(_xlfn.NORM.INV(('Eingabe Email'!$B234+1)/MAX('Eingabe Email'!$B:$B),'H2 Originaldaten'!D102,7),2),1)","v":201.9},{"$f":"ROUND(MAX(_xlfn.NORM.INV(('Eingabe Email'!$B234+1)/MAX('Eingabe Email'!$B:$B),'H2 Originaldaten'!E102,7),2),1)","v":98.9},{"$f":"ROUND(MAX(_xlfn.NORM.INV(('Eingabe Email'!$B234+1)/MAX('Eingabe Email'!$B:$B),'H2 Originaldaten'!F102,7),2),1)","v":2907.9},{"$f":"ROUND(MAX(_xlfn.NORM.INV(('Eingabe Email'!$B234+1)/MAX('Eingabe Email'!$B:$B),'H2 Originaldaten'!G102,7),2),1)","v":19.899999999999999},{"$f":"'H2 Originaldaten'!H102","v":73},{"$f":"'H2 Originaldaten'!I102","v":1},{"$f":"'H2 Originaldaten'!J102","v":"plymouth duster"}]
[102,{"$f":"ROUND(MAX(_xlfn.NORM.INV(('Eingabe Email'!$B235+1)/MAX('Eingabe Email'!$B:$B),'H2 Originaldaten'!B103,7),2),1)","v":29.6},{"$f":"'H2 Originaldaten'!C103","v":4},{"$f":"ROUND(MAX(_xlfn.NORM.INV(('Eingabe Email'!$B235+1)/MAX('Eingabe Email'!$B:$B),'H2 Originaldaten'!D103,7),2),1)","v":100.6},{"$f":"ROUND(MAX(_xlfn.NORM.INV(('Eingabe Email'!$B235+1)/MAX('Eingabe Email'!$B:$B),'H2 Originaldaten'!E103,7),2),1)","v":49.6},{"$f":"ROUND(MAX(_xlfn.NORM.INV(('Eingabe Email'!$B235+1)/MAX('Eingabe Email'!$B:$B),'H2 Originaldaten'!F103,7),2),1)","v":1953.6},{"$f":"ROUND(MAX(_xlfn.NORM.INV(('Eingabe Email'!$B235+1)/MAX('Eingabe Email'!$B:$B),'H2 Originaldaten'!G103,7),2),1)","v":24.6},{"$f":"'H2 Originaldaten'!H103","v":73},{"$f":"'H2 Originaldaten'!I103","v":2},{"$f":"'H2 Originaldaten'!J103","v":"volkswagen super beetle"}]
[103,{"$f":"ROUND(MAX(_xlfn.NORM.INV(('Eingabe Email'!$B236+1)/MAX('Eingabe Email'!$B:$B),'H2 Originaldaten'!B104,7),2),1)","v":5.2},{"$f":"'H2 Originaldaten'!C104","v":8},{"$f":"ROUND(MAX(_xlfn.NORM.INV(('Eingabe Email'!$B236+1)/MAX('Eingabe Email'!$B:$B),'H2 Originaldaten'!D104,7),2),1)","v":394.2},{"$f":"ROUND(MAX(_xlfn.NORM.INV(('Eingabe Email'!$B236+1)/MAX('Eingabe Email'!$B:$B),'H2 Originaldaten'!E104,7),2),1)","v":144.19999999999999},{"$f":"ROUND(MAX(_xlfn.NORM.INV(('Eingabe Email'!$B236+1)/MAX('Eingabe Email'!$B:$B),'H2 Originaldaten'!F104,7),2),1)","v":4991.2},{"$f":"ROUND(MAX(_xlfn.NORM.INV(('Eingabe Email'!$B236+1)/MAX('Eingabe Email'!$B:$B),'H2 Originaldaten'!G104,7),2),1)","v":8.1999999999999993},{"$f":"'H2 Originaldaten'!H104","v":73},{"$f":"'H2 Originaldaten'!I104","v":1},{"$f":"'H2 Originaldaten'!J104","v":"chevrolet impala"}]
[104,{"$f":"ROUND(MAX(_xlfn.NORM.INV(('Eingabe Email'!$B237+1)/MAX('Eingabe Email'!$B:$B),'H2 Originaldaten'!B105,7),2),1)","v":12.7},{"$f":"'H2 Originaldaten'!C105","v":8},{"$f":"ROUND(MAX(_xlfn.NORM.INV(('Eingabe Email'!$B237+1)/MAX('Eingabe Email'!$B:$B),'H2 Originaldaten'!D105,7),2),1)","v":400.7},{"$f":"ROUND(MAX(_xlfn.NORM.INV(('Eingabe Email'!$B237+1)/MAX('Eingabe Email'!$B:$B),'H2 Originaldaten'!E105,7),2),1)","v":167.7},{"$f":"ROUND(MAX(_xlfn.NORM.INV(('Eingabe Email'!$B237+1)/MAX('Eingabe Email'!$B:$B),'H2 Originaldaten'!F105,7),2),1)","v":4906.7},{"$f":"ROUND(MAX(_xlfn.NORM.INV(('Eingabe Email'!$B237+1)/MAX('Eingabe Email'!$B:$B),'H2 Originaldaten'!G105,7),2),1)","v":13.2},{"$f":"'H2 Originaldaten'!H105","v":73},{"$f":"'H2 Originaldaten'!I105","v":1},{"$f":"'H2 Originaldaten'!J105","v":"ford country"}]
[105,{"$f":"ROUND(MAX(_xlfn.NORM.INV(('Eingabe Email'!$B238+1)/MAX('Eingabe Email'!$B:$B),'H2 Originaldaten'!B106,7),2),1)","v":25.8},{"$f":"'H2 Originaldaten'!C106","v":8},{"$f":"ROUND(MAX(_xlfn.NORM.INV(('Eingabe Email'!$B238+1)/MAX('Eingabe Email'!$B:$B),'H2 Originaldaten'!D106,7),2),1)","v":372.8},{"$f":"ROUND(MAX(_xlfn.NORM.INV(('Eingabe Email'!$B238+1)/MAX('Eingabe Email'!$B:$B),'H2 Originaldaten'!E106,7),2),1)","v":182.8},{"$f":"ROUND(MAX(_xlfn.NORM.INV(('Eingabe Email'!$B238+1)/MAX('Eingabe Email'!$B:$B),'H2 Originaldaten'!F106,7),2),1)","v":4666.8},{"$f":"ROUND(MAX(_xlfn.NORM.INV(('Eingabe Email'!$B238+1)/MAX('Eingabe Email'!$B:$B),'H2 Originaldaten'!G106,7),2),1)","v":25.8},{"$f":"'H2 Originaldaten'!H106","v":73},{"$f":"'H2 Originaldaten'!I106","v":1},{"$f":"'H2 Originaldaten'!J106","v":"plymouth custom suburb"}]
[106,{"$f":"ROUND(MAX(_xlfn.NORM.INV(('Eingabe Email'!$B239+1)/MAX('Eingabe Email'!$B:$B),'H2 Originaldaten'!B107,7),2),1)","v":6.3},{"$f":"'H2 Originaldaten'!C107","v":8},{"$f":"ROUND(MAX(_xlfn.NORM.INV(('Eingabe Email'!$B239+1)/MAX('Eingabe Email'!$B:$B),'H2 Originaldaten'!D107,7),2),1)","v":344.3},{"$f":"ROUND(MAX(_xlfn.NORM.INV(('Eingabe Email'!$B239+1)/MAX('Eingabe Email'!$B:$B),'H2 Originaldaten'!E107,7),2),1)","v":174.3},{"$f":"ROUND(MAX(_xlfn.NORM.INV(('Eingabe Email'!$B239+1)/MAX('Eingabe Email'!$B:$B),'H2 Originaldaten'!F107,7),2),1)","v":4493.3},{"$f":"ROUND(MAX(_xlfn.NORM.INV(('Eingabe Email'!$B239+1)/MAX('Eingabe Email'!$B:$B),'H2 Originaldaten'!G107,7),2),1)","v":6.8},{"$f":"'H2 Originaldaten'!H107","v":73},{"$f":"'H2 Originaldaten'!I107","v":1},{"$f":"'H2 Originaldaten'!J107","v":"oldsmobile vista cruiser"}]
[107,{"$f":"ROUND(MAX(_xlfn.NORM.INV(('Eingabe Email'!$B240+1)/MAX('Eingabe Email'!$B:$B),'H2 Originaldaten'!B108,7),2),1)","v":22},{"$f":"'H2 Originaldaten'!C108","v":6},{"$f":"ROUND(MAX(_xlfn.NORM.INV(('Eingabe Email'!$B240+1)/MAX('Eingabe Email'!$B:$B),'H2 Originaldaten'!D108,7),2),1)","v":236},{"$f":"ROUND(MAX(_xlfn.NORM.INV(('Eingabe Email'!$B240+1)/MAX('Eingabe Email'!$B:$B),'H2 Originaldaten'!E108,7),2),1)","v":104},{"$f":"ROUND(MAX(_xlfn.NORM.INV(('Eingabe Email'!$B240+1)/MAX('Eingabe Email'!$B:$B),'H2 Originaldaten'!F108,7),2),1)","v":2793},{"$f":"ROUND(MAX(_xlfn.NORM.INV(('Eingabe Email'!$B240+1)/MAX('Eingabe Email'!$B:$B),'H2 Originaldaten'!G108,7),2),1)","v":19},{"$f":"'H2 Originaldaten'!H108","v":73},{"$f":"'H2 Originaldaten'!I108","v":1},{"$f":"'H2 Originaldaten'!J108","v":"amc gremlin"}]
[108,{"$f":"ROUND(MAX(_xlfn.NORM.INV(('Eingabe Email'!$B241+1)/MAX('Eingabe Email'!$B:$B),'H2 Originaldaten'!B109,7),2),1)","v":14},{"$f":"'H2 Originaldaten'!C109","v":4},{"$f":"ROUND(MAX(_xlfn.NORM.INV(('Eingabe Email'!$B241+1)/MAX('Eingabe Email'!$B:$B),'H2 Originaldaten'!D109,7),2),1)","v":91},{"$f":"ROUND(MAX(_xlfn.NORM.INV(('Eingabe Email'!$B241+1)/MAX('Eingabe Email'!$B:$B),'H2 Originaldaten'!E109,7),2),1)","v":82},{"$f":"ROUND(MAX(_xlfn.NORM.INV(('Eingabe Email'!$B241+1)/MAX('Eingabe Email'!$B:$B),'H2 Originaldaten'!F109,7),2),1)","v":2273},{"$f":"ROUND(MAX(_xlfn.NORM.INV(('Eingabe Email'!$B241+1)/MAX('Eingabe Email'!$B:$B),'H2 Originaldaten'!G109,7),2),1)","v":13},{"$f":"'H2 Originaldaten'!H109","v":73},{"$f":"'H2 Originaldaten'!I109","v":3},{"$f":"'H2 Originaldaten'!J109","v":"toyota carina"}]
[109,{"$f":"ROUND(MAX(_xlfn.NORM.INV(('Eingabe Email'!$B242+1)/MAX('Eingabe Email'!$B:$B),'H2 Originaldaten'!B110,7),2),1)","v":15.3},{"$f":"'H2 Originaldaten'!C110","v":4},{"$f":"ROUND(MAX(_xlfn.NORM.INV(('Eingabe Email'!$B242+1)/MAX('Eingabe Email'!$B:$B),'H2 Originaldaten'!D110,7),2),1)","v":134.30000000000001},{"$f":"ROUND(MAX(_xlfn.NORM.INV(('Eingabe Email'!$B242+1)/MAX('Eingabe Email'!$B:$B),'H2 Originaldaten'!E110,7),2),1)","v":66.3},{"$f":"ROUND(MAX(_xlfn.NORM.INV(('Eingabe Email'!$B242+1)/MAX('Eingabe Email'!$B:$B),'H2 Originaldaten'!F110,7),2),1)","v":2395.3000000000002},{"$f":"ROUND(MAX(_xlfn.NORM.INV(('Eingabe Email'!$B242+1)/MAX('Eingabe Email'!$B:$B),'H2 Originaldaten'!G110,7),2),1)","v":13.8},{"$f":"'H2 Originaldaten'!H110","v":73},{"$f":"'H2 Originaldaten'!I110","v":1},{"$f":"'H2 Originaldaten'!J110","v":"chevrolet vega"}]
[110,{"$f":"ROUND(MAX(_xlfn.NORM.INV(('Eingabe Email'!$B243+1)/MAX('Eingabe Email'!$B:$B),'H2 Originaldaten'!B111,7),2),1)","v":38.5},{"$f":"'H2 Originaldaten'!C111","v":4},{"$f":"ROUND(MAX(_xlfn.NORM.INV(('Eingabe Email'!$B243+1)/MAX('Eingabe Email'!$B:$B),'H2 Originaldaten'!D111,7),2),1)","v":124.5},{"$f":"ROUND(MAX(_xlfn.NORM.INV(('Eingabe Email'!$B243+1)/MAX('Eingabe Email'!$B:$B),'H2 Originaldaten'!E111,7),2),1)","v":110.5},{"$f":"ROUND(MAX(_xlfn.NORM.INV(('Eingabe Email'!$B243+1)/MAX('Eingabe Email'!$B:$B),'H2 Originaldaten'!F111,7),2),1)","v":2395.5},{"$f":"ROUND(MAX(_xlfn.NORM.INV(('Eingabe Email'!$B243+1)/MAX('Eingabe Email'!$B:$B),'H2 Originaldaten'!G111,7),2),1)","v":33},{"$f":"'H2 Originaldaten'!H111","v":73},{"$f":"'H2 Originaldaten'!I111","v":3},{"$f":"'H2 Originaldaten'!J111","v":"datsun 610"}]
[111,{"$f":"ROUND(MAX(_xlfn.NORM.INV(('Eingabe Email'!$B244+1)/MAX('Eingabe Email'!$B:$B),'H2 Originaldaten'!B112,7),2),1)","v":19.5},{"$f":"'H2 Originaldaten'!C112","v":3},{"$f":"ROUND(MAX(_xlfn.NORM.INV(('Eingabe Email'!$B244+1)/MAX('Eingabe Email'!$B:$B),'H2 Originaldaten'!D112,7),2),1)","v":71.5},{"$f":"ROUND(MAX(_xlfn.NORM.INV(('Eingabe Email'!$B244+1)/MAX('Eingabe Email'!$B:$B),'H2 Originaldaten'!E112,7),2),1)","v":91.5},{"$f":"ROUND(MAX(_xlfn.NORM.INV(('Eingabe Email'!$B244+1)/MAX('Eingabe Email'!$B:$B),'H2 Originaldaten'!F112,7),2),1)","v":2125.5},{"$f":"ROUND(MAX(_xlfn.NORM.INV(('Eingabe Email'!$B244+1)/MAX('Eingabe Email'!$B:$B),'H2 Originaldaten'!G112,7),2),1)","v":15},{"$f":"'H2 Originaldaten'!H112","v":73},{"$f":"'H2 Originaldaten'!I112","v":3},{"$f":"'H2 Originaldaten'!J112","v":"maxda rx3"}]
[112,{"$f":"ROUND(MAX(_xlfn.NORM.INV(('Eingabe Email'!$B245+1)/MAX('Eingabe Email'!$B:$B),'H2 Originaldaten'!B113,7),2),1)","v":25},{"$f":"'H2 Originaldaten'!C113","v":4},{"$f":"ROUND(MAX(_xlfn.NORM.INV(('Eingabe Email'!$B245+1)/MAX('Eingabe Email'!$B:$B),'H2 Originaldaten'!D113,7),2),1)","v":128},{"$f":"ROUND(MAX(_xlfn.NORM.INV(('Eingabe Email'!$B245+1)/MAX('Eingabe Email'!$B:$B),'H2 Originaldaten'!E113,7),2),1)","v":91},{"$f":"ROUND(MAX(_xlfn.NORM.INV(('Eingabe Email'!$B245+1)/MAX('Eingabe Email'!$B:$B),'H2 Originaldaten'!F113,7),2),1)","v":2316},{"$f":"ROUND(MAX(_xlfn.NORM.INV(('Eingabe Email'!$B245+1)/MAX('Eingabe Email'!$B:$B),'H2 Originaldaten'!G113,7),2),1)","v":24.5},{"$f":"'H2 Originaldaten'!H113","v":73},{"$f":"'H2 Originaldaten'!I113","v":1},{"$f":"'H2 Originaldaten'!J113","v":"ford pinto"}]
[113,{"$f":"ROUND(MAX(_xlfn.NORM.INV(('Eingabe Email'!$B246+1)/MAX('Eingabe Email'!$B:$B),'H2 Originaldaten'!B114,7),2),1)","v":21.8},{"$f":"'H2 Originaldaten'!C114","v":6},{"$f":"ROUND(MAX(_xlfn.NORM.INV(('Eingabe Email'!$B246+1)/MAX('Eingabe Email'!$B:$B),'H2 Originaldaten'!D114,7),2),1)","v":155.80000000000001},{"$f":"ROUND(MAX(_xlfn.NORM.INV(('Eingabe Email'!$B246+1)/MAX('Eingabe Email'!$B:$B),'H2 Originaldaten'!E114,7),2),1)","v":107.8},{"$f":"ROUND(MAX(_xlfn.NORM.INV(('Eingabe Email'!$B246+1)/MAX('Eingabe Email'!$B:$B),'H2 Originaldaten'!F114,7),2),1)","v":2472.8000000000002},{"$f":"ROUND(MAX(_xlfn.NORM.INV(('Eingabe Email'!$B246+1)/MAX('Eingabe Email'!$B:$B),'H2 Originaldaten'!G114,7),2),1)","v":14.8},{"$f":"'H2 Originaldaten'!H114","v":73},{"$f":"'H2 Originaldaten'!I114","v":1},{"$f":"'H2 Originaldaten'!J114","v":"mercury capri v6"}]
[114,{"$f":"ROUND(MAX(_xlfn.NORM.INV(('Eingabe Email'!$B247+1)/MAX('Eingabe Email'!$B:$B),'H2 Originaldaten'!B115,7),2),1)","v":24.8},{"$f":"'H2 Originaldaten'!C115","v":4},{"$f":"ROUND(MAX(_xlfn.NORM.INV(('Eingabe Email'!$B247+1)/MAX('Eingabe Email'!$B:$B),'H2 Originaldaten'!D115,7),2),1)","v":96.8},{"$f":"ROUND(MAX(_xlfn.NORM.INV(('Eingabe Email'!$B247+1)/MAX('Eingabe Email'!$B:$B),'H2 Originaldaten'!E115,7),2),1)","v":88.8},{"$f":"ROUND(MAX(_xlfn.NORM.INV(('Eingabe Email'!$B247+1)/MAX('Eingabe Email'!$B:$B),'H2 Originaldaten'!F115,7),2),1)","v":2263.8000000000002},{"$f":"ROUND(MAX(_xlfn.NORM.INV(('Eingabe Email'!$B247+1)/MAX('Eingabe Email'!$B:$B),'H2 Originaldaten'!G115,7),2),1)","v":14.3},{"$f":"'H2 Originaldaten'!H115","v":73},{"$f":"'H2 Originaldaten'!I115","v":2},{"$f":"'H2 Originaldaten'!J115","v":"fiat 124 sport coupe"}]
[115,{"$f":"ROUND(MAX(_xlfn.NORM.INV(('Eingabe Email'!$B248+1)/MAX('Eingabe Email'!$B:$B),'H2 Originaldaten'!B116,7),2),1)","v":24.6},{"$f":"'H2 Originaldaten'!C116","v":8},{"$f":"ROUND(MAX(_xlfn.NORM.INV(('Eingabe Email'!$B248+1)/MAX('Eingabe Email'!$B:$B),'H2 Originaldaten'!D116,7),2),1)","v":359.6},{"$f":"ROUND(MAX(_xlfn.NORM.INV(('Eingabe Email'!$B248+1)/MAX('Eingabe Email'!$B:$B),'H2 Originaldaten'!E116,7),2),1)","v":154.6},{"$f":"ROUND(MAX(_xlfn.NORM.INV(('Eingabe Email'!$B248+1)/MAX('Eingabe Email'!$B:$B),'H2 Originaldaten'!F116,7),2),1)","v":4091.6},{"$f":"ROUND(MAX(_xlfn.NORM.INV(('Eingabe Email'!$B248+1)/MAX('Eingabe Email'!$B:$B),'H2 Originaldaten'!G116,7),2),1)","v":22.6},{"$f":"'H2 Originaldaten'!H116","v":73},{"$f":"'H2 Originaldaten'!I116","v":1},{"$f":"'H2 Originaldaten'!J116","v":"chevrolet monte carlo s"}]
[116,{"$f":"ROUND(MAX(_xlfn.NORM.INV(('Eingabe Email'!$B249+1)/MAX('Eingabe Email'!$B:$B),'H2 Originaldaten'!B117,7),2),1)","v":20.2},{"$f":"'H2 Originaldaten'!C117","v":8},{"$f":"ROUND(MAX(_xlfn.NORM.INV(('Eingabe Email'!$B249+1)/MAX('Eingabe Email'!$B:$B),'H2 Originaldaten'!D117,7),2),1)","v":404.2},{"$f":"ROUND(MAX(_xlfn.NORM.INV(('Eingabe Email'!$B249+1)/MAX('Eingabe Email'!$B:$B),'H2 Originaldaten'!E117,7),2),1)","v":234.2},{"$f":"ROUND(MAX(_xlfn.NORM.INV(('Eingabe Email'!$B249+1)/MAX('Eingabe Email'!$B:$B),'H2 Originaldaten'!F117,7),2),1)","v":4282.2},{"$f":"ROUND(MAX(_xlfn.NORM.INV(('Eingabe Email'!$B249+1)/MAX('Eingabe Email'!$B:$B),'H2 Originaldaten'!G117,7),2),1)","v":13.7},{"$f":"'H2 Originaldaten'!H117","v":73},{"$f":"'H2 Originaldaten'!I117","v":1},{"$f":"'H2 Originaldaten'!J117","v":"pontiac grand prix"}]
[117,{"$f":"ROUND(MAX(_xlfn.NORM.INV(('Eingabe Email'!$B250+1)/MAX('Eingabe Email'!$B:$B),'H2 Originaldaten'!B118,7),2),1)","v":15.8},{"$f":"'H2 Originaldaten'!C118","v":4},{"$f":"ROUND(MAX(_xlfn.NORM.INV(('Eingabe Email'!$B250+1)/MAX('Eingabe Email'!$B:$B),'H2 Originaldaten'!D118,7),2),1)","v":54.8},{"$f":"ROUND(MAX(_xlfn.NORM.INV(('Eingabe Email'!$B250+1)/MAX('Eingabe Email'!$B:$B),'H2 Originaldaten'!E118,7),2),1)","v":35.799999999999997},{"$f":"ROUND(MAX(_xlfn.NORM.INV(('Eingabe Email'!$B250+1)/MAX('Eingabe Email'!$B:$B),'H2 Originaldaten'!F118,7),2),1)","v":1853.8},{"$f":"ROUND(MAX(_xlfn.NORM.INV(('Eingabe Email'!$B250+1)/MAX('Eingabe Email'!$B:$B),'H2 Originaldaten'!G118,7),2),1)","v":6.3},{"$f":"'H2 Originaldaten'!H118","v":73},{"$f":"'H2 Originaldaten'!I118","v":2},{"$f":"'H2 Originaldaten'!J118","v":"fiat 128"}]
[118,{"$f":"ROUND(MAX(_xlfn.NORM.INV(('Eingabe Email'!$B251+1)/MAX('Eingabe Email'!$B:$B),'H2 Originaldaten'!B119,7),2),1)","v":31.2},{"$f":"'H2 Originaldaten'!C119","v":4},{"$f":"ROUND(MAX(_xlfn.NORM.INV(('Eingabe Email'!$B251+1)/MAX('Eingabe Email'!$B:$B),'H2 Originaldaten'!D119,7),2),1)","v":123.2},{"$f":"ROUND(MAX(_xlfn.NORM.INV(('Eingabe Email'!$B251+1)/MAX('Eingabe Email'!$B:$B),'H2 Originaldaten'!E119,7),2),1)","v":82.2},{"$f":"ROUND(MAX(_xlfn.NORM.INV(('Eingabe Email'!$B251+1)/MAX('Eingabe Email'!$B:$B),'H2 Originaldaten'!F119,7),2),1)","v":2165.1999999999998},{"$f":"ROUND(MAX(_xlfn.NORM.INV(('Eingabe Email'!$B251+1)/MAX('Eingabe Email'!$B:$B),'H2 Originaldaten'!G119,7),2),1)","v":22.7},{"$f":"'H2 Originaldaten'!H119","v":73},{"$f":"'H2 Originaldaten'!I119","v":2},{"$f":"'H2 Originaldaten'!J119","v":"opel manta"}]
[119,{"$f":"ROUND(MAX(_xlfn.NORM.INV(('Eingabe Email'!$B252+1)/MAX('Eingabe Email'!$B:$B),'H2 Originaldaten'!B120,7),2),1)","v":11.9},{"$f":"'H2 Originaldaten'!C120","v":4},{"$f":"ROUND(MAX(_xlfn.NORM.INV(('Eingabe Email'!$B252+1)/MAX('Eingabe Email'!$B:$B),'H2 Originaldaten'!D120,7),2),1)","v":105.9},{"$f":"ROUND(MAX(_xlfn.NORM.INV(('Eingabe Email'!$B252+1)/MAX('Eingabe Email'!$B:$B),'H2 Originaldaten'!E120,7),2),1)","v":82.9},{"$f":"ROUND(MAX(_xlfn.NORM.INV(('Eingabe Email'!$B252+1)/MAX('Eingabe Email'!$B:$B),'H2 Originaldaten'!F120,7),2),1)","v":2573.9},{"$f":"ROUND(MAX(_xlfn.NORM.INV(('Eingabe Email'!$B252+1)/MAX('Eingabe Email'!$B:$B),'H2 Originaldaten'!G120,7),2),1)","v":5.9},{"$f":"'H2 Originaldaten'!H120","v":73},{"$f":"'H2 Originaldaten'!I120","v":2},{"$f":"'H2 Originaldaten'!J120","v":"audi 100ls"}]
[120,{"$f":"ROUND(MAX(_xlfn.NORM.INV(('Eingabe Email'!$B253+1)/MAX('Eingabe Email'!$B:$B),'H2 Originaldaten'!B121,7),2),1)","v":15.7},{"$f":"'H2 Originaldaten'!C121","v":4},{"$f":"ROUND(MAX(_xlfn.NORM.INV(('Eingabe Email'!$B253+1)/MAX('Eingabe Email'!$B:$B),'H2 Originaldaten'!D121,7),2),1)","v":117.7},{"$f":"ROUND(MAX(_xlfn.NORM.INV(('Eingabe Email'!$B253+1)/MAX('Eingabe Email'!$B:$B),'H2 Originaldaten'!E121,7),2),1)","v":108.7},{"$f":"ROUND(MAX(_xlfn.NORM.INV(('Eingabe Email'!$B253+1)/MAX('Eingabe Email'!$B:$B),'H2 Originaldaten'!F121,7),2),1)","v":2864.7},{"$f":"ROUND(MAX(_xlfn.NORM.INV(('Eingabe Email'!$B253+1)/MAX('Eingabe Email'!$B:$B),'H2 Originaldaten'!G121,7),2),1)","v":12.2},{"$f":"'H2 Originaldaten'!H121","v":73},{"$f":"'H2 Originaldaten'!I121","v":2},{"$f":"'H2 Originaldaten'!J121","v":"volvo 144ea"}]
[121,{"$f":"ROUND(MAX(_xlfn.NORM.INV(('Eingabe Email'!$B254+1)/MAX('Eingabe Email'!$B:$B),'H2 Originaldaten'!B122,7),2),1)","v":26.6},{"$f":"'H2 Originaldaten'!C122","v":8},{"$f":"ROUND(MAX(_xlfn.NORM.INV(('Eingabe Email'!$B254+1)/MAX('Eingabe Email'!$B:$B),'H2 Originaldaten'!D122,7),2),1)","v":329.6},{"$f":"ROUND(MAX(_xlfn.NORM.INV(('Eingabe Email'!$B254+1)/MAX('Eingabe Email'!$B:$B),'H2 Originaldaten'!E122,7),2),1)","v":161.6},{"$f":"ROUND(MAX(_xlfn.NORM.INV(('Eingabe Email'!$B254+1)/MAX('Eingabe Email'!$B:$B),'H2 Originaldaten'!F122,7),2),1)","v":3410.6},{"$f":"ROUND(MAX(_xlfn.NORM.INV(('Eingabe Email'!$B254+1)/MAX('Eingabe Email'!$B:$B),'H2 Originaldaten'!G122,7),2),1)","v":22.6},{"$f":"'H2 Originaldaten'!H122","v":73},{"$f":"'H2 Originaldaten'!I122","v":1},{"$f":"'H2 Originaldaten'!J122","v":"dodge dart custom"}]
[122,{"$f":"ROUND(MAX(_xlfn.NORM.INV(('Eingabe Email'!$B255+1)/MAX('Eingabe Email'!$B:$B),'H2 Originaldaten'!B123,7),2),1)","v":15.5},{"$f":"'H2 Originaldaten'!C123","v":4},{"$f":"ROUND(MAX(_xlfn.NORM.INV(('Eingabe Email'!$B255+1)/MAX('Eingabe Email'!$B:$B),'H2 Originaldaten'!D123,7),2),1)","v":112.5},{"$f":"ROUND(MAX(_xlfn.NORM.INV(('Eingabe Email'!$B255+1)/MAX('Eingabe Email'!$B:$B),'H2 Originaldaten'!E123,7),2),1)","v":101.5},{"$f":"ROUND(MAX(_xlfn.NORM.INV(('Eingabe Email'!$B255+1)/MAX('Eingabe Email'!$B:$B),'H2 Originaldaten'!F123,7),2),1)","v":2651.5},{"$f":"ROUND(MAX(_xlfn.NORM.INV(('Eingabe Email'!$B255+1)/MAX('Eingabe Email'!$B:$B),'H2 Originaldaten'!G123,7),2),1)","v":5.5},{"$f":"'H2 Originaldaten'!H123","v":73},{"$f":"'H2 Originaldaten'!I123","v":2},{"$f":"'H2 Originaldaten'!J123","v":"saab 99le"}]
[123,{"$f":"ROUND(MAX(_xlfn.NORM.INV(('Eingabe Email'!$B256+1)/MAX('Eingabe Email'!$B:$B),'H2 Originaldaten'!B124,7),2),1)","v":10},{"$f":"'H2 Originaldaten'!C124","v":6},{"$f":"ROUND(MAX(_xlfn.NORM.INV(('Eingabe Email'!$B256+1)/MAX('Eingabe Email'!$B:$B),'H2 Originaldaten'!D124,7),2),1)","v":146},{"$f":"ROUND(MAX(_xlfn.NORM.INV(('Eingabe Email'!$B256+1)/MAX('Eingabe Email'!$B:$B),'H2 Originaldaten'!E124,7),2),1)","v":112},{"$f":"ROUND(MAX(_xlfn.NORM.INV(('Eingabe Email'!$B256+1)/MAX('Eingabe Email'!$B:$B),'H2 Originaldaten'!F124,7),2),1)","v":2797},{"$f":"ROUND(MAX(_xlfn.NORM.INV(('Eingabe Email'!$B256+1)/MAX('Eingabe Email'!$B:$B),'H2 Originaldaten'!G124,7),2),1)","v":3.5},{"$f":"'H2 Originaldaten'!H124","v":73},{"$f":"'H2 Originaldaten'!I124","v":3},{"$f":"'H2 Originaldaten'!J124","v":"toyota mark ii"}]
[124,{"$f":"ROUND(MAX(_xlfn.NORM.INV(('Eingabe Email'!$B257+1)/MAX('Eingabe Email'!$B:$B),'H2 Originaldaten'!B125,7),2),1)","v":2},{"$f":"'H2 Originaldaten'!C125","v":8},{"$f":"ROUND(MAX(_xlfn.NORM.INV(('Eingabe Email'!$B257+1)/MAX('Eingabe Email'!$B:$B),'H2 Originaldaten'!D125,7),2),1)","v":340.8},{"$f":"ROUND(MAX(_xlfn.NORM.INV(('Eingabe Email'!$B257+1)/MAX('Eingabe Email'!$B:$B),'H2 Originaldaten'!E125,7),2),1)","v":170.8},{"$f":"ROUND(MAX(_xlfn.NORM.INV(('Eingabe Email'!$B257+1)/MAX('Eingabe Email'!$B:$B),'H2 Originaldaten'!F125,7),2),1)","v":3654.8},{"$f":"ROUND(MAX(_xlfn.NORM.INV(('Eingabe Email'!$B257+1)/MAX('Eingabe Email'!$B:$B),'H2 Originaldaten'!G125,7),2),1)","v":2},{"$f":"'H2 Originaldaten'!H125","v":73},{"$f":"'H2 Originaldaten'!I125","v":1},{"$f":"'H2 Originaldaten'!J125","v":"oldsmobile omega"}]
[125,{"$f":"ROUND(MAX(_xlfn.NORM.INV(('Eingabe Email'!$B258+1)/MAX('Eingabe Email'!$B:$B),'H2 Originaldaten'!B126,7),2),1)","v":18.5},{"$f":"'H2 Originaldaten'!C126","v":6},{"$f":"ROUND(MAX(_xlfn.NORM.INV(('Eingabe Email'!$B258+1)/MAX('Eingabe Email'!$B:$B),'H2 Originaldaten'!D126,7),2),1)","v":196.5},{"$f":"ROUND(MAX(_xlfn.NORM.INV(('Eingabe Email'!$B258+1)/MAX('Eingabe Email'!$B:$B),'H2 Originaldaten'!E126,7),2),1)","v":93.5},{"$f":"ROUND(MAX(_xlfn.NORM.INV(('Eingabe Email'!$B258+1)/MAX('Eingabe Email'!$B:$B),'H2 Originaldaten'!F126,7),2),1)","v":3100.5},{"$f":"ROUND(MAX(_xlfn.NORM.INV(('Eingabe Email'!$B258+1)/MAX('Eingabe Email'!$B:$B),'H2 Originaldaten'!G126,7),2),1)","v":15},{"$f":"'H2 Originaldaten'!H126","v":74},{"$f":"'H2 Originaldaten'!I126","v":1},{"$f":"'H2 Originaldaten'!J126","v":"plymouth duster"}]
[126,{"$f":"ROUND(MAX(_xlfn.NORM.INV(('Eingabe Email'!$B259+1)/MAX('Eingabe Email'!$B:$B),'H2 Originaldaten'!B127,7),2),1)","v":17.5},{"$f":"'H2 Originaldaten'!C127","v":6},{"$f":"ROUND(MAX(_xlfn.NORM.INV(('Eingabe Email'!$B259+1)/MAX('Eingabe Email'!$B:$B),'H2 Originaldaten'!D127,7),2),1)","v":230.5},{"$f":"ROUND(MAX(_xlfn.NORM.INV(('Eingabe Email'!$B259+1)/MAX('Eingabe Email'!$B:$B),'H2 Originaldaten'!E127,7),2),1)","v":98.5},{"$f":"ROUND(MAX(_xlfn.NORM.INV(('Eingabe Email'!$B259+1)/MAX('Eingabe Email'!$B:$B),'H2 Originaldaten'!F127,7),2),1)","v":2899.5},{"$f":"ROUND(MAX(_xlfn.NORM.INV(('Eingabe Email'!$B259+1)/MAX('Eingabe Email'!$B:$B),'H2 Originaldaten'!G127,7),2),1)","v":14.5},{"$f":"'H2 Originaldaten'!H127","v":74},{"$f":"'H2 Originaldaten'!I127","v":1},{"$f":"'H2 Originaldaten'!J127","v":"amc hornet"}]
[127,{"$f":"ROUND(MAX(_xlfn.NORM.INV(('Eingabe Email'!$B260+1)/MAX('Eingabe Email'!$B:$B),'H2 Originaldaten'!B128,7),2),1)","v":8.9},{"$f":"'H2 Originaldaten'!C128","v":6},{"$f":"ROUND(MAX(_xlfn.NORM.INV(('Eingabe Email'!$B260+1)/MAX('Eingabe Email'!$B:$B),'H2 Originaldaten'!D128,7),2),1)","v":243.9},{"$f":"ROUND(MAX(_xlfn.NORM.INV(('Eingabe Email'!$B260+1)/MAX('Eingabe Email'!$B:$B),'H2 Originaldaten'!E128,7),2),1)","v":93.9},{"$f":"ROUND(MAX(_xlfn.NORM.INV(('Eingabe Email'!$B260+1)/MAX('Eingabe Email'!$B:$B),'H2 Originaldaten'!F128,7),2),1)","v":3329.9},{"$f":"ROUND(MAX(_xlfn.NORM.INV(('Eingabe Email'!$B260+1)/MAX('Eingabe Email'!$B:$B),'H2 Originaldaten'!G128,7),2),1)","v":10.9},{"$f":"'H2 Originaldaten'!H128","v":74},{"$f":"'H2 Originaldaten'!I128","v":1},{"$f":"'H2 Originaldaten'!J128","v":"chevrolet nova"}]
[128,{"$f":"ROUND(MAX(_xlfn.NORM.INV(('Eingabe Email'!$B261+1)/MAX('Eingabe Email'!$B:$B),'H2 Originaldaten'!B129,7),2),1)","v":27.5},{"$f":"'H2 Originaldaten'!C129","v":4},{"$f":"ROUND(MAX(_xlfn.NORM.INV(('Eingabe Email'!$B261+1)/MAX('Eingabe Email'!$B:$B),'H2 Originaldaten'!D129,7),2),1)","v":75.5},{"$f":"ROUND(MAX(_xlfn.NORM.INV(('Eingabe Email'!$B261+1)/MAX('Eingabe Email'!$B:$B),'H2 Originaldaten'!E129,7),2),1)","v":63.5},{"$f":"ROUND(MAX(_xlfn.NORM.INV(('Eingabe Email'!$B261+1)/MAX('Eingabe Email'!$B:$B),'H2 Originaldaten'!F129,7),2),1)","v":1946.5},{"$f":"ROUND(MAX(_xlfn.NORM.INV(('Eingabe Email'!$B261+1)/MAX('Eingabe Email'!$B:$B),'H2 Originaldaten'!G129,7),2),1)","v":15.5},{"$f":"'H2 Originaldaten'!H129","v":74},{"$f":"'H2 Originaldaten'!I129","v":3},{"$f":"'H2 Originaldaten'!J129","v":"datsun b210"}]
[129,{"$f":"ROUND(MAX(_xlfn.NORM.INV(('Eingabe Email'!$B262+1)/MAX('Eingabe Email'!$B:$B),'H2 Originaldaten'!B130,7),2),1)","v":19.3},{"$f":"'H2 Originaldaten'!C130","v":4},{"$f":"ROUND(MAX(_xlfn.NORM.INV(('Eingabe Email'!$B262+1)/MAX('Eingabe Email'!$B:$B),'H2 Originaldaten'!D130,7),2),1)","v":115.3},{"$f":"ROUND(MAX(_xlfn.NORM.INV(('Eingabe Email'!$B262+1)/MAX('Eingabe Email'!$B:$B),'H2 Originaldaten'!E130,7),2),1)","v":73.3},{"$f":"ROUND(MAX(_xlfn.NORM.INV(('Eingabe Email'!$B262+1)/MAX('Eingabe Email'!$B:$B),'H2 Originaldaten'!F130,7),2),1)","v":2444.3000000000002},{"$f":"ROUND(MAX(_xlfn.NORM.INV(('Eingabe Email'!$B262+1)/MAX('Eingabe Email'!$B:$B),'H2 Originaldaten'!G130,7),2),1)","v":9.8000000000000007},{"$f":"'H2 Originaldaten'!H130","v":74},{"$f":"'H2 Originaldaten'!I130","v":1},{"$f":"'H2 Originaldaten'!J130","v":"ford pinto"}]
[130,{"$f":"ROUND(MAX(_xlfn.NORM.INV(('Eingabe Email'!$B263+1)/MAX('Eingabe Email'!$B:$B),'H2 Originaldaten'!B131,7),2),1)","v":25.7},{"$f":"'H2 Originaldaten'!C131","v":4},{"$f":"ROUND(MAX(_xlfn.NORM.INV(('Eingabe Email'!$B263+1)/MAX('Eingabe Email'!$B:$B),'H2 Originaldaten'!D131,7),2),1)","v":64.7},{"$f":"ROUND(MAX(_xlfn.NORM.INV(('Eingabe Email'!$B263+1)/MAX('Eingabe Email'!$B:$B),'H2 Originaldaten'!E131,7),2),1)","v":58.7},{"$f":"ROUND(MAX(_xlfn.NORM.INV(('Eingabe Email'!$B263+1)/MAX('Eingabe Email'!$B:$B),'H2 Originaldaten'!F131,7),2),1)","v":1829.7},{"$f":"ROUND(MAX(_xlfn.NORM.INV(('Eingabe Email'!$B263+1)/MAX('Eingabe Email'!$B:$B),'H2 Originaldaten'!G131,7),2),1)","v":14.7},{"$f":"'H2 Originaldaten'!H131","v":74},{"$f":"'H2 Originaldaten'!I131","v":3},{"$f":"'H2 Originaldaten'!J131","v":"toyota corolla 1200"}]
[131,{"$f":"ROUND(MAX(_xlfn.NORM.INV(('Eingabe Email'!$B264+1)/MAX('Eingabe Email'!$B:$B),'H2 Originaldaten'!B132,7),2),1)","v":31.9},{"$f":"'H2 Originaldaten'!C132","v":4},{"$f":"ROUND(MAX(_xlfn.NORM.INV(('Eingabe Email'!$B264+1)/MAX('Eingabe Email'!$B:$B),'H2 Originaldaten'!D132,7),2),1)","v":146.9},{"$f":"ROUND(MAX(_xlfn.NORM.INV(('Eingabe Email'!$B264+1)/MAX('Eingabe Email'!$B:$B),'H2 Originaldaten'!E132,7),2),1)","v":81.900000000000006},{"$f":"ROUND(MAX(_xlfn.NORM.INV(('Eingabe Email'!$B264+1)/MAX('Eingabe Email'!$B:$B),'H2 Originaldaten'!F132,7),2),1)","v":2548.9},{"$f":"ROUND(MAX(_xlfn.NORM.INV(('Eingabe Email'!$B264+1)/MAX('Eingabe Email'!$B:$B),'H2 Originaldaten'!G132,7),2),1)","v":23.9},{"$f":"'H2 Originaldaten'!H132","v":74},{"$f":"'H2 Originaldaten'!I132","v":1},{"$f":"'H2 Originaldaten'!J132","v":"chevrolet vega"}]
[132,{"$f":"ROUND(MAX(_xlfn.NORM.INV(('Eingabe Email'!$B265+1)/MAX('Eingabe Email'!$B:$B),'H2 Originaldaten'!B133,7),2),1)","v":19.8},{"$f":"'H2 Originaldaten'!C133","v":6},{"$f":"ROUND(MAX(_xlfn.NORM.INV(('Eingabe Email'!$B265+1)/MAX('Eingabe Email'!$B:$B),'H2 Originaldaten'!D133,7),2),1)","v":253.8},{"$f":"ROUND(MAX(_xlfn.NORM.INV(('Eingabe Email'!$B265+1)/MAX('Eingabe Email'!$B:$B),'H2 Originaldaten'!E133,7),2),1)","v":103.8},{"$f":"ROUND(MAX(_xlfn.NORM.INV(('Eingabe Email'!$B265+1)/MAX('Eingabe Email'!$B:$B),'H2 Originaldaten'!F133,7),2),1)","v":3784.8},{"$f":"ROUND(MAX(_xlfn.NORM.INV(('Eingabe Email'!$B265+1)/MAX('Eingabe Email'!$B:$B),'H2 Originaldaten'!G133,7),2),1)","v":20.8},{"$f":"'H2 Originaldaten'!H133","v":74},{"$f":"'H2 Originaldaten'!I133","v":1},{"$f":"'H2 Originaldaten'!J133","v":"chevrolet chevelle malibu classic"}]
[133,{"$f":"ROUND(MAX(_xlfn.NORM.INV(('Eingabe Email'!$B266+1)/MAX('Eingabe Email'!$B:$B),'H2 Originaldaten'!B134,7),2),1)","v":16.600000000000001},{"$f":"'H2 Originaldaten'!C134","v":6},{"$f":"ROUND(MAX(_xlfn.NORM.INV(('Eingabe Email'!$B266+1)/MAX('Eingabe Email'!$B:$B),'H2 Originaldaten'!D134,7),2),1)","v":258.60000000000002},{"$f":"ROUND(MAX(_xlfn.NORM.INV(('Eingabe Email'!$B266+1)/MAX('Eingabe Email'!$B:$B),'H2 Originaldaten'!E134,7),2),1)","v":110.6},{"$f":"ROUND(MAX(_xlfn.NORM.INV(('Eingabe Email'!$B266+1)/MAX('Eingabe Email'!$B:$B),'H2 Originaldaten'!F134,7),2),1)","v":3632.6},{"$f":"ROUND(MAX(_xlfn.NORM.INV(('Eingabe Email'!$B266+1)/MAX('Eingabe Email'!$B:$B),'H2 Originaldaten'!G134,7),2),1)","v":18.600000000000001},{"$f":"'H2 Originaldaten'!H134","v":74},{"$f":"'H2 Originaldaten'!I134","v":1},{"$f":"'H2 Originaldaten'!J134","v":"amc matador"}]
[134,{"$f":"ROUND(MAX(_xlfn.NORM.INV(('Eingabe Email'!$B267+1)/MAX('Eingabe Email'!$B:$B),'H2 Originaldaten'!B135,7),2),1)","v":15.3},{"$f":"'H2 Originaldaten'!C135","v":6},{"$f":"ROUND(MAX(_xlfn.NORM.INV(('Eingabe Email'!$B267+1)/MAX('Eingabe Email'!$B:$B),'H2 Originaldaten'!D135,7),2),1)","v":222.3},{"$f":"ROUND(MAX(_xlfn.NORM.INV(('Eingabe Email'!$B267+1)/MAX('Eingabe Email'!$B:$B),'H2 Originaldaten'!E135,7),2),1)","v":102.3},{"$f":"ROUND(MAX(_xlfn.NORM.INV(('Eingabe Email'!$B267+1)/MAX('Eingabe Email'!$B:$B),'H2 Originaldaten'!F135,7),2),1)","v":3610.3},{"$f":"ROUND(MAX(_xlfn.NORM.INV(('Eingabe Email'!$B267+1)/MAX('Eingabe Email'!$B:$B),'H2 Originaldaten'!G135,7),2),1)","v":13.8},{"$f":"'H2 Originaldaten'!H135","v":74},{"$f":"'H2 Originaldaten'!I135","v":1},{"$f":"'H2 Originaldaten'!J135","v":"plymouth satellite sebring"}]
[135,{"$f":"ROUND(MAX(_xlfn.NORM.INV(('Eingabe Email'!$B268+1)/MAX('Eingabe Email'!$B:$B),'H2 Originaldaten'!B136,7),2),1)","v":11.1},{"$f":"'H2 Originaldaten'!C136","v":8},{"$f":"ROUND(MAX(_xlfn.NORM.INV(('Eingabe Email'!$B268+1)/MAX('Eingabe Email'!$B:$B),'H2 Originaldaten'!D136,7),2),1)","v":297.10000000000002},{"$f":"ROUND(MAX(_xlfn.NORM.INV(('Eingabe Email'!$B268+1)/MAX('Eingabe Email'!$B:$B),'H2 Originaldaten'!E136,7),2),1)","v":135.1},{"$f":"ROUND(MAX(_xlfn.NORM.INV(('Eingabe Email'!$B268+1)/MAX('Eingabe Email'!$B:$B),'H2 Originaldaten'!F136,7),2),1)","v":4136.1000000000004},{"$f":"ROUND(MAX(_xlfn.NORM.INV(('Eingabe Email'!$B268+1)/MAX('Eingabe Email'!$B:$B),'H2 Originaldaten'!G136,7),2),1)","v":9.1},{"$f":"'H2 Originaldaten'!H136","v":74},{"$f":"'H2 Originaldaten'!I136","v":1},{"$f":"'H2 Originaldaten'!J136","v":"ford gran torino"}]
[136,{"$f":"ROUND(MAX(_xlfn.NORM.INV(('Eingabe Email'!$B269+1)/MAX('Eingabe Email'!$B:$B),'H2 Originaldaten'!B137,7),2),1)","v":10.6},{"$f":"'H2 Originaldaten'!C137","v":8},{"$f":"ROUND(MAX(_xlfn.NORM.INV(('Eingabe Email'!$B269+1)/MAX('Eingabe Email'!$B:$B),'H2 Originaldaten'!D137,7),2),1)","v":347.6},{"$f":"ROUND(MAX(_xlfn.NORM.INV(('Eingabe Email'!$B269+1)/MAX('Eingabe Email'!$B:$B),'H2 Originaldaten'!E137,7),2),1)","v":147.6},{"$f":"ROUND(MAX(_xlfn.NORM.INV(('Eingabe Email'!$B269+1)/MAX('Eingabe Email'!$B:$B),'H2 Originaldaten'!F137,7),2),1)","v":4696.6000000000004},{"$f":"ROUND(MAX(_xlfn.NORM.INV(('Eingabe Email'!$B269+1)/MAX('Eingabe Email'!$B:$B),'H2 Originaldaten'!G137,7),2),1)","v":12.1},{"$f":"'H2 Originaldaten'!H137","v":74},{"$f":"'H2 Originaldaten'!I137","v":1},{"$f":"'H2 Originaldaten'!J137","v":"buick century luxus (sw)"}]
[137,{"$f":"ROUND(MAX(_xlfn.NORM.INV(('Eingabe Email'!$B270+1)/MAX('Eingabe Email'!$B:$B),'H2 Originaldaten'!B138,7),2),1)","v":14.4},{"$f":"'H2 Originaldaten'!C138","v":8},{"$f":"ROUND(MAX(_xlfn.NORM.INV(('Eingabe Email'!$B270+1)/MAX('Eingabe Email'!$B:$B),'H2 Originaldaten'!D138,7),2),1)","v":318.39999999999998},{"$f":"ROUND(MAX(_xlfn.NORM.INV(('Eingabe Email'!$B270+1)/MAX('Eingabe Email'!$B:$B),'H2 Originaldaten'!E138,7),2),1)","v":150.4},{"$f":"ROUND(MAX(_xlfn.NORM.INV(('Eingabe Email'!$B270+1)/MAX('Eingabe Email'!$B:$B),'H2 Originaldaten'!F138,7),2),1)","v":4457.3999999999996},{"$f":"ROUND(MAX(_xlfn.NORM.INV(('Eingabe Email'!$B270+1)/MAX('Eingabe Email'!$B:$B),'H2 Originaldaten'!G138,7),2),1)","v":13.9},{"$f":"'H2 Originaldaten'!H138","v":74},{"$f":"'H2 Originaldaten'!I138","v":1},{"$f":"'H2 Originaldaten'!J138","v":"dodge coronet custom (sw)"}]
[138,{"$f":"ROUND(MAX(_xlfn.NORM.INV(('Eingabe Email'!$B271+1)/MAX('Eingabe Email'!$B:$B),'H2 Originaldaten'!B139,7),2),1)","v":14.7},{"$f":"'H2 Originaldaten'!C139","v":8},{"$f":"ROUND(MAX(_xlfn.NORM.INV(('Eingabe Email'!$B271+1)/MAX('Eingabe Email'!$B:$B),'H2 Originaldaten'!D139,7),2),1)","v":302.7},{"$f":"ROUND(MAX(_xlfn.NORM.INV(('Eingabe Email'!$B271+1)/MAX('Eingabe Email'!$B:$B),'H2 Originaldaten'!E139,7),2),1)","v":140.69999999999999},{"$f":"ROUND(MAX(_xlfn.NORM.INV(('Eingabe Email'!$B271+1)/MAX('Eingabe Email'!$B:$B),'H2 Originaldaten'!F139,7),2),1)","v":4638.7},{"$f":"ROUND(MAX(_xlfn.NORM.INV(('Eingabe Email'!$B271+1)/MAX('Eingabe Email'!$B:$B),'H2 Originaldaten'!G139,7),2),1)","v":16.7},{"$f":"'H2 Originaldaten'!H139","v":74},{"$f":"'H2 Originaldaten'!I139","v":1},{"$f":"'H2 Originaldaten'!J139","v":"ford gran torino (sw)"}]
[139,{"$f":"ROUND(MAX(_xlfn.NORM.INV(('Eingabe Email'!$B272+1)/MAX('Eingabe Email'!$B:$B),'H2 Originaldaten'!B140,7),2),1)","v":15.2},{"$f":"'H2 Originaldaten'!C140","v":8},{"$f":"ROUND(MAX(_xlfn.NORM.INV(('Eingabe Email'!$B272+1)/MAX('Eingabe Email'!$B:$B),'H2 Originaldaten'!D140,7),2),1)","v":305.2},{"$f":"ROUND(MAX(_xlfn.NORM.INV(('Eingabe Email'!$B272+1)/MAX('Eingabe Email'!$B:$B),'H2 Originaldaten'!E140,7),2),1)","v":151.19999999999999},{"$f":"ROUND(MAX(_xlfn.NORM.INV(('Eingabe Email'!$B272+1)/MAX('Eingabe Email'!$B:$B),'H2 Originaldaten'!F140,7),2),1)","v":4258.2},{"$f":"ROUND(MAX(_xlfn.NORM.INV(('Eingabe Email'!$B272+1)/MAX('Eingabe Email'!$B:$B),'H2 Originaldaten'!G140,7),2),1)","v":16.7},{"$f":"'H2 Originaldaten'!H140","v":74},{"$f":"'H2 Originaldaten'!I140","v":1},{"$f":"'H2 Originaldaten'!J140","v":"amc matador (sw)"}]
[140,{"$f":"ROUND(MAX(_xlfn.NORM.INV(('Eingabe Email'!$B273+1)/MAX('Eingabe Email'!$B:$B),'H2 Originaldaten'!B141,7),2),1)","v":37.9},{"$f":"'H2 Originaldaten'!C141","v":4},{"$f":"ROUND(MAX(_xlfn.NORM.INV(('Eingabe Email'!$B273+1)/MAX('Eingabe Email'!$B:$B),'H2 Originaldaten'!D141,7),2),1)","v":106.9},{"$f":"ROUND(MAX(_xlfn.NORM.INV(('Eingabe Email'!$B273+1)/MAX('Eingabe Email'!$B:$B),'H2 Originaldaten'!E141,7),2),1)","v":91.9},{"$f":"ROUND(MAX(_xlfn.NORM.INV(('Eingabe Email'!$B273+1)/MAX('Eingabe Email'!$B:$B),'H2 Originaldaten'!F141,7),2),1)","v":2227.9},{"$f":"ROUND(MAX(_xlfn.NORM.INV(('Eingabe Email'!$B273+1)/MAX('Eingabe Email'!$B:$B),'H2 Originaldaten'!G141,7),2),1)","v":25.4},{"$f":"'H2 Originaldaten'!H141","v":74},{"$f":"'H2 Originaldaten'!I141","v":2},{"$f":"'H2 Originaldaten'!J141","v":"audi fox"}]
[141,{"$f":"ROUND(MAX(_xlfn.NORM.INV(('Eingabe Email'!$B274+1)/MAX('Eingabe Email'!$B:$B),'H2 Originaldaten'!B142,7),2),1)","v":20.7},{"$f":"'H2 Originaldaten'!C142","v":4},{"$f":"ROUND(MAX(_xlfn.NORM.INV(('Eingabe Email'!$B274+1)/MAX('Eingabe Email'!$B:$B),'H2 Originaldaten'!D142,7),2),1)","v":73.7},{"$f":"ROUND(MAX(_xlfn.NORM.INV(('Eingabe Email'!$B274+1)/MAX('Eingabe Email'!$B:$B),'H2 Originaldaten'!E142,7),2),1)","v":61.7},{"$f":"ROUND(MAX(_xlfn.NORM.INV(('Eingabe Email'!$B274+1)/MAX('Eingabe Email'!$B:$B),'H2 Originaldaten'!F142,7),2),1)","v":1957.7},{"$f":"ROUND(MAX(_xlfn.NORM.INV(('Eingabe Email'!$B274+1)/MAX('Eingabe Email'!$B:$B),'H2 Originaldaten'!G142,7),2),1)","v":10.199999999999999},{"$f":"'H2 Originaldaten'!H142","v":74},{"$f":"'H2 Originaldaten'!I142","v":2},{"$f":"'H2 Originaldaten'!J142","v":"volkswagen dasher"}]
[142,{"$f":"ROUND(MAX(_xlfn.NORM.INV(('Eingabe Email'!$B275+1)/MAX('Eingabe Email'!$B:$B),'H2 Originaldaten'!B143,7),2),1)","v":31},{"$f":"'H2 Originaldaten'!C143","v":4},{"$f":"ROUND(MAX(_xlfn.NORM.INV(('Eingabe Email'!$B275+1)/MAX('Eingabe Email'!$B:$B),'H2 Originaldaten'!D143,7),2),1)","v":102},{"$f":"ROUND(MAX(_xlfn.NORM.INV(('Eingabe Email'!$B275+1)/MAX('Eingabe Email'!$B:$B),'H2 Originaldaten'!E143,7),2),1)","v":83},{"$f":"ROUND(MAX(_xlfn.NORM.INV(('Eingabe Email'!$B275+1)/MAX('Eingabe Email'!$B:$B),'H2 Originaldaten'!F143,7),2),1)","v":2305},{"$f":"ROUND(MAX(_xlfn.NORM.INV(('Eingabe Email'!$B275+1)/MAX('Eingabe Email'!$B:$B),'H2 Originaldaten'!G143,7),2),1)","v":19.5},{"$f":"'H2 Originaldaten'!H143","v":74},{"$f":"'H2 Originaldaten'!I143","v":2},{"$f":"'H2 Originaldaten'!J143","v":"opel manta"}]
[143,{"$f":"ROUND(MAX(_xlfn.NORM.INV(('Eingabe Email'!$B276+1)/MAX('Eingabe Email'!$B:$B),'H2 Originaldaten'!B144,7),2),1)","v":27.6},{"$f":"'H2 Originaldaten'!C144","v":4},{"$f":"ROUND(MAX(_xlfn.NORM.INV(('Eingabe Email'!$B276+1)/MAX('Eingabe Email'!$B:$B),'H2 Originaldaten'!D144,7),2),1)","v":72.599999999999994},{"$f":"ROUND(MAX(_xlfn.NORM.INV(('Eingabe Email'!$B276+1)/MAX('Eingabe Email'!$B:$B),'H2 Originaldaten'!E144,7),2),1)","v":48.6},{"$f":"ROUND(MAX(_xlfn.NORM.INV(('Eingabe Email'!$B276+1)/MAX('Eingabe Email'!$B:$B),'H2 Originaldaten'!F144,7),2),1)","v":1645.6},{"$f":"ROUND(MAX(_xlfn.NORM.INV(('Eingabe Email'!$B276+1)/MAX('Eingabe Email'!$B:$B),'H2 Originaldaten'!G144,7),2),1)","v":13.1},{"$f":"'H2 Originaldaten'!H144","v":74},{"$f":"'H2 Originaldaten'!I144","v":3},{"$f":"'H2 Originaldaten'!J144","v":"toyota corona"}]
[144,{"$f":"ROUND(MAX(_xlfn.NORM.INV(('Eingabe Email'!$B277+1)/MAX('Eingabe Email'!$B:$B),'H2 Originaldaten'!B145,7),2),1)","v":39.299999999999997},{"$f":"'H2 Originaldaten'!C145","v":4},{"$f":"ROUND(MAX(_xlfn.NORM.INV(('Eingabe Email'!$B277+1)/MAX('Eingabe Email'!$B:$B),'H2 Originaldaten'!D145,7),2),1)","v":90.3},{"$f":"ROUND(MAX(_xlfn.NORM.INV(('Eingabe Email'!$B277+1)/MAX('Eingabe Email'!$B:$B),'H2 Originaldaten'!E145,7),2),1)","v":68.3},{"$f":"ROUND(MAX(_xlfn.NORM.INV(('Eingabe Email'!$B277+1)/MAX('Eingabe Email'!$B:$B),'H2 Originaldaten'!F145,7),2),1)","v":2010.3},{"$f":"ROUND(MAX(_xlfn.NORM.INV(('Eingabe Email'!$B277+1)/MAX('Eingabe Email'!$B:$B),'H2 Originaldaten'!G145,7),2),1)","v":26.3},{"$f":"'H2 Originaldaten'!H145","v":74},{"$f":"'H2 Originaldaten'!I145","v":3},{"$f":"'H2 Originaldaten'!J145","v":"datsun 710"}]
[145,{"$f":"ROUND(MAX(_xlfn.NORM.INV(('Eingabe Email'!$B278+1)/MAX('Eingabe Email'!$B:$B),'H2 Originaldaten'!B146,7),2),1)","v":27.3},{"$f":"'H2 Originaldaten'!C146","v":4},{"$f":"ROUND(MAX(_xlfn.NORM.INV(('Eingabe Email'!$B278+1)/MAX('Eingabe Email'!$B:$B),'H2 Originaldaten'!D146,7),2),1)","v":89.3},{"$f":"ROUND(MAX(_xlfn.NORM.INV(('Eingabe Email'!$B278+1)/MAX('Eingabe Email'!$B:$B),'H2 Originaldaten'!E146,7),2),1)","v":74.3},{"$f":"ROUND(MAX(_xlfn.NORM.INV(('Eingabe Email'!$B278+1)/MAX('Eingabe Email'!$B:$B),'H2 Originaldaten'!F146,7),2),1)","v":2124.3000000000002},{"$f":"ROUND(MAX(_xlfn.NORM.INV(('Eingabe Email'!$B278+1)/MAX('Eingabe Email'!$B:$B),'H2 Originaldaten'!G146,7),2),1)","v":13.8},{"$f":"'H2 Originaldaten'!H146","v":74},{"$f":"'H2 Originaldaten'!I146","v":1},{"$f":"'H2 Originaldaten'!J146","v":"dodge colt"}]
[146,{"$f":"ROUND(MAX(_xlfn.NORM.INV(('Eingabe Email'!$B279+1)/MAX('Eingabe Email'!$B:$B),'H2 Originaldaten'!B147,7),2),1)","v":36.299999999999997},{"$f":"'H2 Originaldaten'!C147","v":4},{"$f":"ROUND(MAX(_xlfn.NORM.INV(('Eingabe Email'!$B279+1)/MAX('Eingabe Email'!$B:$B),'H2 Originaldaten'!D147,7),2),1)","v":102.3},{"$f":"ROUND(MAX(_xlfn.NORM.INV(('Eingabe Email'!$B279+1)/MAX('Eingabe Email'!$B:$B),'H2 Originaldaten'!E147,7),2),1)","v":87.3},{"$f":"ROUND(MAX(_xlfn.NORM.INV(('Eingabe Email'!$B279+1)/MAX('Eingabe Email'!$B:$B),'H2 Originaldaten'!F147,7),2),1)","v":2120.3000000000002},{"$f":"ROUND(MAX(_xlfn.NORM.INV(('Eingabe Email'!$B279+1)/MAX('Eingabe Email'!$B:$B),'H2 Originaldaten'!G147,7),2),1)","v":27.8},{"$f":"'H2 Originaldaten'!H147","v":74},{"$f":"'H2 Originaldaten'!I147","v":2},{"$f":"'H2 Originaldaten'!J147","v":"fiat 128"}]
[147,{"$f":"ROUND(MAX(_xlfn.NORM.INV(('Eingabe Email'!$B280+1)/MAX('Eingabe Email'!$B:$B),'H2 Originaldaten'!B148,7),2),1)","v":28.4},{"$f":"'H2 Originaldaten'!C148","v":4},{"$f":"ROUND(MAX(_xlfn.NORM.INV(('Eingabe Email'!$B280+1)/MAX('Eingabe Email'!$B:$B),'H2 Originaldaten'!D148,7),2),1)","v":118.4},{"$f":"ROUND(MAX(_xlfn.NORM.INV(('Eingabe Email'!$B280+1)/MAX('Eingabe Email'!$B:$B),'H2 Originaldaten'!E148,7),2),1)","v":77.400000000000006},{"$f":"ROUND(MAX(_xlfn.NORM.INV(('Eingabe Email'!$B280+1)/MAX('Eingabe Email'!$B:$B),'H2 Originaldaten'!F148,7),2),1)","v":2248.4},{"$f":"ROUND(MAX(_xlfn.NORM.INV(('Eingabe Email'!$B280+1)/MAX('Eingabe Email'!$B:$B),'H2 Originaldaten'!G148,7),2),1)","v":16.399999999999999},{"$f":"'H2 Originaldaten'!H148","v":74},{"$f":"'H2 Originaldaten'!I148","v":2},{"$f":"'H2 Originaldaten'!J148","v":"fiat 124 tc"}]
[148,{"$f":"ROUND(MAX(_xlfn.NORM.INV(('Eingabe Email'!$B281+1)/MAX('Eingabe Email'!$B:$B),'H2 Originaldaten'!B149,7),2),1)","v":18.7},{"$f":"'H2 Originaldaten'!C149","v":4},{"$f":"ROUND(MAX(_xlfn.NORM.INV(('Eingabe Email'!$B281+1)/MAX('Eingabe Email'!$B:$B),'H2 Originaldaten'!D149,7),2),1)","v":114.7},{"$f":"ROUND(MAX(_xlfn.NORM.INV(('Eingabe Email'!$B281+1)/MAX('Eingabe Email'!$B:$B),'H2 Originaldaten'!E149,7),2),1)","v":91.7},{"$f":"ROUND(MAX(_xlfn.NORM.INV(('Eingabe Email'!$B281+1)/MAX('Eingabe Email'!$B:$B),'H2 Originaldaten'!F149,7),2),1)","v":2483.6999999999998},{"$f":"ROUND(MAX(_xlfn.NORM.INV(('Eingabe Email'!$B281+1)/MAX('Eingabe Email'!$B:$B),'H2 Originaldaten'!G149,7),2),1)","v":9.6999999999999993},{"$f":"'H2 Originaldaten'!H149","v":74},{"$f":"'H2 Originaldaten'!I149","v":3},{"$f":"'H2 Originaldaten'!J149","v":"honda civic"}]
[149,{"$f":"ROUND(MAX(_xlfn.NORM.INV(('Eingabe Email'!$B282+1)/MAX('Eingabe Email'!$B:$B),'H2 Originaldaten'!B150,7),2),1)","v":28.3},{"$f":"'H2 Originaldaten'!C150","v":4},{"$f":"ROUND(MAX(_xlfn.NORM.INV(('Eingabe Email'!$B282+1)/MAX('Eingabe Email'!$B:$B),'H2 Originaldaten'!D150,7),2),1)","v":110.3},{"$f":"ROUND(MAX(_xlfn.NORM.INV(('Eingabe Email'!$B282+1)/MAX('Eingabe Email'!$B:$B),'H2 Originaldaten'!E150,7),2),1)","v":95.3},{"$f":"ROUND(MAX(_xlfn.NORM.INV(('Eingabe Email'!$B282+1)/MAX('Eingabe Email'!$B:$B),'H2 Originaldaten'!F150,7),2),1)","v":2393.3000000000002},{"$f":"ROUND(MAX(_xlfn.NORM.INV(('Eingabe Email'!$B282+1)/MAX('Eingabe Email'!$B:$B),'H2 Originaldaten'!G150,7),2),1)","v":17.8},{"$f":"'H2 Originaldaten'!H150","v":74},{"$f":"'H2 Originaldaten'!I150","v":3},{"$f":"'H2 Originaldaten'!J150","v":"subaru"}]
[150,{"$f":"ROUND(MAX(_xlfn.NORM.INV(('Eingabe Email'!$B283+1)/MAX('Eingabe Email'!$B:$B),'H2 Originaldaten'!B151,7),2),1)","v":37.5},{"$f":"'H2 Originaldaten'!C151","v":4},{"$f":"ROUND(MAX(_xlfn.NORM.INV(('Eingabe Email'!$B283+1)/MAX('Eingabe Email'!$B:$B),'H2 Originaldaten'!D151,7),2),1)","v":85.5},{"$f":"ROUND(MAX(_xlfn.NORM.INV(('Eingabe Email'!$B283+1)/MAX('Eingabe Email'!$B:$B),'H2 Originaldaten'!E151,7),2),1)","v":73.5},{"$f":"ROUND(MAX(_xlfn.NORM.INV(('Eingabe Email'!$B283+1)/MAX('Eingabe Email'!$B:$B),'H2 Originaldaten'!F151,7),2),1)","v":2006.5},{"$f":"ROUND(MAX(_xlfn.NORM.INV(('Eingabe Email'!$B283+1)/MAX('Eingabe Email'!$B:$B),'H2 Originaldaten'!G151,7),2),1)","v":22.5},{"$f":"'H2 Originaldaten'!H151","v":74},{"$f":"'H2 Originaldaten'!I151","v":2},{"$f":"'H2 Originaldaten'!J151","v":"fiat x1.9"}]
[151,{"$f":"ROUND(MAX(_xlfn.NORM.INV(('Eingabe Email'!$B284+1)/MAX('Eingabe Email'!$B:$B),'H2 Originaldaten'!B152,7),2),1)","v":25.5},{"$f":"'H2 Originaldaten'!C152","v":6},{"$f":"ROUND(MAX(_xlfn.NORM.INV(('Eingabe Email'!$B284+1)/MAX('Eingabe Email'!$B:$B),'H2 Originaldaten'!D152,7),2),1)","v":231.5},{"$f":"ROUND(MAX(_xlfn.NORM.INV(('Eingabe Email'!$B284+1)/MAX('Eingabe Email'!$B:$B),'H2 Originaldaten'!E152,7),2),1)","v":101.5},{"$f":"ROUND(MAX(_xlfn.NORM.INV(('Eingabe Email'!$B284+1)/MAX('Eingabe Email'!$B:$B),'H2 Originaldaten'!F152,7),2),1)","v":3270.5},{"$f":"ROUND(MAX(_xlfn.NORM.INV(('Eingabe Email'!$B284+1)/MAX('Eingabe Email'!$B:$B),'H2 Originaldaten'!G152,7),2),1)","v":22.5},{"$f":"'H2 Originaldaten'!H152","v":75},{"$f":"'H2 Originaldaten'!I152","v":1},{"$f":"'H2 Originaldaten'!J152","v":"plymouth valiant custom"}]
[152,{"$f":"ROUND(MAX(_xlfn.NORM.INV(('Eingabe Email'!$B285+1)/MAX('Eingabe Email'!$B:$B),'H2 Originaldaten'!B153,7),2),1)","v":26.3},{"$f":"'H2 Originaldaten'!C153","v":6},{"$f":"ROUND(MAX(_xlfn.NORM.INV(('Eingabe Email'!$B285+1)/MAX('Eingabe Email'!$B:$B),'H2 Originaldaten'!D153,7),2),1)","v":258.3},{"$f":"ROUND(MAX(_xlfn.NORM.INV(('Eingabe Email'!$B285+1)/MAX('Eingabe Email'!$B:$B),'H2 Originaldaten'!E153,7),2),1)","v":113.3},{"$f":"ROUND(MAX(_xlfn.NORM.INV(('Eingabe Email'!$B285+1)/MAX('Eingabe Email'!$B:$B),'H2 Originaldaten'!F153,7),2),1)","v":3467.3},{"$f":"ROUND(MAX(_xlfn.NORM.INV(('Eingabe Email'!$B285+1)/MAX('Eingabe Email'!$B:$B),'H2 Originaldaten'!G153,7),2),1)","v":24.3},{"$f":"'H2 Originaldaten'!H153","v":75},{"$f":"'H2 Originaldaten'!I153","v":1},{"$f":"'H2 Originaldaten'!J153","v":"chevrolet nova"}]
[153,{"$f":"ROUND(MAX(_xlfn.NORM.INV(('Eingabe Email'!$B286+1)/MAX('Eingabe Email'!$B:$B),'H2 Originaldaten'!B154,7),2),1)","v":7.6},{"$f":"'H2 Originaldaten'!C154","v":6},{"$f":"ROUND(MAX(_xlfn.NORM.INV(('Eingabe Email'!$B286+1)/MAX('Eingabe Email'!$B:$B),'H2 Originaldaten'!D154,7),2),1)","v":242.6},{"$f":"ROUND(MAX(_xlfn.NORM.INV(('Eingabe Email'!$B286+1)/MAX('Eingabe Email'!$B:$B),'H2 Originaldaten'!E154,7),2),1)","v":64.599999999999994},{"$f":"ROUND(MAX(_xlfn.NORM.INV(('Eingabe Email'!$B286+1)/MAX('Eingabe Email'!$B:$B),'H2 Originaldaten'!F154,7),2),1)","v":3424.6},{"$f":"ROUND(MAX(_xlfn.NORM.INV(('Eingabe Email'!$B286+1)/MAX('Eingabe Email'!$B:$B),'H2 Originaldaten'!G154,7),2),1)","v":13.6},{"$f":"'H2 Originaldaten'!H154","v":75},{"$f":"'H2 Originaldaten'!I154","v":1},{"$f":"'H2 Originaldaten'!J154","v":"mercury monarch"}]
[154,{"$f":"ROUND(MAX(_xlfn.NORM.INV(('Eingabe Email'!$B287+1)/MAX('Eingabe Email'!$B:$B),'H2 Originaldaten'!B155,7),2),1)","v":10.199999999999999},{"$f":"'H2 Originaldaten'!C155","v":6},{"$f":"ROUND(MAX(_xlfn.NORM.INV(('Eingabe Email'!$B287+1)/MAX('Eingabe Email'!$B:$B),'H2 Originaldaten'!D155,7),2),1)","v":245.2},{"$f":"ROUND(MAX(_xlfn.NORM.INV(('Eingabe Email'!$B287+1)/MAX('Eingabe Email'!$B:$B),'H2 Originaldaten'!E155,7),2),1)","v":67.2},{"$f":"ROUND(MAX(_xlfn.NORM.INV(('Eingabe Email'!$B287+1)/MAX('Eingabe Email'!$B:$B),'H2 Originaldaten'!F155,7),2),1)","v":3153.2},{"$f":"ROUND(MAX(_xlfn.NORM.INV(('Eingabe Email'!$B287+1)/MAX('Eingabe Email'!$B:$B),'H2 Originaldaten'!G155,7),2),1)","v":14.7},{"$f":"'H2 Originaldaten'!H155","v":75},{"$f":"'H2 Originaldaten'!I155","v":1},{"$f":"'H2 Originaldaten'!J155","v":"ford maverick"}]
[155,{"$f":"ROUND(MAX(_xlfn.NORM.INV(('Eingabe Email'!$B288+1)/MAX('Eingabe Email'!$B:$B),'H2 Originaldaten'!B156,7),2),1)","v":15.5},{"$f":"'H2 Originaldaten'!C156","v":8},{"$f":"ROUND(MAX(_xlfn.NORM.INV(('Eingabe Email'!$B288+1)/MAX('Eingabe Email'!$B:$B),'H2 Originaldaten'!D156,7),2),1)","v":399.5},{"$f":"ROUND(MAX(_xlfn.NORM.INV(('Eingabe Email'!$B288+1)/MAX('Eingabe Email'!$B:$B),'H2 Originaldaten'!E156,7),2),1)","v":169.5},{"$f":"ROUND(MAX(_xlfn.NORM.INV(('Eingabe Email'!$B288+1)/MAX('Eingabe Email'!$B:$B),'H2 Originaldaten'!F156,7),2),1)","v":4667.5},{"$f":"ROUND(MAX(_xlfn.NORM.INV(('Eingabe Email'!$B288+1)/MAX('Eingabe Email'!$B:$B),'H2 Originaldaten'!G156,7),2),1)","v":11},{"$f":"'H2 Originaldaten'!H156","v":75},{"$f":"'H2 Originaldaten'!I156","v":1},{"$f":"'H2 Originaldaten'!J156","v":"pontiac catalina"}]
[156,{"$f":"ROUND(MAX(_xlfn.NORM.INV(('Eingabe Email'!$B289+1)/MAX('Eingabe Email'!$B:$B),'H2 Originaldaten'!B157,7),2),1)","v":20.6},{"$f":"'H2 Originaldaten'!C157","v":8},{"$f":"ROUND(MAX(_xlfn.NORM.INV(('Eingabe Email'!$B289+1)/MAX('Eingabe Email'!$B:$B),'H2 Originaldaten'!D157,7),2),1)","v":355.6},{"$f":"ROUND(MAX(_xlfn.NORM.INV(('Eingabe Email'!$B289+1)/MAX('Eingabe Email'!$B:$B),'H2 Originaldaten'!E157,7),2),1)","v":150.6},{"$f":"ROUND(MAX(_xlfn.NORM.INV(('Eingabe Email'!$B289+1)/MAX('Eingabe Email'!$B:$B),'H2 Originaldaten'!F157,7),2),1)","v":4445.6000000000004},{"$f":"ROUND(MAX(_xlfn.NORM.INV(('Eingabe Email'!$B289+1)/MAX('Eingabe Email'!$B:$B),'H2 Originaldaten'!G157,7),2),1)","v":19.600000000000001},{"$f":"'H2 Originaldaten'!H157","v":75},{"$f":"'H2 Originaldaten'!I157","v":1},{"$f":"'H2 Originaldaten'!J157","v":"chevrolet bel air"}]
[157,{"$f":"ROUND(MAX(_xlfn.NORM.INV(('Eingabe Email'!$B290+1)/MAX('Eingabe Email'!$B:$B),'H2 Originaldaten'!B158,7),2),1)","v":21.8},{"$f":"'H2 Originaldaten'!C158","v":8},{"$f":"ROUND(MAX(_xlfn.NORM.INV(('Eingabe Email'!$B290+1)/MAX('Eingabe Email'!$B:$B),'H2 Originaldaten'!D158,7),2),1)","v":323.8},{"$f":"ROUND(MAX(_xlfn.NORM.INV(('Eingabe Email'!$B290+1)/MAX('Eingabe Email'!$B:$B),'H2 Originaldaten'!E158,7),2),1)","v":155.80000000000001},{"$f":"ROUND(MAX(_xlfn.NORM.INV(('Eingabe Email'!$B290+1)/MAX('Eingabe Email'!$B:$B),'H2 Originaldaten'!F158,7),2),1)","v":4503.8},{"$f":"ROUND(MAX(_xlfn.NORM.INV(('Eingabe Email'!$B290+1)/MAX('Eingabe Email'!$B:$B),'H2 Originaldaten'!G158,7),2),1)","v":20.3},{"$f":"'H2 Originaldaten'!H158","v":75},{"$f":"'H2 Originaldaten'!I158","v":1},{"$f":"'H2 Originaldaten'!J158","v":"plymouth grand fury"}]
[158,{"$f":"ROUND(MAX(_xlfn.NORM.INV(('Eingabe Email'!$B291+1)/MAX('Eingabe Email'!$B:$B),'H2 Originaldaten'!B159,7),2),1)","v":23},{"$f":"'H2 Originaldaten'!C159","v":8},{"$f":"ROUND(MAX(_xlfn.NORM.INV(('Eingabe Email'!$B291+1)/MAX('Eingabe Email'!$B:$B),'H2 Originaldaten'!D159,7),2),1)","v":360},{"$f":"ROUND(MAX(_xlfn.NORM.INV(('Eingabe Email'!$B291+1)/MAX('Eingabe Email'!$B:$B),'H2 Originaldaten'!E159,7),2),1)","v":157},{"$f":"ROUND(MAX(_xlfn.NORM.INV(('Eingabe Email'!$B291+1)/MAX('Eingabe Email'!$B:$B),'H2 Originaldaten'!F159,7),2),1)","v":4666},{"$f":"ROUND(MAX(_xlfn.NORM.INV(('Eingabe Email'!$B291+1)/MAX('Eingabe Email'!$B:$B),'H2 Originaldaten'!G159,7),2),1)","v":22.5},{"$f":"'H2 Originaldaten'!H159","v":75},{"$f":"'H2 Originaldaten'!I159","v":1},{"$f":"'H2 Originaldaten'!J159","v":"ford ltd"}]
[159,{"$f":"ROUND(MAX(_xlfn.NORM.INV(('Eingabe Email'!$B292+1)/MAX('Eingabe Email'!$B:$B),'H2 Originaldaten'!B160,7),2),1)","v":25},{"$f":"'H2 Originaldaten'!C160","v":6},{"$f":"ROUND(MAX(_xlfn.NORM.INV(('Eingabe Email'!$B292+1)/MAX('Eingabe Email'!$B:$B),'H2 Originaldaten'!D160,7),2),1)","v":239},{"$f":"ROUND(MAX(_xlfn.NORM.INV(('Eingabe Email'!$B292+1)/MAX('Eingabe Email'!$B:$B),'H2 Originaldaten'!E160,7),2),1)","v":118},{"$f":"ROUND(MAX(_xlfn.NORM.INV(('Eingabe Email'!$B292+1)/MAX('Eingabe Email'!$B:$B),'H2 Originaldaten'!F160,7),2),1)","v":3915},{"$f":"ROUND(MAX(_xlfn.NORM.INV(('Eingabe Email'!$B292+1)/MAX('Eingabe Email'!$B:$B),'H2 Originaldaten'!G160,7),2),1)","v":29},{"$f":"'H2 Originaldaten'!H160","v":75},{"$f":"'H2 Originaldaten'!I160","v":1},{"$f":"'H2 Originaldaten'!J160","v":"buick century"}]
[160,{"$f":"ROUND(MAX(_xlfn.NORM.INV(('Eingabe Email'!$B293+1)/MAX('Eingabe Email'!$B:$B),'H2 Originaldaten'!B161,7),2),1)","v":26.5},{"$f":"'H2 Originaldaten'!C161","v":6},{"$f":"ROUND(MAX(_xlfn.NORM.INV(('Eingabe Email'!$B293+1)/MAX('Eingabe Email'!$B:$B),'H2 Originaldaten'!D161,7),2),1)","v":260.5},{"$f":"ROUND(MAX(_xlfn.NORM.INV(('Eingabe Email'!$B293+1)/MAX('Eingabe Email'!$B:$B),'H2 Originaldaten'!E161,7),2),1)","v":115.5},{"$f":"ROUND(MAX(_xlfn.NORM.INV(('Eingabe Email'!$B293+1)/MAX('Eingabe Email'!$B:$B),'H2 Originaldaten'!F161,7),2),1)","v":3907.5},{"$f":"ROUND(MAX(_xlfn.NORM.INV(('Eingabe Email'!$B293+1)/MAX('Eingabe Email'!$B:$B),'H2 Originaldaten'!G161,7),2),1)","v":29},{"$f":"'H2 Originaldaten'!H161","v":75},{"$f":"'H2 Originaldaten'!I161","v":1},{"$f":"'H2 Originaldaten'!J161","v":"chevroelt chevelle malibu"}]
[161,{"$f":"ROUND(MAX(_xlfn.NORM.INV(('Eingabe Email'!$B294+1)/MAX('Eingabe Email'!$B:$B),'H2 Originaldaten'!B162,7),2),1)","v":13.9},{"$f":"'H2 Originaldaten'!C162","v":6},{"$f":"ROUND(MAX(_xlfn.NORM.INV(('Eingabe Email'!$B294+1)/MAX('Eingabe Email'!$B:$B),'H2 Originaldaten'!D162,7),2),1)","v":256.89999999999998},{"$f":"ROUND(MAX(_xlfn.NORM.INV(('Eingabe Email'!$B294+1)/MAX('Eingabe Email'!$B:$B),'H2 Originaldaten'!E162,7),2),1)","v":108.9},{"$f":"ROUND(MAX(_xlfn.NORM.INV(('Eingabe Email'!$B294+1)/MAX('Eingabe Email'!$B:$B),'H2 Originaldaten'!F162,7),2),1)","v":3728.9},{"$f":"ROUND(MAX(_xlfn.NORM.INV(('Eingabe Email'!$B294+1)/MAX('Eingabe Email'!$B:$B),'H2 Originaldaten'!G162,7),2),1)","v":17.899999999999999},{"$f":"'H2 Originaldaten'!H162","v":75},{"$f":"'H2 Originaldaten'!I162","v":1},{"$f":"'H2 Originaldaten'!J162","v":"amc matador"}]
[162,{"$f":"ROUND(MAX(_xlfn.NORM.INV(('Eingabe Email'!$B295+1)/MAX('Eingabe Email'!$B:$B),'H2 Originaldaten'!B163,7),2),1)","v":3},{"$f":"'H2 Originaldaten'!C163","v":6},{"$f":"ROUND(MAX(_xlfn.NORM.INV(('Eingabe Email'!$B295+1)/MAX('Eingabe Email'!$B:$B),'H2 Originaldaten'!D163,7),2),1)","v":210},{"$f":"ROUND(MAX(_xlfn.NORM.INV(('Eingabe Email'!$B295+1)/MAX('Eingabe Email'!$B:$B),'H2 Originaldaten'!E163,7),2),1)","v":80},{"$f":"ROUND(MAX(_xlfn.NORM.INV(('Eingabe Email'!$B295+1)/MAX('Eingabe Email'!$B:$B),'H2 Originaldaten'!F163,7),2),1)","v":3770},{"$f":"ROUND(MAX(_xlfn.NORM.INV(('Eingabe Email'!$B295+1)/MAX('Eingabe Email'!$B:$B),'H2 Originaldaten'!G163,7),2),1)","v":4},{"$f":"'H2 Originaldaten'!H163","v":75},{"$f":"'H2 Originaldaten'!I163","v":1},{"$f":"'H2 Originaldaten'!J163","v":"plymouth fury"}]
[163,{"$f":"ROUND(MAX(_xlfn.NORM.INV(('Eingabe Email'!$B296+1)/MAX('Eingabe Email'!$B:$B),'H2 Originaldaten'!B164,7),2),1)","v":16.399999999999999},{"$f":"'H2 Originaldaten'!C164","v":6},{"$f":"ROUND(MAX(_xlfn.NORM.INV(('Eingabe Email'!$B296+1)/MAX('Eingabe Email'!$B:$B),'H2 Originaldaten'!D164,7),2),1)","v":226.4},{"$f":"ROUND(MAX(_xlfn.NORM.INV(('Eingabe Email'!$B296+1)/MAX('Eingabe Email'!$B:$B),'H2 Originaldaten'!E164,7),2),1)","v":105.4},{"$f":"ROUND(MAX(_xlfn.NORM.INV(('Eingabe Email'!$B296+1)/MAX('Eingabe Email'!$B:$B),'H2 Originaldaten'!F164,7),2),1)","v":3034.4},{"$f":"ROUND(MAX(_xlfn.NORM.INV(('Eingabe Email'!$B296+1)/MAX('Eingabe Email'!$B:$B),'H2 Originaldaten'!G164,7),2),1)","v":10.4},{"$f":"'H2 Originaldaten'!H164","v":75},{"$f":"'H2 Originaldaten'!I164","v":1},{"$f":"'H2 Originaldaten'!J164","v":"buick skyhawk"}]
[164,{"$f":"ROUND(MAX(_xlfn.NORM.INV(('Eingabe Email'!$B297+1)/MAX('Eingabe Email'!$B:$B),'H2 Originaldaten'!B165,7),2),1)","v":19.600000000000001},{"$f":"'H2 Originaldaten'!C165","v":8},{"$f":"ROUND(MAX(_xlfn.NORM.INV(('Eingabe Email'!$B297+1)/MAX('Eingabe Email'!$B:$B),'H2 Originaldaten'!D165,7),2),1)","v":261.60000000000002},{"$f":"ROUND(MAX(_xlfn.NORM.INV(('Eingabe Email'!$B297+1)/MAX('Eingabe Email'!$B:$B),'H2 Originaldaten'!E165,7),2),1)","v":109.6},{"$f":"ROUND(MAX(_xlfn.NORM.INV(('Eingabe Email'!$B297+1)/MAX('Eingabe Email'!$B:$B),'H2 Originaldaten'!F165,7),2),1)","v":3220.6},{"$f":"ROUND(MAX(_xlfn.NORM.INV(('Eingabe Email'!$B297+1)/MAX('Eingabe Email'!$B:$B),'H2 Originaldaten'!G165,7),2),1)","v":13.1},{"$f":"'H2 Originaldaten'!H165","v":75},{"$f":"'H2 Originaldaten'!I165","v":1},{"$f":"'H2 Originaldaten'!J165","v":"chevrolet monza 2+2"}]
[165,{"$f":"ROUND(MAX(_xlfn.NORM.INV(('Eingabe Email'!$B298+1)/MAX('Eingabe Email'!$B:$B),'H2 Originaldaten'!B166,7),2),1)","v":14.6},{"$f":"'H2 Originaldaten'!C166","v":8},{"$f":"ROUND(MAX(_xlfn.NORM.INV(('Eingabe Email'!$B298+1)/MAX('Eingabe Email'!$B:$B),'H2 Originaldaten'!D166,7),2),1)","v":303.60000000000002},{"$f":"ROUND(MAX(_xlfn.NORM.INV(('Eingabe Email'!$B298+1)/MAX('Eingabe Email'!$B:$B),'H2 Originaldaten'!E166,7),2),1)","v":130.6},{"$f":"ROUND(MAX(_xlfn.NORM.INV(('Eingabe Email'!$B298+1)/MAX('Eingabe Email'!$B:$B),'H2 Originaldaten'!F166,7),2),1)","v":3170.6},{"$f":"ROUND(MAX(_xlfn.NORM.INV(('Eingabe Email'!$B298+1)/MAX('Eingabe Email'!$B:$B),'H2 Originaldaten'!G166,7),2),1)","v":13.6},{"$f":"'H2 Originaldaten'!H166","v":75},{"$f":"'H2 Originaldaten'!I166","v":1},{"$f":"'H2 Originaldaten'!J166","v":"ford mustang ii"}]
[166,{"$f":"ROUND(MAX(_xlfn.NORM.INV(('Eingabe Email'!$B299+1)/MAX('Eingabe Email'!$B:$B),'H2 Originaldaten'!B167,7),2),1)","v":22.5},{"$f":"'H2 Originaldaten'!C167","v":4},{"$f":"ROUND(MAX(_xlfn.NORM.INV(('Eingabe Email'!$B299+1)/MAX('Eingabe Email'!$B:$B),'H2 Originaldaten'!D167,7),2),1)","v":90.5},{"$f":"ROUND(MAX(_xlfn.NORM.INV(('Eingabe Email'!$B299+1)/MAX('Eingabe Email'!$B:$B),'H2 Originaldaten'!E167,7),2),1)","v":68.5},{"$f":"ROUND(MAX(_xlfn.NORM.INV(('Eingabe Email'!$B299+1)/MAX('Eingabe Email'!$B:$B),'H2 Originaldaten'!F167,7),2),1)","v":2164.5},{"$f":"ROUND(MAX(_xlfn.NORM.INV(('Eingabe Email'!$B299+1)/MAX('Eingabe Email'!$B:$B),'H2 Originaldaten'!G167,7),2),1)","v":9.5},{"$f":"'H2 Originaldaten'!H167","v":75},{"$f":"'H2 Originaldaten'!I167","v":3},{"$f":"'H2 Originaldaten'!J167","v":"toyota corolla"}]
[167,{"$f":"ROUND(MAX(_xlfn.NORM.INV(('Eingabe Email'!$B300+1)/MAX('Eingabe Email'!$B:$B),'H2 Originaldaten'!B168,7),2),1)","v":23.4},{"$f":"'H2 Originaldaten'!C168","v":4},{"$f":"ROUND(MAX(_xlfn.NORM.INV(('Eingabe Email'!$B300+1)/MAX('Eingabe Email'!$B:$B),'H2 Originaldaten'!D168,7),2),1)","v":140.4},{"$f":"ROUND(MAX(_xlfn.NORM.INV(('Eingabe Email'!$B300+1)/MAX('Eingabe Email'!$B:$B),'H2 Originaldaten'!E168,7),2),1)","v":83.4},{"$f":"ROUND(MAX(_xlfn.NORM.INV(('Eingabe Email'!$B300+1)/MAX('Eingabe Email'!$B:$B),'H2 Originaldaten'!F168,7),2),1)","v":2639.4},{"$f":"ROUND(MAX(_xlfn.NORM.INV(('Eingabe Email'!$B300+1)/MAX('Eingabe Email'!$B:$B),'H2 Originaldaten'!G168,7),2),1)","v":17.399999999999999},{"$f":"'H2 Originaldaten'!H168","v":75},{"$f":"'H2 Originaldaten'!I168","v":1},{"$f":"'H2 Originaldaten'!J168","v":"ford pinto"}]
[168,{"$f":"ROUND(MAX(_xlfn.NORM.INV(('Eingabe Email'!$B301+1)/MAX('Eingabe Email'!$B:$B),'H2 Originaldaten'!B169,7),2),1)","v":18.100000000000001},{"$f":"'H2 Originaldaten'!C169","v":6},{"$f":"ROUND(MAX(_xlfn.NORM.INV(('Eingabe Email'!$B301+1)/MAX('Eingabe Email'!$B:$B),'H2 Originaldaten'!D169,7),2),1)","v":230.1},{"$f":"ROUND(MAX(_xlfn.NORM.INV(('Eingabe Email'!$B301+1)/MAX('Eingabe Email'!$B:$B),'H2 Originaldaten'!E169,7),2),1)","v":98.1},{"$f":"ROUND(MAX(_xlfn.NORM.INV(('Eingabe Email'!$B301+1)/MAX('Eingabe Email'!$B:$B),'H2 Originaldaten'!F169,7),2),1)","v":2912.1},{"$f":"ROUND(MAX(_xlfn.NORM.INV(('Eingabe Email'!$B301+1)/MAX('Eingabe Email'!$B:$B),'H2 Originaldaten'!G169,7),2),1)","v":14.1},{"$f":"'H2 Originaldaten'!H169","v":75},{"$f":"'H2 Originaldaten'!I169","v":1},{"$f":"'H2 Originaldaten'!J169","v":"amc gremlin"}]
[169,{"$f":"ROUND(MAX(_xlfn.NORM.INV(('Eingabe Email'!$B302+1)/MAX('Eingabe Email'!$B:$B),'H2 Originaldaten'!B170,7),2),1)","v":23.7},{"$f":"'H2 Originaldaten'!C170","v":4},{"$f":"ROUND(MAX(_xlfn.NORM.INV(('Eingabe Email'!$B302+1)/MAX('Eingabe Email'!$B:$B),'H2 Originaldaten'!D170,7),2),1)","v":140.69999999999999},{"$f":"ROUND(MAX(_xlfn.NORM.INV(('Eingabe Email'!$B302+1)/MAX('Eingabe Email'!$B:$B),'H2 Originaldaten'!E170,7),2),1)","v":78.7},{"$f":"ROUND(MAX(_xlfn.NORM.INV(('Eingabe Email'!$B302+1)/MAX('Eingabe Email'!$B:$B),'H2 Originaldaten'!F170,7),2),1)","v":2592.6999999999998},{"$f":"ROUND(MAX(_xlfn.NORM.INV(('Eingabe Email'!$B302+1)/MAX('Eingabe Email'!$B:$B),'H2 Originaldaten'!G170,7),2),1)","v":19.2},{"$f":"'H2 Originaldaten'!H170","v":75},{"$f":"'H2 Originaldaten'!I170","v":1},{"$f":"'H2 Originaldaten'!J170","v":"pontiac astro"}]
[170,{"$f":"ROUND(MAX(_xlfn.NORM.INV(('Eingabe Email'!$B303+1)/MAX('Eingabe Email'!$B:$B),'H2 Originaldaten'!B171,7),2),1)","v":28.5},{"$f":"'H2 Originaldaten'!C171","v":4},{"$f":"ROUND(MAX(_xlfn.NORM.INV(('Eingabe Email'!$B303+1)/MAX('Eingabe Email'!$B:$B),'H2 Originaldaten'!D171,7),2),1)","v":138.5},{"$f":"ROUND(MAX(_xlfn.NORM.INV(('Eingabe Email'!$B303+1)/MAX('Eingabe Email'!$B:$B),'H2 Originaldaten'!E171,7),2),1)","v":100.5},{"$f":"ROUND(MAX(_xlfn.NORM.INV(('Eingabe Email'!$B303+1)/MAX('Eingabe Email'!$B:$B),'H2 Originaldaten'!F171,7),2),1)","v":2706.5},{"$f":"ROUND(MAX(_xlfn.NORM.INV(('Eingabe Email'!$B303+1)/MAX('Eingabe Email'!$B:$B),'H2 Originaldaten'!G171,7),2),1)","v":18},{"$f":"'H2 Originaldaten'!H171","v":75},{"$f":"'H2 Originaldaten'!I171","v":3},{"$f":"'H2 Originaldaten'!J171","v":"toyota corona"}]
[171,{"$f":"ROUND(MAX(_xlfn.NORM.INV(('Eingabe Email'!$B304+1)/MAX('Eingabe Email'!$B:$B),'H2 Originaldaten'!B172,7),2),1)","v":22.7},{"$f":"'H2 Originaldaten'!C172","v":4},{"$f":"ROUND(MAX(_xlfn.NORM.INV(('Eingabe Email'!$B304+1)/MAX('Eingabe Email'!$B:$B),'H2 Originaldaten'!D172,7),2),1)","v":87.7},{"$f":"ROUND(MAX(_xlfn.NORM.INV(('Eingabe Email'!$B304+1)/MAX('Eingabe Email'!$B:$B),'H2 Originaldaten'!E172,7),2),1)","v":68.7},{"$f":"ROUND(MAX(_xlfn.NORM.INV(('Eingabe Email'!$B304+1)/MAX('Eingabe Email'!$B:$B),'H2 Originaldaten'!F172,7),2),1)","v":2220.6999999999998},{"$f":"ROUND(MAX(_xlfn.NORM.INV(('Eingabe Email'!$B304+1)/MAX('Eingabe Email'!$B:$B),'H2 Originaldaten'!G172,7),2),1)","v":14.2},{"$f":"'H2 Originaldaten'!H172","v":75},{"$f":"'H2 Originaldaten'!I172","v":2},{"$f":"'H2 Originaldaten'!J172","v":"volkswagen dasher"}]
[172,{"$f":"ROUND(MAX(_xlfn.NORM.INV(('Eingabe Email'!$B305+1)/MAX('Eingabe Email'!$B:$B),'H2 Originaldaten'!B173,7),2),1)","v":24},{"$f":"'H2 Originaldaten'!C173","v":4},{"$f":"ROUND(MAX(_xlfn.NORM.INV(('Eingabe Email'!$B305+1)/MAX('Eingabe Email'!$B:$B),'H2 Originaldaten'!D173,7),2),1)","v":119},{"$f":"ROUND(MAX(_xlfn.NORM.INV(('Eingabe Email'!$B305+1)/MAX('Eingabe Email'!$B:$B),'H2 Originaldaten'!E173,7),2),1)","v":97},{"$f":"ROUND(MAX(_xlfn.NORM.INV(('Eingabe Email'!$B305+1)/MAX('Eingabe Email'!$B:$B),'H2 Originaldaten'!F173,7),2),1)","v":2545},{"$f":"ROUND(MAX(_xlfn.NORM.INV(('Eingabe Email'!$B305+1)/MAX('Eingabe Email'!$B:$B),'H2 Originaldaten'!G173,7),2),1)","v":17},{"$f":"'H2 Originaldaten'!H173","v":75},{"$f":"'H2 Originaldaten'!I173","v":3},{"$f":"'H2 Originaldaten'!J173","v":"datsun 710"}]
[173,{"$f":"ROUND(MAX(_xlfn.NORM.INV(('Eingabe Email'!$B306+1)/MAX('Eingabe Email'!$B:$B),'H2 Originaldaten'!B174,7),2),1)","v":18.7},{"$f":"'H2 Originaldaten'!C174","v":6},{"$f":"ROUND(MAX(_xlfn.NORM.INV(('Eingabe Email'!$B306+1)/MAX('Eingabe Email'!$B:$B),'H2 Originaldaten'!D174,7),2),1)","v":171.7},{"$f":"ROUND(MAX(_xlfn.NORM.INV(('Eingabe Email'!$B306+1)/MAX('Eingabe Email'!$B:$B),'H2 Originaldaten'!E174,7),2),1)","v":97.7},{"$f":"ROUND(MAX(_xlfn.NORM.INV(('Eingabe Email'!$B306+1)/MAX('Eingabe Email'!$B:$B),'H2 Originaldaten'!F174,7),2),1)","v":2984.7},{"$f":"ROUND(MAX(_xlfn.NORM.INV(('Eingabe Email'!$B306+1)/MAX('Eingabe Email'!$B:$B),'H2 Originaldaten'!G174,7),2),1)","v":15.2},{"$f":"'H2 Originaldaten'!H174","v":75},{"$f":"'H2 Originaldaten'!I174","v":1},{"$f":"'H2 Originaldaten'!J174","v":"ford pinto"}]
[174,{"$f":"ROUND(MAX(_xlfn.NORM.INV(('Eingabe Email'!$B307+1)/MAX('Eingabe Email'!$B:$B),'H2 Originaldaten'!B175,7),2),1)","v":43.5},{"$f":"'H2 Originaldaten'!C175","v":4},{"$f":"ROUND(MAX(_xlfn.NORM.INV(('Eingabe Email'!$B307+1)/MAX('Eingabe Email'!$B:$B),'H2 Originaldaten'!D175,7),2),1)","v":104.5},{"$f":"ROUND(MAX(_xlfn.NORM.INV(('Eingabe Email'!$B307+1)/MAX('Eingabe Email'!$B:$B),'H2 Originaldaten'!E175,7),2),1)","v":84.5},{"$f":"ROUND(MAX(_xlfn.NORM.INV(('Eingabe Email'!$B307+1)/MAX('Eingabe Email'!$B:$B),'H2 Originaldaten'!F175,7),2),1)","v":1951.5},{"$f":"ROUND(MAX(_xlfn.NORM.INV(('Eingabe Email'!$B307+1)/MAX('Eingabe Email'!$B:$B),'H2 Originaldaten'!G175,7),2),1)","v":28.5},{"$f":"'H2 Originaldaten'!H175","v":75},{"$f":"'H2 Originaldaten'!I175","v":2},{"$f":"'H2 Originaldaten'!J175","v":"volkswagen rabbit"}]
[175,{"$f":"ROUND(MAX(_xlfn.NORM.INV(('Eingabe Email'!$B308+1)/MAX('Eingabe Email'!$B:$B),'H2 Originaldaten'!B176,7),2),1)","v":27.5},{"$f":"'H2 Originaldaten'!C176","v":6},{"$f":"ROUND(MAX(_xlfn.NORM.INV(('Eingabe Email'!$B308+1)/MAX('Eingabe Email'!$B:$B),'H2 Originaldaten'!D176,7),2),1)","v":240.5},{"$f":"ROUND(MAX(_xlfn.NORM.INV(('Eingabe Email'!$B308+1)/MAX('Eingabe Email'!$B:$B),'H2 Originaldaten'!E176,7),2),1)","v":98.5},{"$f":"ROUND(MAX(_xlfn.NORM.INV(('Eingabe Email'!$B308+1)/MAX('Eingabe Email'!$B:$B),'H2 Originaldaten'!F176,7),2),1)","v":3219.5},{"$f":"ROUND(MAX(_xlfn.NORM.INV(('Eingabe Email'!$B308+1)/MAX('Eingabe Email'!$B:$B),'H2 Originaldaten'!G176,7),2),1)","v":25.5},{"$f":"'H2 Originaldaten'!H176","v":75},{"$f":"'H2 Originaldaten'!I176","v":1},{"$f":"'H2 Originaldaten'!J176","v":"amc pacer"}]
[176,{"$f":"ROUND(MAX(_xlfn.NORM.INV(('Eingabe Email'!$B309+1)/MAX('Eingabe Email'!$B:$B),'H2 Originaldaten'!B177,7),2),1)","v":22},{"$f":"'H2 Originaldaten'!C177","v":4},{"$f":"ROUND(MAX(_xlfn.NORM.INV(('Eingabe Email'!$B309+1)/MAX('Eingabe Email'!$B:$B),'H2 Originaldaten'!D177,7),2),1)","v":114},{"$f":"ROUND(MAX(_xlfn.NORM.INV(('Eingabe Email'!$B309+1)/MAX('Eingabe Email'!$B:$B),'H2 Originaldaten'!E177,7),2),1)","v":94},{"$f":"ROUND(MAX(_xlfn.NORM.INV(('Eingabe Email'!$B309+1)/MAX('Eingabe Email'!$B:$B),'H2 Originaldaten'!F177,7),2),1)","v":2693},{"$f":"ROUND(MAX(_xlfn.NORM.INV(('Eingabe Email'!$B309+1)/MAX('Eingabe Email'!$B:$B),'H2 Originaldaten'!G177,7),2),1)","v":14},{"$f":"'H2 Originaldaten'!H177","v":75},{"$f":"'H2 Originaldaten'!I177","v":2},{"$f":"'H2 Originaldaten'!J177","v":"audi 100ls"}]
[177,{"$f":"ROUND(MAX(_xlfn.NORM.INV(('Eingabe Email'!$B310+1)/MAX('Eingabe Email'!$B:$B),'H2 Originaldaten'!B178,7),2),1)","v":6.6},{"$f":"'H2 Originaldaten'!C178","v":4},{"$f":"ROUND(MAX(_xlfn.NORM.INV(('Eingabe Email'!$B310+1)/MAX('Eingabe Email'!$B:$B),'H2 Originaldaten'!D178,7),2),1)","v":103.6},{"$f":"ROUND(MAX(_xlfn.NORM.INV(('Eingabe Email'!$B310+1)/MAX('Eingabe Email'!$B:$B),'H2 Originaldaten'!E178,7),2),1)","v":71.599999999999994},{"$f":"ROUND(MAX(_xlfn.NORM.INV(('Eingabe Email'!$B310+1)/MAX('Eingabe Email'!$B:$B),'H2 Originaldaten'!F178,7),2),1)","v":2940.6},{"$f":"ROUND(MAX(_xlfn.NORM.INV(('Eingabe Email'!$B310+1)/MAX('Eingabe Email'!$B:$B),'H2 Originaldaten'!G178,7),2),1)","v":2},{"$f":"'H2 Originaldaten'!H178","v":75},{"$f":"'H2 Originaldaten'!I178","v":2},{"$f":"'H2 Originaldaten'!J178","v":"peugeot 504"}]
[178,{"$f":"ROUND(MAX(_xlfn.NORM.INV(('Eingabe Email'!$B311+1)/MAX('Eingabe Email'!$B:$B),'H2 Originaldaten'!B179,7),2),1)","v":22},{"$f":"'H2 Originaldaten'!C179","v":4},{"$f":"ROUND(MAX(_xlfn.NORM.INV(('Eingabe Email'!$B311+1)/MAX('Eingabe Email'!$B:$B),'H2 Originaldaten'!D179,7),2),1)","v":121},{"$f":"ROUND(MAX(_xlfn.NORM.INV(('Eingabe Email'!$B311+1)/MAX('Eingabe Email'!$B:$B),'H2 Originaldaten'!E179,7),2),1)","v":98},{"$f":"ROUND(MAX(_xlfn.NORM.INV(('Eingabe Email'!$B311+1)/MAX('Eingabe Email'!$B:$B),'H2 Originaldaten'!F179,7),2),1)","v":2945},{"$f":"ROUND(MAX(_xlfn.NORM.INV(('Eingabe Email'!$B311+1)/MAX('Eingabe Email'!$B:$B),'H2 Originaldaten'!G179,7),2),1)","v":14.5},{"$f":"'H2 Originaldaten'!H179","v":75},{"$f":"'H2 Originaldaten'!I179","v":2},{"$f":"'H2 Originaldaten'!J179","v":"volvo 244dl"}]
[179,{"$f":"ROUND(MAX(_xlfn.NORM.INV(('Eingabe Email'!$B312+1)/MAX('Eingabe Email'!$B:$B),'H2 Originaldaten'!B180,7),2),1)","v":31.3},{"$f":"'H2 Originaldaten'!C180","v":4},{"$f":"ROUND(MAX(_xlfn.NORM.INV(('Eingabe Email'!$B312+1)/MAX('Eingabe Email'!$B:$B),'H2 Originaldaten'!D180,7),2),1)","v":127.3},{"$f":"ROUND(MAX(_xlfn.NORM.INV(('Eingabe Email'!$B312+1)/MAX('Eingabe Email'!$B:$B),'H2 Originaldaten'!E180,7),2),1)","v":121.3},{"$f":"ROUND(MAX(_xlfn.NORM.INV(('Eingabe Email'!$B312+1)/MAX('Eingabe Email'!$B:$B),'H2 Originaldaten'!F180,7),2),1)","v":2677.3},{"$f":"ROUND(MAX(_xlfn.NORM.INV(('Eingabe Email'!$B312+1)/MAX('Eingabe Email'!$B:$B),'H2 Originaldaten'!G180,7),2),1)","v":19.8},{"$f":"'H2 Originaldaten'!H180","v":75},{"$f":"'H2 Originaldaten'!I180","v":2},{"$f":"'H2 Originaldaten'!J180","v":"saab 99le"}]
[180,{"$f":"ROUND(MAX(_xlfn.NORM.INV(('Eingabe Email'!$B313+1)/MAX('Eingabe Email'!$B:$B),'H2 Originaldaten'!B181,7),2),1)","v":19.2},{"$f":"'H2 Originaldaten'!C181","v":4},{"$f":"ROUND(MAX(_xlfn.NORM.INV(('Eingabe Email'!$B313+1)/MAX('Eingabe Email'!$B:$B),'H2 Originaldaten'!D181,7),2),1)","v":77.2},{"$f":"ROUND(MAX(_xlfn.NORM.INV(('Eingabe Email'!$B313+1)/MAX('Eingabe Email'!$B:$B),'H2 Originaldaten'!E181,7),2),1)","v":39.200000000000003},{"$f":"ROUND(MAX(_xlfn.NORM.INV(('Eingabe Email'!$B313+1)/MAX('Eingabe Email'!$B:$B),'H2 Originaldaten'!F181,7),2),1)","v":1781.2},{"$f":"ROUND(MAX(_xlfn.NORM.INV(('Eingabe Email'!$B313+1)/MAX('Eingabe Email'!$B:$B),'H2 Originaldaten'!G181,7),2),1)","v":3.7},{"$f":"'H2 Originaldaten'!H181","v":75},{"$f":"'H2 Originaldaten'!I181","v":3},{"$f":"'H2 Originaldaten'!J181","v":"honda civic cvcc"}]
[181,{"$f":"ROUND(MAX(_xlfn.NORM.INV(('Eingabe Email'!$B314+1)/MAX('Eingabe Email'!$B:$B),'H2 Originaldaten'!B182,7),2),1)","v":27.1},{"$f":"'H2 Originaldaten'!C182","v":4},{"$f":"ROUND(MAX(_xlfn.NORM.INV(('Eingabe Email'!$B314+1)/MAX('Eingabe Email'!$B:$B),'H2 Originaldaten'!D182,7),2),1)","v":106.1},{"$f":"ROUND(MAX(_xlfn.NORM.INV(('Eingabe Email'!$B314+1)/MAX('Eingabe Email'!$B:$B),'H2 Originaldaten'!E182,7),2),1)","v":85.1},{"$f":"ROUND(MAX(_xlfn.NORM.INV(('Eingabe Email'!$B314+1)/MAX('Eingabe Email'!$B:$B),'H2 Originaldaten'!F182,7),2),1)","v":2463.1},{"$f":"ROUND(MAX(_xlfn.NORM.INV(('Eingabe Email'!$B314+1)/MAX('Eingabe Email'!$B:$B),'H2 Originaldaten'!G182,7),2),1)","v":14.6},{"$f":"'H2 Originaldaten'!H182","v":76},{"$f":"'H2 Originaldaten'!I182","v":2},{"$f":"'H2 Originaldaten'!J182","v":"fiat 131"}]
[182,{"$f":"ROUND(MAX(_xlfn.NORM.INV(('Eingabe Email'!$B315+1)/MAX('Eingabe Email'!$B:$B),'H2 Originaldaten'!B183,7),2),1)","v":28.4},{"$f":"'H2 Originaldaten'!C183","v":4},{"$f":"ROUND(MAX(_xlfn.NORM.INV(('Eingabe Email'!$B315+1)/MAX('Eingabe Email'!$B:$B),'H2 Originaldaten'!D183,7),2),1)","v":119.4},{"$f":"ROUND(MAX(_xlfn.NORM.INV(('Eingabe Email'!$B315+1)/MAX('Eingabe Email'!$B:$B),'H2 Originaldaten'!E183,7),2),1)","v":84.4},{"$f":"ROUND(MAX(_xlfn.NORM.INV(('Eingabe Email'!$B315+1)/MAX('Eingabe Email'!$B:$B),'H2 Originaldaten'!F183,7),2),1)","v":2223.4},{"$f":"ROUND(MAX(_xlfn.NORM.INV(('Eingabe Email'!$B315+1)/MAX('Eingabe Email'!$B:$B),'H2 Originaldaten'!G183,7),2),1)","v":20.3},{"$f":"'H2 Originaldaten'!H183","v":76},{"$f":"'H2 Originaldaten'!I183","v":2},{"$f":"'H2 Originaldaten'!J183","v":"opel 1900"}]
[183,{"$f":"ROUND(MAX(_xlfn.NORM.INV(('Eingabe Email'!$B316+1)/MAX('Eingabe Email'!$B:$B),'H2 Originaldaten'!B184,7),2),1)","v":20.100000000000001},{"$f":"'H2 Originaldaten'!C184","v":4},{"$f":"ROUND(MAX(_xlfn.NORM.INV(('Eingabe Email'!$B316+1)/MAX('Eingabe Email'!$B:$B),'H2 Originaldaten'!D184,7),2),1)","v":135.1},{"$f":"ROUND(MAX(_xlfn.NORM.INV(('Eingabe Email'!$B316+1)/MAX('Eingabe Email'!$B:$B),'H2 Originaldaten'!E184,7),2),1)","v":87.1},{"$f":"ROUND(MAX(_xlfn.NORM.INV(('Eingabe Email'!$B316+1)/MAX('Eingabe Email'!$B:$B),'H2 Originaldaten'!F184,7),2),1)","v":2567.1},{"$f":"ROUND(MAX(_xlfn.NORM.INV(('Eingabe Email'!$B316+1)/MAX('Eingabe Email'!$B:$B),'H2 Originaldaten'!G184,7),2),1)","v":10},{"$f":"'H2 Originaldaten'!H184","v":76},{"$f":"'H2 Originaldaten'!I184","v":1},{"$f":"'H2 Originaldaten'!J184","v":"capri ii"}]
[184,{"$f":"ROUND(MAX(_xlfn.NORM.INV(('Eingabe Email'!$B317+1)/MAX('Eingabe Email'!$B:$B),'H2 Originaldaten'!B185,7),2),1)","v":28.6},{"$f":"'H2 Originaldaten'!C185","v":4},{"$f":"ROUND(MAX(_xlfn.NORM.INV(('Eingabe Email'!$B317+1)/MAX('Eingabe Email'!$B:$B),'H2 Originaldaten'!D185,7),2),1)","v":100.6},{"$f":"ROUND(MAX(_xlfn.NORM.INV(('Eingabe Email'!$B317+1)/MAX('Eingabe Email'!$B:$B),'H2 Originaldaten'!E185,7),2),1)","v":81.599999999999994},{"$f":"ROUND(MAX(_xlfn.NORM.INV(('Eingabe Email'!$B317+1)/MAX('Eingabe Email'!$B:$B),'H2 Originaldaten'!F185,7),2),1)","v":2257.6},{"$f":"ROUND(MAX(_xlfn.NORM.INV(('Eingabe Email'!$B317+1)/MAX('Eingabe Email'!$B:$B),'H2 Originaldaten'!G185,7),2),1)","v":20.3},{"$f":"'H2 Originaldaten'!H185","v":76},{"$f":"'H2 Originaldaten'!I185","v":1},{"$f":"'H2 Originaldaten'!J185","v":"dodge colt"}]
[185,{"$f":"ROUND(MAX(_xlfn.NORM.INV(('Eingabe Email'!$B318+1)/MAX('Eingabe Email'!$B:$B),'H2 Originaldaten'!B186,7),2),1)","v":42.1},{"$f":"'H2 Originaldaten'!C186","v":4},{"$f":"ROUND(MAX(_xlfn.NORM.INV(('Eingabe Email'!$B318+1)/MAX('Eingabe Email'!$B:$B),'H2 Originaldaten'!D186,7),2),1)","v":116.1},{"$f":"ROUND(MAX(_xlfn.NORM.INV(('Eingabe Email'!$B318+1)/MAX('Eingabe Email'!$B:$B),'H2 Originaldaten'!E186,7),2),1)","v":98.1},{"$f":"ROUND(MAX(_xlfn.NORM.INV(('Eingabe Email'!$B318+1)/MAX('Eingabe Email'!$B:$B),'H2 Originaldaten'!F186,7),2),1)","v":2217.1},{"$f":"ROUND(MAX(_xlfn.NORM.INV(('Eingabe Email'!$B318+1)/MAX('Eingabe Email'!$B:$B),'H2 Originaldaten'!G186,7),2),1)","v":30.4},{"$f":"'H2 Originaldaten'!H186","v":76},{"$f":"'H2 Originaldaten'!I186","v":2},{"$f":"'H2 Originaldaten'!J186","v":"renault 12tl"}]
[186,{"$f":"ROUND(MAX(_xlfn.NORM.INV(('Eingabe Email'!$B319+1)/MAX('Eingabe Email'!$B:$B),'H2 Originaldaten'!B187,7),2),1)","v":26},{"$f":"'H2 Originaldaten'!C187","v":8},{"$f":"ROUND(MAX(_xlfn.NORM.INV(('Eingabe Email'!$B319+1)/MAX('Eingabe Email'!$B:$B),'H2 Originaldaten'!D187,7),2),1)","v":313.5},{"$f":"ROUND(MAX(_xlfn.NORM.INV(('Eingabe Email'!$B319+1)/MAX('Eingabe Email'!$B:$B),'H2 Originaldaten'!E187,7),2),1)","v":148.5},{"$f":"ROUND(MAX(_xlfn.NORM.INV(('Eingabe Email'!$B319+1)/MAX('Eingabe Email'!$B:$B),'H2 Originaldaten'!F187,7),2),1)","v":4223.5},{"$f":"ROUND(MAX(_xlfn.NORM.INV(('Eingabe Email'!$B319+1)/MAX('Eingabe Email'!$B:$B),'H2 Originaldaten'!G187,7),2),1)","v":21.5},{"$f":"'H2 Originaldaten'!H187","v":76},{"$f":"'H2 Originaldaten'!I187","v":1},{"$f":"'H2 Originaldaten'!J187","v":"chevrolet chevelle malibu classic"}]
[187,{"$f":"ROUND(MAX(_xlfn.NORM.INV(('Eingabe Email'!$B320+1)/MAX('Eingabe Email'!$B:$B),'H2 Originaldaten'!B188,7),2),1)","v":16.3},{"$f":"'H2 Originaldaten'!C188","v":8},{"$f":"ROUND(MAX(_xlfn.NORM.INV(('Eingabe Email'!$B320+1)/MAX('Eingabe Email'!$B:$B),'H2 Originaldaten'!D188,7),2),1)","v":318.3},{"$f":"ROUND(MAX(_xlfn.NORM.INV(('Eingabe Email'!$B320+1)/MAX('Eingabe Email'!$B:$B),'H2 Originaldaten'!E188,7),2),1)","v":150.30000000000001},{"$f":"ROUND(MAX(_xlfn.NORM.INV(('Eingabe Email'!$B320+1)/MAX('Eingabe Email'!$B:$B),'H2 Originaldaten'!F188,7),2),1)","v":4190.3},{"$f":"ROUND(MAX(_xlfn.NORM.INV(('Eingabe Email'!$B320+1)/MAX('Eingabe Email'!$B:$B),'H2 Originaldaten'!G188,7),2),1)","v":13.3},{"$f":"'H2 Originaldaten'!H188","v":76},{"$f":"'H2 Originaldaten'!I188","v":1},{"$f":"'H2 Originaldaten'!J188","v":"dodge coronet brougham"}]
[188,{"$f":"ROUND(MAX(_xlfn.NORM.INV(('Eingabe Email'!$B321+1)/MAX('Eingabe Email'!$B:$B),'H2 Originaldaten'!B189,7),2),1)","v":20.399999999999999},{"$f":"'H2 Originaldaten'!C189","v":8},{"$f":"ROUND(MAX(_xlfn.NORM.INV(('Eingabe Email'!$B321+1)/MAX('Eingabe Email'!$B:$B),'H2 Originaldaten'!D189,7),2),1)","v":308.89999999999998},{"$f":"ROUND(MAX(_xlfn.NORM.INV(('Eingabe Email'!$B321+1)/MAX('Eingabe Email'!$B:$B),'H2 Originaldaten'!E189,7),2),1)","v":124.9},{"$f":"ROUND(MAX(_xlfn.NORM.INV(('Eingabe Email'!$B321+1)/MAX('Eingabe Email'!$B:$B),'H2 Originaldaten'!F189,7),2),1)","v":3966.9},{"$f":"ROUND(MAX(_xlfn.NORM.INV(('Eingabe Email'!$B321+1)/MAX('Eingabe Email'!$B:$B),'H2 Originaldaten'!G189,7),2),1)","v":18.8},{"$f":"'H2 Originaldaten'!H189","v":76},{"$f":"'H2 Originaldaten'!I189","v":1},{"$f":"'H2 Originaldaten'!J189","v":"amc matador"}]
[189,{"$f":"ROUND(MAX(_xlfn.NORM.INV(('Eingabe Email'!$B322+1)/MAX('Eingabe Email'!$B:$B),'H2 Originaldaten'!B190,7),2),1)","v":23},{"$f":"'H2 Originaldaten'!C190","v":8},{"$f":"ROUND(MAX(_xlfn.NORM.INV(('Eingabe Email'!$B322+1)/MAX('Eingabe Email'!$B:$B),'H2 Originaldaten'!D190,7),2),1)","v":359.5},{"$f":"ROUND(MAX(_xlfn.NORM.INV(('Eingabe Email'!$B322+1)/MAX('Eingabe Email'!$B:$B),'H2 Originaldaten'!E190,7),2),1)","v":160.5},{"$f":"ROUND(MAX(_xlfn.NORM.INV(('Eingabe Email'!$B322+1)/MAX('Eingabe Email'!$B:$B),'H2 Originaldaten'!F190,7),2),1)","v":4223.5},{"$f":"ROUND(MAX(_xlfn.NORM.INV(('Eingabe Email'!$B322+1)/MAX('Eingabe Email'!$B:$B),'H2 Originaldaten'!G190,7),2),1)","v":21.3},{"$f":"'H2 Originaldaten'!H190","v":76},{"$f":"'H2 Originaldaten'!I190","v":1},{"$f":"'H2 Originaldaten'!J190","v":"ford gran torino"}]
[190,{"$f":"ROUND(MAX(_xlfn.NORM.INV(('Eingabe Email'!$B323+1)/MAX('Eingabe Email'!$B:$B),'H2 Originaldaten'!B191,7),2),1)","v":28.8},{"$f":"'H2 Originaldaten'!C191","v":6},{"$f":"ROUND(MAX(_xlfn.NORM.INV(('Eingabe Email'!$B323+1)/MAX('Eingabe Email'!$B:$B),'H2 Originaldaten'!D191,7),2),1)","v":231.8},{"$f":"ROUND(MAX(_xlfn.NORM.INV(('Eingabe Email'!$B323+1)/MAX('Eingabe Email'!$B:$B),'H2 Originaldaten'!E191,7),2),1)","v":106.8},{"$f":"ROUND(MAX(_xlfn.NORM.INV(('Eingabe Email'!$B323+1)/MAX('Eingabe Email'!$B:$B),'H2 Originaldaten'!F191,7),2),1)","v":3239.8},{"$f":"ROUND(MAX(_xlfn.NORM.INV(('Eingabe Email'!$B323+1)/MAX('Eingabe Email'!$B:$B),'H2 Originaldaten'!G191,7),2),1)","v":22.2},{"$f":"'H2 Originaldaten'!H191","v":76},{"$f":"'H2 Originaldaten'!I191","v":1},{"$f":"'H2 Originaldaten'!J191","v":"plymouth valiant"}]
[191,{"$f":"ROUND(MAX(_xlfn.NORM.INV(('Eingabe Email'!$B324+1)/MAX('Eingabe Email'!$B:$B),'H2 Originaldaten'!B192,7),2),1)","v":23.4},{"$f":"'H2 Originaldaten'!C192","v":6},{"$f":"ROUND(MAX(_xlfn.NORM.INV(('Eingabe Email'!$B324+1)/MAX('Eingabe Email'!$B:$B),'H2 Originaldaten'!D192,7),2),1)","v":251.4},{"$f":"ROUND(MAX(_xlfn.NORM.INV(('Eingabe Email'!$B324+1)/MAX('Eingabe Email'!$B:$B),'H2 Originaldaten'!E192,7),2),1)","v":106.4},{"$f":"ROUND(MAX(_xlfn.NORM.INV(('Eingabe Email'!$B324+1)/MAX('Eingabe Email'!$B:$B),'H2 Originaldaten'!F192,7),2),1)","v":3354.4},{"$f":"ROUND(MAX(_xlfn.NORM.INV(('Eingabe Email'!$B324+1)/MAX('Eingabe Email'!$B:$B),'H2 Originaldaten'!G192,7),2),1)","v":15.9},{"$f":"'H2 Originaldaten'!H192","v":76},{"$f":"'H2 Originaldaten'!I192","v":1},{"$f":"'H2 Originaldaten'!J192","v":"chevrolet nova"}]
[192,{"$f":"ROUND(MAX(_xlfn.NORM.INV(('Eingabe Email'!$B325+1)/MAX('Eingabe Email'!$B:$B),'H2 Originaldaten'!B193,7),2),1)","v":21.2},{"$f":"'H2 Originaldaten'!C193","v":6},{"$f":"ROUND(MAX(_xlfn.NORM.INV(('Eingabe Email'!$B325+1)/MAX('Eingabe Email'!$B:$B),'H2 Originaldaten'!D193,7),2),1)","v":197.2},{"$f":"ROUND(MAX(_xlfn.NORM.INV(('Eingabe Email'!$B325+1)/MAX('Eingabe Email'!$B:$B),'H2 Originaldaten'!E193,7),2),1)","v":78.2},{"$f":"ROUND(MAX(_xlfn.NORM.INV(('Eingabe Email'!$B325+1)/MAX('Eingabe Email'!$B:$B),'H2 Originaldaten'!F193,7),2),1)","v":3009.2},{"$f":"ROUND(MAX(_xlfn.NORM.INV(('Eingabe Email'!$B325+1)/MAX('Eingabe Email'!$B:$B),'H2 Originaldaten'!G193,7),2),1)","v":14.8},{"$f":"'H2 Originaldaten'!H193","v":76},{"$f":"'H2 Originaldaten'!I193","v":1},{"$f":"'H2 Originaldaten'!J193","v":"ford maverick"}]
[193,{"$f":"ROUND(MAX(_xlfn.NORM.INV(('Eingabe Email'!$B326+1)/MAX('Eingabe Email'!$B:$B),'H2 Originaldaten'!B194,7),2),1)","v":19.899999999999999},{"$f":"'H2 Originaldaten'!C194","v":6},{"$f":"ROUND(MAX(_xlfn.NORM.INV(('Eingabe Email'!$B326+1)/MAX('Eingabe Email'!$B:$B),'H2 Originaldaten'!D194,7),2),1)","v":229.4},{"$f":"ROUND(MAX(_xlfn.NORM.INV(('Eingabe Email'!$B326+1)/MAX('Eingabe Email'!$B:$B),'H2 Originaldaten'!E194,7),2),1)","v":87.4},{"$f":"ROUND(MAX(_xlfn.NORM.INV(('Eingabe Email'!$B326+1)/MAX('Eingabe Email'!$B:$B),'H2 Originaldaten'!F194,7),2),1)","v":3082.4},{"$f":"ROUND(MAX(_xlfn.NORM.INV(('Eingabe Email'!$B326+1)/MAX('Eingabe Email'!$B:$B),'H2 Originaldaten'!G194,7),2),1)","v":15},{"$f":"'H2 Originaldaten'!H194","v":76},{"$f":"'H2 Originaldaten'!I194","v":1},{"$f":"'H2 Originaldaten'!J194","v":"amc hornet"}]
[194,{"$f":"ROUND(MAX(_xlfn.NORM.INV(('Eingabe Email'!$B327+1)/MAX('Eingabe Email'!$B:$B),'H2 Originaldaten'!B195,7),2),1)","v":34.9},{"$f":"'H2 Originaldaten'!C195","v":4},{"$f":"ROUND(MAX(_xlfn.NORM.INV(('Eingabe Email'!$B327+1)/MAX('Eingabe Email'!$B:$B),'H2 Originaldaten'!D195,7),2),1)","v":90.9},{"$f":"ROUND(MAX(_xlfn.NORM.INV(('Eingabe Email'!$B327+1)/MAX('Eingabe Email'!$B:$B),'H2 Originaldaten'!E195,7),2),1)","v":57.9},{"$f":"ROUND(MAX(_xlfn.NORM.INV(('Eingabe Email'!$B327+1)/MAX('Eingabe Email'!$B:$B),'H2 Originaldaten'!F195,7),2),1)","v":2040.9},{"$f":"ROUND(MAX(_xlfn.NORM.INV(('Eingabe Email'!$B327+1)/MAX('Eingabe Email'!$B:$B),'H2 Originaldaten'!G195,7),2),1)","v":28.1},{"$f":"'H2 Originaldaten'!H195","v":76},{"$f":"'H2 Originaldaten'!I195","v":1},{"$f":"'H2 Originaldaten'!J195","v":"chevrolet chevette"}]
[195,{"$f":"ROUND(MAX(_xlfn.NORM.INV(('Eingabe Email'!$B328+1)/MAX('Eingabe Email'!$B:$B),'H2 Originaldaten'!B196,7),2),1)","v":17},{"$f":"'H2 Originaldaten'!C196","v":4},{"$f":"ROUND(MAX(_xlfn.NORM.INV(('Eingabe Email'!$B328+1)/MAX('Eingabe Email'!$B:$B),'H2 Originaldaten'!D196,7),2),1)","v":90.5},{"$f":"ROUND(MAX(_xlfn.NORM.INV(('Eingabe Email'!$B328+1)/MAX('Eingabe Email'!$B:$B),'H2 Originaldaten'!E196,7),2),1)","v":52.5},{"$f":"ROUND(MAX(_xlfn.NORM.INV(('Eingabe Email'!$B328+1)/MAX('Eingabe Email'!$B:$B),'H2 Originaldaten'!F196,7),2),1)","v":2156.5},{"$f":"ROUND(MAX(_xlfn.NORM.INV(('Eingabe Email'!$B328+1)/MAX('Eingabe Email'!$B:$B),'H2 Originaldaten'!G196,7),2),1)","v":14.6},{"$f":"'H2 Originaldaten'!H196","v":76},{"$f":"'H2 Originaldaten'!I196","v":1},{"$f":"'H2 Originaldaten'!J196","v":"chevrolet woody"}]
[196,{"$f":"ROUND(MAX(_xlfn.NORM.INV(('Eingabe Email'!$B329+1)/MAX('Eingabe Email'!$B:$B),'H2 Originaldaten'!B197,7),2),1)","v":29.6},{"$f":"'H2 Originaldaten'!C197","v":4},{"$f":"ROUND(MAX(_xlfn.NORM.INV(('Eingabe Email'!$B329+1)/MAX('Eingabe Email'!$B:$B),'H2 Originaldaten'!D197,7),2),1)","v":90.6},{"$f":"ROUND(MAX(_xlfn.NORM.INV(('Eingabe Email'!$B329+1)/MAX('Eingabe Email'!$B:$B),'H2 Originaldaten'!E197,7),2),1)","v":70.599999999999994},{"$f":"ROUND(MAX(_xlfn.NORM.INV(('Eingabe Email'!$B329+1)/MAX('Eingabe Email'!$B:$B),'H2 Originaldaten'!F197,7),2),1)","v":1937.6},{"$f":"ROUND(MAX(_xlfn.NORM.INV(('Eingabe Email'!$B329+1)/MAX('Eingabe Email'!$B:$B),'H2 Originaldaten'!G197,7),2),1)","v":14.8},{"$f":"'H2 Originaldaten'!H197","v":76},{"$f":"'H2 Originaldaten'!I197","v":2},{"$f":"'H2 Originaldaten'!J197","v":"vw rabbit"}]
[197,{"$f":"ROUND(MAX(_xlfn.NORM.INV(('Eingabe Email'!$B330+1)/MAX('Eingabe Email'!$B:$B),'H2 Originaldaten'!B198,7),2),1)","v":29.2},{"$f":"'H2 Originaldaten'!C198","v":4},{"$f":"ROUND(MAX(_xlfn.NORM.INV(('Eingabe Email'!$B330+1)/MAX('Eingabe Email'!$B:$B),'H2 Originaldaten'!D198,7),2),1)","v":87.2},{"$f":"ROUND(MAX(_xlfn.NORM.INV(('Eingabe Email'!$B330+1)/MAX('Eingabe Email'!$B:$B),'H2 Originaldaten'!E198,7),2),1)","v":49.2},{"$f":"ROUND(MAX(_xlfn.NORM.INV(('Eingabe Email'!$B330+1)/MAX('Eingabe Email'!$B:$B),'H2 Originaldaten'!F198,7),2),1)","v":1791.2},{"$f":"ROUND(MAX(_xlfn.NORM.INV(('Eingabe Email'!$B330+1)/MAX('Eingabe Email'!$B:$B),'H2 Originaldaten'!G198,7),2),1)","v":13.6},{"$f":"'H2 Originaldaten'!H198","v":76},{"$f":"'H2 Originaldaten'!I198","v":3},{"$f":"'H2 Originaldaten'!J198","v":"honda civic"}]
[198,{"$f":"ROUND(MAX(_xlfn.NORM.INV(('Eingabe Email'!$B331+1)/MAX('Eingabe Email'!$B:$B),'H2 Originaldaten'!B199,7),2),1)","v":26.9},{"$f":"'H2 Originaldaten'!C199","v":6},{"$f":"ROUND(MAX(_xlfn.NORM.INV(('Eingabe Email'!$B331+1)/MAX('Eingabe Email'!$B:$B),'H2 Originaldaten'!D199,7),2),1)","v":231.9},{"$f":"ROUND(MAX(_xlfn.NORM.INV(('Eingabe Email'!$B331+1)/MAX('Eingabe Email'!$B:$B),'H2 Originaldaten'!E199,7),2),1)","v":106.9},{"$f":"ROUND(MAX(_xlfn.NORM.INV(('Eingabe Email'!$B331+1)/MAX('Eingabe Email'!$B:$B),'H2 Originaldaten'!F199,7),2),1)","v":3657.9},{"$f":"ROUND(MAX(_xlfn.NORM.INV(('Eingabe Email'!$B331+1)/MAX('Eingabe Email'!$B:$B),'H2 Originaldaten'!G199,7),2),1)","v":24.6},{"$f":"'H2 Originaldaten'!H199","v":76},{"$f":"'H2 Originaldaten'!I199","v":1},{"$f":"'H2 Originaldaten'!J199","v":"dodge aspen se"}]
[199,{"$f":"ROUND(MAX(_xlfn.NORM.INV(('Eingabe Email'!$B332+1)/MAX('Eingabe Email'!$B:$B),'H2 Originaldaten'!B200,7),2),1)","v":21},{"$f":"'H2 Originaldaten'!C200","v":6},{"$f":"ROUND(MAX(_xlfn.NORM.INV(('Eingabe Email'!$B332+1)/MAX('Eingabe Email'!$B:$B),'H2 Originaldaten'!D200,7),2),1)","v":253},{"$f":"ROUND(MAX(_xlfn.NORM.INV(('Eingabe Email'!$B332+1)/MAX('Eingabe Email'!$B:$B),'H2 Originaldaten'!E200,7),2),1)","v":81},{"$f":"ROUND(MAX(_xlfn.NORM.INV(('Eingabe Email'!$B332+1)/MAX('Eingabe Email'!$B:$B),'H2 Originaldaten'!F200,7),2),1)","v":3577},{"$f":"ROUND(MAX(_xlfn.NORM.INV(('Eingabe Email'!$B332+1)/MAX('Eingabe Email'!$B:$B),'H2 Originaldaten'!G200,7),2),1)","v":24},{"$f":"'H2 Originaldaten'!H200","v":76},{"$f":"'H2 Originaldaten'!I200","v":1},{"$f":"'H2 Originaldaten'!J200","v":"ford granada ghia"}]
[200,{"$f":"ROUND(MAX(_xlfn.NORM.INV(('Eingabe Email'!$B333+1)/MAX('Eingabe Email'!$B:$B),'H2 Originaldaten'!B201,7),2),1)","v":23.5},{"$f":"'H2 Originaldaten'!C201","v":6},{"$f":"ROUND(MAX(_xlfn.NORM.INV(('Eingabe Email'!$B333+1)/MAX('Eingabe Email'!$B:$B),'H2 Originaldaten'!D201,7),2),1)","v":255},{"$f":"ROUND(MAX(_xlfn.NORM.INV(('Eingabe Email'!$B333+1)/MAX('Eingabe Email'!$B:$B),'H2 Originaldaten'!E201,7),2),1)","v":115},{"$f":"ROUND(MAX(_xlfn.NORM.INV(('Eingabe Email'!$B333+1)/MAX('Eingabe Email'!$B:$B),'H2 Originaldaten'!F201,7),2),1)","v":3650},{"$f":"ROUND(MAX(_xlfn.NORM.INV(('Eingabe Email'!$B333+1)/MAX('Eingabe Email'!$B:$B),'H2 Originaldaten'!G201,7),2),1)","v":21.2},{"$f":"'H2 Originaldaten'!H201","v":76},{"$f":"'H2 Originaldaten'!I201","v":1},{"$f":"'H2 Originaldaten'!J201","v":"pontiac ventura sj"}]
[201,{"$f":"ROUND(MAX(_xlfn.NORM.INV(('Eingabe Email'!$B334+1)/MAX('Eingabe Email'!$B:$B),'H2 Originaldaten'!B202,7),2),1)","v":15.3},{"$f":"'H2 Originaldaten'!C202","v":6},{"$f":"ROUND(MAX(_xlfn.NORM.INV(('Eingabe Email'!$B334+1)/MAX('Eingabe Email'!$B:$B),'H2 Originaldaten'!D202,7),2),1)","v":255.8},{"$f":"ROUND(MAX(_xlfn.NORM.INV(('Eingabe Email'!$B334+1)/MAX('Eingabe Email'!$B:$B),'H2 Originaldaten'!E202,7),2),1)","v":92.8},{"$f":"ROUND(MAX(_xlfn.NORM.INV(('Eingabe Email'!$B334+1)/MAX('Eingabe Email'!$B:$B),'H2 Originaldaten'!F202,7),2),1)","v":3190.8},{"$f":"ROUND(MAX(_xlfn.NORM.INV(('Eingabe Email'!$B334+1)/MAX('Eingabe Email'!$B:$B),'H2 Originaldaten'!G202,7),2),1)","v":15.6},{"$f":"'H2 Originaldaten'!H202","v":76},{"$f":"'H2 Originaldaten'!I202","v":1},{"$f":"'H2 Originaldaten'!J202","v":"amc pacer d/l"}]
[202,{"$f":"ROUND(MAX(_xlfn.NORM.INV(('Eingabe Email'!$B335+1)/MAX('Eingabe Email'!$B:$B),'H2 Originaldaten'!B203,7),2),1)","v":21.3},{"$f":"'H2 Originaldaten'!C203","v":4},{"$f":"ROUND(MAX(_xlfn.NORM.INV(('Eingabe Email'!$B335+1)/MAX('Eingabe Email'!$B:$B),'H2 Originaldaten'!D203,7),2),1)","v":88.8},{"$f":"ROUND(MAX(_xlfn.NORM.INV(('Eingabe Email'!$B335+1)/MAX('Eingabe Email'!$B:$B),'H2 Originaldaten'!E203,7),2),1)","v":62.8},{"$f":"ROUND(MAX(_xlfn.NORM.INV(('Eingabe Email'!$B335+1)/MAX('Eingabe Email'!$B:$B),'H2 Originaldaten'!F203,7),2),1)","v":1816.8},{"$f":"ROUND(MAX(_xlfn.NORM.INV(('Eingabe Email'!$B335+1)/MAX('Eingabe Email'!$B:$B),'H2 Originaldaten'!G203,7),2),1)","v":4},{"$f":"'H2 Originaldaten'!H203","v":76},{"$f":"'H2 Originaldaten'!I203","v":2},{"$f":"'H2 Originaldaten'!J203","v":"volkswagen rabbit"}]
[203,{"$f":"ROUND(MAX(_xlfn.NORM.INV(('Eingabe Email'!$B336+1)/MAX('Eingabe Email'!$B:$B),'H2 Originaldaten'!B204,7),2),1)","v":31.6},{"$f":"'H2 Originaldaten'!C204","v":4},{"$f":"ROUND(MAX(_xlfn.NORM.INV(('Eingabe Email'!$B336+1)/MAX('Eingabe Email'!$B:$B),'H2 Originaldaten'!D204,7),2),1)","v":84.6},{"$f":"ROUND(MAX(_xlfn.NORM.INV(('Eingabe Email'!$B336+1)/MAX('Eingabe Email'!$B:$B),'H2 Originaldaten'!E204,7),2),1)","v":69.599999999999994},{"$f":"ROUND(MAX(_xlfn.NORM.INV(('Eingabe Email'!$B336+1)/MAX('Eingabe Email'!$B:$B),'H2 Originaldaten'!F204,7),2),1)","v":1989.6},{"$f":"ROUND(MAX(_xlfn.NORM.INV(('Eingabe Email'!$B336+1)/MAX('Eingabe Email'!$B:$B),'H2 Originaldaten'!G204,7),2),1)","v":16.600000000000001},{"$f":"'H2 Originaldaten'!H204","v":76},{"$f":"'H2 Originaldaten'!I204","v":3},{"$f":"'H2 Originaldaten'!J204","v":"datsun b-210"}]
[204,{"$f":"ROUND(MAX(_xlfn.NORM.INV(('Eingabe Email'!$B337+1)/MAX('Eingabe Email'!$B:$B),'H2 Originaldaten'!B205,7),2),1)","v":25},{"$f":"'H2 Originaldaten'!C205","v":4},{"$f":"ROUND(MAX(_xlfn.NORM.INV(('Eingabe Email'!$B337+1)/MAX('Eingabe Email'!$B:$B),'H2 Originaldaten'!D205,7),2),1)","v":94},{"$f":"ROUND(MAX(_xlfn.NORM.INV(('Eingabe Email'!$B337+1)/MAX('Eingabe Email'!$B:$B),'H2 Originaldaten'!E205,7),2),1)","v":72},{"$f":"ROUND(MAX(_xlfn.NORM.INV(('Eingabe Email'!$B337+1)/MAX('Eingabe Email'!$B:$B),'H2 Originaldaten'!F205,7),2),1)","v":2152},{"$f":"ROUND(MAX(_xlfn.NORM.INV(('Eingabe Email'!$B337+1)/MAX('Eingabe Email'!$B:$B),'H2 Originaldaten'!G205,7),2),1)","v":13.4},{"$f":"'H2 Originaldaten'!H205","v":76},{"$f":"'H2 Originaldaten'!I205","v":3},{"$f":"'H2 Originaldaten'!J205","v":"toyota corolla"}]
[205,{"$f":"ROUND(MAX(_xlfn.NORM.INV(('Eingabe Email'!$B338+1)/MAX('Eingabe Email'!$B:$B),'H2 Originaldaten'!B206,7),2),1)","v":15.1},{"$f":"'H2 Originaldaten'!C206","v":4},{"$f":"ROUND(MAX(_xlfn.NORM.INV(('Eingabe Email'!$B338+1)/MAX('Eingabe Email'!$B:$B),'H2 Originaldaten'!D206,7),2),1)","v":128.6},{"$f":"ROUND(MAX(_xlfn.NORM.INV(('Eingabe Email'!$B338+1)/MAX('Eingabe Email'!$B:$B),'H2 Originaldaten'!E206,7),2),1)","v":60.6},{"$f":"ROUND(MAX(_xlfn.NORM.INV(('Eingabe Email'!$B338+1)/MAX('Eingabe Email'!$B:$B),'H2 Originaldaten'!F206,7),2),1)","v":2553.6},{"$f":"ROUND(MAX(_xlfn.NORM.INV(('Eingabe Email'!$B338+1)/MAX('Eingabe Email'!$B:$B),'H2 Originaldaten'!G206,7),2),1)","v":2.2000000000000002},{"$f":"'H2 Originaldaten'!H206","v":76},{"$f":"'H2 Originaldaten'!I206","v":1},{"$f":"'H2 Originaldaten'!J206","v":"ford pinto"}]
[206,{"$f":"ROUND(MAX(_xlfn.NORM.INV(('Eingabe Email'!$B339+1)/MAX('Eingabe Email'!$B:$B),'H2 Originaldaten'!B207,7),2),1)","v":23.7},{"$f":"'H2 Originaldaten'!C207","v":4},{"$f":"ROUND(MAX(_xlfn.NORM.INV(('Eingabe Email'!$B339+1)/MAX('Eingabe Email'!$B:$B),'H2 Originaldaten'!D207,7),2),1)","v":133.69999999999999},{"$f":"ROUND(MAX(_xlfn.NORM.INV(('Eingabe Email'!$B339+1)/MAX('Eingabe Email'!$B:$B),'H2 Originaldaten'!E207,7),2),1)","v":105.7},{"$f":"ROUND(MAX(_xlfn.NORM.INV(('Eingabe Email'!$B339+1)/MAX('Eingabe Email'!$B:$B),'H2 Originaldaten'!F207,7),2),1)","v":3153.7},{"$f":"ROUND(MAX(_xlfn.NORM.INV(('Eingabe Email'!$B339+1)/MAX('Eingabe Email'!$B:$B),'H2 Originaldaten'!G207,7),2),1)","v":19.399999999999999},{"$f":"'H2 Originaldaten'!H207","v":76},{"$f":"'H2 Originaldaten'!I207","v":2},{"$f":"'H2 Originaldaten'!J207","v":"volvo 245"}]
[207,{"$f":"ROUND(MAX(_xlfn.NORM.INV(('Eingabe Email'!$B340+1)/MAX('Eingabe Email'!$B:$B),'H2 Originaldaten'!B208,7),2),1)","v":8.5},{"$f":"'H2 Originaldaten'!C208","v":8},{"$f":"ROUND(MAX(_xlfn.NORM.INV(('Eingabe Email'!$B340+1)/MAX('Eingabe Email'!$B:$B),'H2 Originaldaten'!D208,7),2),1)","v":313.5},{"$f":"ROUND(MAX(_xlfn.NORM.INV(('Eingabe Email'!$B340+1)/MAX('Eingabe Email'!$B:$B),'H2 Originaldaten'!E208,7),2),1)","v":145.5},{"$f":"ROUND(MAX(_xlfn.NORM.INV(('Eingabe Email'!$B340+1)/MAX('Eingabe Email'!$B:$B),'H2 Originaldaten'!F208,7),2),1)","v":3935.5},{"$f":"ROUND(MAX(_xlfn.NORM.INV(('Eingabe Email'!$B340+1)/MAX('Eingabe Email'!$B:$B),'H2 Originaldaten'!G208,7),2),1)","v":8.6999999999999993},{"$f":"'H2 Originaldaten'!H208","v":76},{"$f":"'H2 Originaldaten'!I208","v":1},{"$f":"'H2 Originaldaten'!J208","v":"plymouth volare premier v8"}]
[208,{"$f":"ROUND(MAX(_xlfn.NORM.INV(('Eingabe Email'!$B341+1)/MAX('Eingabe Email'!$B:$B),'H2 Originaldaten'!B209,7),2),1)","v":20},{"$f":"'H2 Originaldaten'!C209","v":4},{"$f":"ROUND(MAX(_xlfn.NORM.INV(('Eingabe Email'!$B341+1)/MAX('Eingabe Email'!$B:$B),'H2 Originaldaten'!D209,7),2),1)","v":121},{"$f":"ROUND(MAX(_xlfn.NORM.INV(('Eingabe Email'!$B341+1)/MAX('Eingabe Email'!$B:$B),'H2 Originaldaten'!E209,7),2),1)","v":89},{"$f":"ROUND(MAX(_xlfn.NORM.INV(('Eingabe Email'!$B341+1)/MAX('Eingabe Email'!$B:$B),'H2 Originaldaten'!F209,7),2),1)","v":3271},{"$f":"ROUND(MAX(_xlfn.NORM.INV(('Eingabe Email'!$B341+1)/MAX('Eingabe Email'!$B:$B),'H2 Originaldaten'!G209,7),2),1)","v":22.9},{"$f":"'H2 Originaldaten'!H209","v":76},{"$f":"'H2 Originaldaten'!I209","v":2},{"$f":"'H2 Originaldaten'!J209","v":"peugeot 504"}]
[209,{"$f":"ROUND(MAX(_xlfn.NORM.INV(('Eingabe Email'!$B342+1)/MAX('Eingabe Email'!$B:$B),'H2 Originaldaten'!B210,7),2),1)","v":27},{"$f":"'H2 Originaldaten'!C210","v":6},{"$f":"ROUND(MAX(_xlfn.NORM.INV(('Eingabe Email'!$B342+1)/MAX('Eingabe Email'!$B:$B),'H2 Originaldaten'!D210,7),2),1)","v":164},{"$f":"ROUND(MAX(_xlfn.NORM.INV(('Eingabe Email'!$B342+1)/MAX('Eingabe Email'!$B:$B),'H2 Originaldaten'!E210,7),2),1)","v":116},{"$f":"ROUND(MAX(_xlfn.NORM.INV(('Eingabe Email'!$B342+1)/MAX('Eingabe Email'!$B:$B),'H2 Originaldaten'!F210,7),2),1)","v":2938},{"$f":"ROUND(MAX(_xlfn.NORM.INV(('Eingabe Email'!$B342+1)/MAX('Eingabe Email'!$B:$B),'H2 Originaldaten'!G210,7),2),1)","v":23.5},{"$f":"'H2 Originaldaten'!H210","v":76},{"$f":"'H2 Originaldaten'!I210","v":3},{"$f":"'H2 Originaldaten'!J210","v":"toyota mark ii"}]
[210,{"$f":"ROUND(MAX(_xlfn.NORM.INV(('Eingabe Email'!$B343+1)/MAX('Eingabe Email'!$B:$B),'H2 Originaldaten'!B211,7),2),1)","v":21.8},{"$f":"'H2 Originaldaten'!C211","v":6},{"$f":"ROUND(MAX(_xlfn.NORM.INV(('Eingabe Email'!$B343+1)/MAX('Eingabe Email'!$B:$B),'H2 Originaldaten'!D211,7),2),1)","v":173.3},{"$f":"ROUND(MAX(_xlfn.NORM.INV(('Eingabe Email'!$B343+1)/MAX('Eingabe Email'!$B:$B),'H2 Originaldaten'!E211,7),2),1)","v":125.3},{"$f":"ROUND(MAX(_xlfn.NORM.INV(('Eingabe Email'!$B343+1)/MAX('Eingabe Email'!$B:$B),'H2 Originaldaten'!F211,7),2),1)","v":3825.3},{"$f":"ROUND(MAX(_xlfn.NORM.INV(('Eingabe Email'!$B343+1)/MAX('Eingabe Email'!$B:$B),'H2 Originaldaten'!G211,7),2),1)","v":22},{"$f":"'H2 Originaldaten'!H211","v":76},{"$f":"'H2 Originaldaten'!I211","v":2},{"$f":"'H2 Originaldaten'!J211","v":"mercedes-benz 280s"}]
[211,{"$f":"ROUND(MAX(_xlfn.NORM.INV(('Eingabe Email'!$B344+1)/MAX('Eingabe Email'!$B:$B),'H2 Originaldaten'!B212,7),2),1)","v":19.399999999999999},{"$f":"'H2 Originaldaten'!C212","v":8},{"$f":"ROUND(MAX(_xlfn.NORM.INV(('Eingabe Email'!$B344+1)/MAX('Eingabe Email'!$B:$B),'H2 Originaldaten'!D212,7),2),1)","v":352.9},{"$f":"ROUND(MAX(_xlfn.NORM.INV(('Eingabe Email'!$B344+1)/MAX('Eingabe Email'!$B:$B),'H2 Originaldaten'!E212,7),2),1)","v":182.9},{"$f":"ROUND(MAX(_xlfn.NORM.INV(('Eingabe Email'!$B344+1)/MAX('Eingabe Email'!$B:$B),'H2 Originaldaten'!F212,7),2),1)","v":4382.8999999999996},{"$f":"ROUND(MAX(_xlfn.NORM.INV(('Eingabe Email'!$B344+1)/MAX('Eingabe Email'!$B:$B),'H2 Originaldaten'!G212,7),2),1)","v":15},{"$f":"'H2 Originaldaten'!H212","v":76},{"$f":"'H2 Originaldaten'!I212","v":1},{"$f":"'H2 Originaldaten'!J212","v":"cadillac seville"}]
[212,{"$f":"ROUND(MAX(_xlfn.NORM.INV(('Eingabe Email'!$B345+1)/MAX('Eingabe Email'!$B:$B),'H2 Originaldaten'!B213,7),2),1)","v":9.3000000000000007},{"$f":"'H2 Originaldaten'!C213","v":8},{"$f":"ROUND(MAX(_xlfn.NORM.INV(('Eingabe Email'!$B345+1)/MAX('Eingabe Email'!$B:$B),'H2 Originaldaten'!D213,7),2),1)","v":346.3},{"$f":"ROUND(MAX(_xlfn.NORM.INV(('Eingabe Email'!$B345+1)/MAX('Eingabe Email'!$B:$B),'H2 Originaldaten'!E213,7),2),1)","v":141.30000000000001},{"$f":"ROUND(MAX(_xlfn.NORM.INV(('Eingabe Email'!$B345+1)/MAX('Eingabe Email'!$B:$B),'H2 Originaldaten'!F213,7),2),1)","v":4051.3},{"$f":"ROUND(MAX(_xlfn.NORM.INV(('Eingabe Email'!$B345+1)/MAX('Eingabe Email'!$B:$B),'H2 Originaldaten'!G213,7),2),1)","v":8.3000000000000007},{"$f":"'H2 Originaldaten'!H213","v":76},{"$f":"'H2 Originaldaten'!I213","v":1},{"$f":"'H2 Originaldaten'!J213","v":"chevy c10"}]
[213,{"$f":"ROUND(MAX(_xlfn.NORM.INV(('Eingabe Email'!$B346+1)/MAX('Eingabe Email'!$B:$B),'H2 Originaldaten'!B214,7),2),1)","v":10.4},{"$f":"'H2 Originaldaten'!C214","v":8},{"$f":"ROUND(MAX(_xlfn.NORM.INV(('Eingabe Email'!$B346+1)/MAX('Eingabe Email'!$B:$B),'H2 Originaldaten'!D214,7),2),1)","v":299.39999999999998},{"$f":"ROUND(MAX(_xlfn.NORM.INV(('Eingabe Email'!$B346+1)/MAX('Eingabe Email'!$B:$B),'H2 Originaldaten'!E214,7),2),1)","v":127.4},{"$f":"ROUND(MAX(_xlfn.NORM.INV(('Eingabe Email'!$B346+1)/MAX('Eingabe Email'!$B:$B),'H2 Originaldaten'!F214,7),2),1)","v":3867.4},{"$f":"ROUND(MAX(_xlfn.NORM.INV(('Eingabe Email'!$B346+1)/MAX('Eingabe Email'!$B:$B),'H2 Originaldaten'!G214,7),2),1)","v":12.4},{"$f":"'H2 Originaldaten'!H214","v":76},{"$f":"'H2 Originaldaten'!I214","v":1},{"$f":"'H2 Originaldaten'!J214","v":"ford f108"}]
[214,{"$f":"ROUND(MAX(_xlfn.NORM.INV(('Eingabe Email'!$B347+1)/MAX('Eingabe Email'!$B:$B),'H2 Originaldaten'!B215,7),2),1)","v":37.799999999999997},{"$f":"'H2 Originaldaten'!C215","v":8},{"$f":"ROUND(MAX(_xlfn.NORM.INV(('Eingabe Email'!$B347+1)/MAX('Eingabe Email'!$B:$B),'H2 Originaldaten'!D215,7),2),1)","v":342.8},{"$f":"ROUND(MAX(_xlfn.NORM.INV(('Eingabe Email'!$B347+1)/MAX('Eingabe Email'!$B:$B),'H2 Originaldaten'!E215,7),2),1)","v":174.8},{"$f":"ROUND(MAX(_xlfn.NORM.INV(('Eingabe Email'!$B347+1)/MAX('Eingabe Email'!$B:$B),'H2 Originaldaten'!F215,7),2),1)","v":3779.8},{"$f":"ROUND(MAX(_xlfn.NORM.INV(('Eingabe Email'!$B347+1)/MAX('Eingabe Email'!$B:$B),'H2 Originaldaten'!G215,7),2),1)","v":38.799999999999997},{"$f":"'H2 Originaldaten'!H215","v":76},{"$f":"'H2 Originaldaten'!I215","v":1},{"$f":"'H2 Originaldaten'!J215","v":"dodge d100"}]
[215,{"$f":"ROUND(MAX(_xlfn.NORM.INV(('Eingabe Email'!$B348+1)/MAX('Eingabe Email'!$B:$B),'H2 Originaldaten'!B216,7),2),1)","v":40.6},{"$f":"'H2 Originaldaten'!C216","v":4},{"$f":"ROUND(MAX(_xlfn.NORM.INV(('Eingabe Email'!$B348+1)/MAX('Eingabe Email'!$B:$B),'H2 Originaldaten'!D216,7),2),1)","v":107.1},{"$f":"ROUND(MAX(_xlfn.NORM.INV(('Eingabe Email'!$B348+1)/MAX('Eingabe Email'!$B:$B),'H2 Originaldaten'!E216,7),2),1)","v":77.099999999999994},{"$f":"ROUND(MAX(_xlfn.NORM.INV(('Eingabe Email'!$B348+1)/MAX('Eingabe Email'!$B:$B),'H2 Originaldaten'!F216,7),2),1)","v":2054.1},{"$f":"ROUND(MAX(_xlfn.NORM.INV(('Eingabe Email'!$B348+1)/MAX('Eingabe Email'!$B:$B),'H2 Originaldaten'!G216,7),2),1)","v":27.6},{"$f":"'H2 Originaldaten'!H216","v":77},{"$f":"'H2 Originaldaten'!I216","v":3},{"$f":"'H2 Originaldaten'!J216","v":"honda accord cvcc"}]
[216,{"$f":"ROUND(MAX(_xlfn.NORM.INV(('Eingabe Email'!$B349+1)/MAX('Eingabe Email'!$B:$B),'H2 Originaldaten'!B217,7),2),1)","v":30},{"$f":"'H2 Originaldaten'!C217","v":4},{"$f":"ROUND(MAX(_xlfn.NORM.INV(('Eingabe Email'!$B349+1)/MAX('Eingabe Email'!$B:$B),'H2 Originaldaten'!D217,7),2),1)","v":111},{"$f":"ROUND(MAX(_xlfn.NORM.INV(('Eingabe Email'!$B349+1)/MAX('Eingabe Email'!$B:$B),'H2 Originaldaten'!E217,7),2),1)","v":80},{"$f":"ROUND(MAX(_xlfn.NORM.INV(('Eingabe Email'!$B349+1)/MAX('Eingabe Email'!$B:$B),'H2 Originaldaten'!F217,7),2),1)","v":2155},{"$f":"ROUND(MAX(_xlfn.NORM.INV(('Eingabe Email'!$B349+1)/MAX('Eingabe Email'!$B:$B),'H2 Originaldaten'!G217,7),2),1)","v":14.8},{"$f":"'H2 Originaldaten'!H217","v":77},{"$f":"'H2 Originaldaten'!I217","v":1},{"$f":"'H2 Originaldaten'!J217","v":"buick opel isuzu deluxe"}]
[217,{"$f":"ROUND(MAX(_xlfn.NORM.INV(('Eingabe Email'!$B350+1)/MAX('Eingabe Email'!$B:$B),'H2 Originaldaten'!B218,7),2),1)","v":34.200000000000003},{"$f":"'H2 Originaldaten'!C218","v":4},{"$f":"ROUND(MAX(_xlfn.NORM.INV(('Eingabe Email'!$B350+1)/MAX('Eingabe Email'!$B:$B),'H2 Originaldaten'!D218,7),2),1)","v":77.2},{"$f":"ROUND(MAX(_xlfn.NORM.INV(('Eingabe Email'!$B350+1)/MAX('Eingabe Email'!$B:$B),'H2 Originaldaten'!E218,7),2),1)","v":56.2},{"$f":"ROUND(MAX(_xlfn.NORM.INV(('Eingabe Email'!$B350+1)/MAX('Eingabe Email'!$B:$B),'H2 Originaldaten'!F218,7),2),1)","v":1823.2},{"$f":"ROUND(MAX(_xlfn.NORM.INV(('Eingabe Email'!$B350+1)/MAX('Eingabe Email'!$B:$B),'H2 Originaldaten'!G218,7),2),1)","v":16.8},{"$f":"'H2 Originaldaten'!H218","v":77},{"$f":"'H2 Originaldaten'!I218","v":2},{"$f":"'H2 Originaldaten'!J218","v":"renault 5 gtl"}]
[218,{"$f":"ROUND(MAX(_xlfn.NORM.INV(('Eingabe Email'!$B351+1)/MAX('Eingabe Email'!$B:$B),'H2 Originaldaten'!B219,7),2),1)","v":18.8},{"$f":"'H2 Originaldaten'!C219","v":4},{"$f":"ROUND(MAX(_xlfn.NORM.INV(('Eingabe Email'!$B351+1)/MAX('Eingabe Email'!$B:$B),'H2 Originaldaten'!D219,7),2),1)","v":115.3},{"$f":"ROUND(MAX(_xlfn.NORM.INV(('Eingabe Email'!$B351+1)/MAX('Eingabe Email'!$B:$B),'H2 Originaldaten'!E219,7),2),1)","v":89.3},{"$f":"ROUND(MAX(_xlfn.NORM.INV(('Eingabe Email'!$B351+1)/MAX('Eingabe Email'!$B:$B),'H2 Originaldaten'!F219,7),2),1)","v":2293.3000000000002},{"$f":"ROUND(MAX(_xlfn.NORM.INV(('Eingabe Email'!$B351+1)/MAX('Eingabe Email'!$B:$B),'H2 Originaldaten'!G219,7),2),1)","v":8.8000000000000007},{"$f":"'H2 Originaldaten'!H219","v":77},{"$f":"'H2 Originaldaten'!I219","v":1},{"$f":"'H2 Originaldaten'!J219","v":"plymouth arrow gs"}]
[219,{"$f":"ROUND(MAX(_xlfn.NORM.INV(('Eingabe Email'!$B352+1)/MAX('Eingabe Email'!$B:$B),'H2 Originaldaten'!B220,7),2),1)","v":55},{"$f":"'H2 Originaldaten'!C220","v":4},{"$f":"ROUND(MAX(_xlfn.NORM.INV(('Eingabe Email'!$B352+1)/MAX('Eingabe Email'!$B:$B),'H2 Originaldaten'!D220,7),2),1)","v":106.5},{"$f":"ROUND(MAX(_xlfn.NORM.INV(('Eingabe Email'!$B352+1)/MAX('Eingabe Email'!$B:$B),'H2 Originaldaten'!E220,7),2),1)","v":91.5},{"$f":"ROUND(MAX(_xlfn.NORM.INV(('Eingabe Email'!$B352+1)/MAX('Eingabe Email'!$B:$B),'H2 Originaldaten'!F220,7),2),1)","v":1966.5},{"$f":"ROUND(MAX(_xlfn.NORM.INV(('Eingabe Email'!$B352+1)/MAX('Eingabe Email'!$B:$B),'H2 Originaldaten'!G220,7),2),1)","v":38.299999999999997},{"$f":"'H2 Originaldaten'!H220","v":77},{"$f":"'H2 Originaldaten'!I220","v":3},{"$f":"'H2 Originaldaten'!J220","v":"datsun f-10 hatchback"}]
[220,{"$f":"ROUND(MAX(_xlfn.NORM.INV(('Eingabe Email'!$B353+1)/MAX('Eingabe Email'!$B:$B),'H2 Originaldaten'!B221,7),2),1)","v":20.6},{"$f":"'H2 Originaldaten'!C221","v":8},{"$f":"ROUND(MAX(_xlfn.NORM.INV(('Eingabe Email'!$B353+1)/MAX('Eingabe Email'!$B:$B),'H2 Originaldaten'!D221,7),2),1)","v":308.10000000000002},{"$f":"ROUND(MAX(_xlfn.NORM.INV(('Eingabe Email'!$B353+1)/MAX('Eingabe Email'!$B:$B),'H2 Originaldaten'!E221,7),2),1)","v":148.1},{"$f":"ROUND(MAX(_xlfn.NORM.INV(('Eingabe Email'!$B353+1)/MAX('Eingabe Email'!$B:$B),'H2 Originaldaten'!F221,7),2),1)","v":3883.1},{"$f":"ROUND(MAX(_xlfn.NORM.INV(('Eingabe Email'!$B353+1)/MAX('Eingabe Email'!$B:$B),'H2 Originaldaten'!G221,7),2),1)","v":15.6},{"$f":"'H2 Originaldaten'!H221","v":77},{"$f":"'H2 Originaldaten'!I221","v":1},{"$f":"'H2 Originaldaten'!J221","v":"chevrolet caprice classic"}]
[221,{"$f":"ROUND(MAX(_xlfn.NORM.INV(('Eingabe Email'!$B354+1)/MAX('Eingabe Email'!$B:$B),'H2 Originaldaten'!B222,7),2),1)","v":20.8},{"$f":"'H2 Originaldaten'!C222","v":8},{"$f":"ROUND(MAX(_xlfn.NORM.INV(('Eingabe Email'!$B354+1)/MAX('Eingabe Email'!$B:$B),'H2 Originaldaten'!D222,7),2),1)","v":263.8},{"$f":"ROUND(MAX(_xlfn.NORM.INV(('Eingabe Email'!$B354+1)/MAX('Eingabe Email'!$B:$B),'H2 Originaldaten'!E222,7),2),1)","v":113.8},{"$f":"ROUND(MAX(_xlfn.NORM.INV(('Eingabe Email'!$B354+1)/MAX('Eingabe Email'!$B:$B),'H2 Originaldaten'!F222,7),2),1)","v":4063.8},{"$f":"ROUND(MAX(_xlfn.NORM.INV(('Eingabe Email'!$B354+1)/MAX('Eingabe Email'!$B:$B),'H2 Originaldaten'!G222,7),2),1)","v":22.8},{"$f":"'H2 Originaldaten'!H222","v":77},{"$f":"'H2 Originaldaten'!I222","v":1},{"$f":"'H2 Originaldaten'!J222","v":"oldsmobile cutlass supreme"}]
[222,{"$f":"ROUND(MAX(_xlfn.NORM.INV(('Eingabe Email'!$B355+1)/MAX('Eingabe Email'!$B:$B),'H2 Originaldaten'!B223,7),2),1)","v":9.1999999999999993},{"$f":"'H2 Originaldaten'!C223","v":8},{"$f":"ROUND(MAX(_xlfn.NORM.INV(('Eingabe Email'!$B355+1)/MAX('Eingabe Email'!$B:$B),'H2 Originaldaten'!D223,7),2),1)","v":311.7},{"$f":"ROUND(MAX(_xlfn.NORM.INV(('Eingabe Email'!$B355+1)/MAX('Eingabe Email'!$B:$B),'H2 Originaldaten'!E223,7),2),1)","v":138.69999999999999},{"$f":"ROUND(MAX(_xlfn.NORM.INV(('Eingabe Email'!$B355+1)/MAX('Eingabe Email'!$B:$B),'H2 Originaldaten'!F223,7),2),1)","v":4133.7},{"$f":"ROUND(MAX(_xlfn.NORM.INV(('Eingabe Email'!$B355+1)/MAX('Eingabe Email'!$B:$B),'H2 Originaldaten'!G223,7),2),1)","v":7.4},{"$f":"'H2 Originaldaten'!H223","v":77},{"$f":"'H2 Originaldaten'!I223","v":1},{"$f":"'H2 Originaldaten'!J223","v":"dodge monaco brougham"}]
[223,{"$f":"ROUND(MAX(_xlfn.NORM.INV(('Eingabe Email'!$B356+1)/MAX('Eingabe Email'!$B:$B),'H2 Originaldaten'!B224,7),2),1)","v":18.399999999999999},{"$f":"'H2 Originaldaten'!C224","v":8},{"$f":"ROUND(MAX(_xlfn.NORM.INV(('Eingabe Email'!$B356+1)/MAX('Eingabe Email'!$B:$B),'H2 Originaldaten'!D224,7),2),1)","v":305.39999999999998},{"$f":"ROUND(MAX(_xlfn.NORM.INV(('Eingabe Email'!$B356+1)/MAX('Eingabe Email'!$B:$B),'H2 Originaldaten'!E224,7),2),1)","v":133.4},{"$f":"ROUND(MAX(_xlfn.NORM.INV(('Eingabe Email'!$B356+1)/MAX('Eingabe Email'!$B:$B),'H2 Originaldaten'!F224,7),2),1)","v":4298.3999999999996},{"$f":"ROUND(MAX(_xlfn.NORM.INV(('Eingabe Email'!$B356+1)/MAX('Eingabe Email'!$B:$B),'H2 Originaldaten'!G224,7),2),1)","v":18.3},{"$f":"'H2 Originaldaten'!H224","v":77},{"$f":"'H2 Originaldaten'!I224","v":1},{"$f":"'H2 Originaldaten'!J224","v":"mercury cougar brougham"}]
[224,{"$f":"ROUND(MAX(_xlfn.NORM.INV(('Eingabe Email'!$B357+1)/MAX('Eingabe Email'!$B:$B),'H2 Originaldaten'!B225,7),2),1)","v":23.3},{"$f":"'H2 Originaldaten'!C225","v":6},{"$f":"ROUND(MAX(_xlfn.NORM.INV(('Eingabe Email'!$B357+1)/MAX('Eingabe Email'!$B:$B),'H2 Originaldaten'!D225,7),2),1)","v":255.8},{"$f":"ROUND(MAX(_xlfn.NORM.INV(('Eingabe Email'!$B357+1)/MAX('Eingabe Email'!$B:$B),'H2 Originaldaten'!E225,7),2),1)","v":115.8},{"$f":"ROUND(MAX(_xlfn.NORM.INV(('Eingabe Email'!$B357+1)/MAX('Eingabe Email'!$B:$B),'H2 Originaldaten'!F225,7),2),1)","v":3525.8},{"$f":"ROUND(MAX(_xlfn.NORM.INV(('Eingabe Email'!$B357+1)/MAX('Eingabe Email'!$B:$B),'H2 Originaldaten'!G225,7),2),1)","v":22.2},{"$f":"'H2 Originaldaten'!H225","v":77},{"$f":"'H2 Originaldaten'!I225","v":1},{"$f":"'H2 Originaldaten'!J225","v":"chevrolet concours"}]
[225,{"$f":"ROUND(MAX(_xlfn.NORM.INV(('Eingabe Email'!$B358+1)/MAX('Eingabe Email'!$B:$B),'H2 Originaldaten'!B226,7),2),1)","v":12.6},{"$f":"'H2 Originaldaten'!C226","v":6},{"$f":"ROUND(MAX(_xlfn.NORM.INV(('Eingabe Email'!$B358+1)/MAX('Eingabe Email'!$B:$B),'H2 Originaldaten'!D226,7),2),1)","v":223.1},{"$f":"ROUND(MAX(_xlfn.NORM.INV(('Eingabe Email'!$B358+1)/MAX('Eingabe Email'!$B:$B),'H2 Originaldaten'!E226,7),2),1)","v":97.1},{"$f":"ROUND(MAX(_xlfn.NORM.INV(('Eingabe Email'!$B358+1)/MAX('Eingabe Email'!$B:$B),'H2 Originaldaten'!F226,7),2),1)","v":3417.1},{"$f":"ROUND(MAX(_xlfn.NORM.INV(('Eingabe Email'!$B358+1)/MAX('Eingabe Email'!$B:$B),'H2 Originaldaten'!G226,7),2),1)","v":9},{"$f":"'H2 Originaldaten'!H226","v":77},{"$f":"'H2 Originaldaten'!I226","v":1},{"$f":"'H2 Originaldaten'!J226","v":"buick skylark"}]
[226,{"$f":"ROUND(MAX(_xlfn.NORM.INV(('Eingabe Email'!$B359+1)/MAX('Eingabe Email'!$B:$B),'H2 Originaldaten'!B227,7),2),1)","v":8.4},{"$f":"'H2 Originaldaten'!C227","v":6},{"$f":"ROUND(MAX(_xlfn.NORM.INV(('Eingabe Email'!$B359+1)/MAX('Eingabe Email'!$B:$B),'H2 Originaldaten'!D227,7),2),1)","v":214.4},{"$f":"ROUND(MAX(_xlfn.NORM.INV(('Eingabe Email'!$B359+1)/MAX('Eingabe Email'!$B:$B),'H2 Originaldaten'!E227,7),2),1)","v":89.4},{"$f":"ROUND(MAX(_xlfn.NORM.INV(('Eingabe Email'!$B359+1)/MAX('Eingabe Email'!$B:$B),'H2 Originaldaten'!F227,7),2),1)","v":3619.4},{"$f":"ROUND(MAX(_xlfn.NORM.INV(('Eingabe Email'!$B359+1)/MAX('Eingabe Email'!$B:$B),'H2 Originaldaten'!G227,7),2),1)","v":7.1},{"$f":"'H2 Originaldaten'!H227","v":77},{"$f":"'H2 Originaldaten'!I227","v":1},{"$f":"'H2 Originaldaten'!J227","v":"plymouth volare custom"}]
[227,{"$f":"ROUND(MAX(_xlfn.NORM.INV(('Eingabe Email'!$B360+1)/MAX('Eingabe Email'!$B:$B),'H2 Originaldaten'!B228,7),2),1)","v":3.8},{"$f":"'H2 Originaldaten'!C228","v":6},{"$f":"ROUND(MAX(_xlfn.NORM.INV(('Eingabe Email'!$B360+1)/MAX('Eingabe Email'!$B:$B),'H2 Originaldaten'!D228,7),2),1)","v":235.3},{"$f":"ROUND(MAX(_xlfn.NORM.INV(('Eingabe Email'!$B360+1)/MAX('Eingabe Email'!$B:$B),'H2 Originaldaten'!E228,7),2),1)","v":83.3},{"$f":"ROUND(MAX(_xlfn.NORM.INV(('Eingabe Email'!$B360+1)/MAX('Eingabe Email'!$B:$B),'H2 Originaldaten'!F228,7),2),1)","v":3510.3},{"$f":"ROUND(MAX(_xlfn.NORM.INV(('Eingabe Email'!$B360+1)/MAX('Eingabe Email'!$B:$B),'H2 Originaldaten'!G228,7),2),1)","v":4.3},{"$f":"'H2 Originaldaten'!H228","v":77},{"$f":"'H2 Originaldaten'!I228","v":1},{"$f":"'H2 Originaldaten'!J228","v":"ford granada"}]
[228,{"$f":"ROUND(MAX(_xlfn.NORM.INV(('Eingabe Email'!$B361+1)/MAX('Eingabe Email'!$B:$B),'H2 Originaldaten'!B229,7),2),1)","v":19.899999999999999},{"$f":"'H2 Originaldaten'!C229","v":8},{"$f":"ROUND(MAX(_xlfn.NORM.INV(('Eingabe Email'!$B361+1)/MAX('Eingabe Email'!$B:$B),'H2 Originaldaten'!D229,7),2),1)","v":403.9},{"$f":"ROUND(MAX(_xlfn.NORM.INV(('Eingabe Email'!$B361+1)/MAX('Eingabe Email'!$B:$B),'H2 Originaldaten'!E229,7),2),1)","v":183.9},{"$f":"ROUND(MAX(_xlfn.NORM.INV(('Eingabe Email'!$B361+1)/MAX('Eingabe Email'!$B:$B),'H2 Originaldaten'!F229,7),2),1)","v":4223.8999999999996},{"$f":"ROUND(MAX(_xlfn.NORM.INV(('Eingabe Email'!$B361+1)/MAX('Eingabe Email'!$B:$B),'H2 Originaldaten'!G229,7),2),1)","v":15},{"$f":"'H2 Originaldaten'!H229","v":77},{"$f":"'H2 Originaldaten'!I229","v":1},{"$f":"'H2 Originaldaten'!J229","v":"pontiac grand prix lj"}]
[229,{"$f":"ROUND(MAX(_xlfn.NORM.INV(('Eingabe Email'!$B362+1)/MAX('Eingabe Email'!$B:$B),'H2 Originaldaten'!B230,7),2),1)","v":3.8},{"$f":"'H2 Originaldaten'!C230","v":8},{"$f":"ROUND(MAX(_xlfn.NORM.INV(('Eingabe Email'!$B362+1)/MAX('Eingabe Email'!$B:$B),'H2 Originaldaten'!D230,7),2),1)","v":338.3},{"$f":"ROUND(MAX(_xlfn.NORM.INV(('Eingabe Email'!$B362+1)/MAX('Eingabe Email'!$B:$B),'H2 Originaldaten'!E230,7),2),1)","v":158.30000000000001},{"$f":"ROUND(MAX(_xlfn.NORM.INV(('Eingabe Email'!$B362+1)/MAX('Eingabe Email'!$B:$B),'H2 Originaldaten'!F230,7),2),1)","v":4153.3},{"$f":"ROUND(MAX(_xlfn.NORM.INV(('Eingabe Email'!$B362+1)/MAX('Eingabe Email'!$B:$B),'H2 Originaldaten'!G230,7),2),1)","v":2},{"$f":"'H2 Originaldaten'!H230","v":77},{"$f":"'H2 Originaldaten'!I230","v":1},{"$f":"'H2 Originaldaten'!J230","v":"chevrolet monte carlo landau"}]
[230,{"$f":"ROUND(MAX(_xlfn.NORM.INV(('Eingabe Email'!$B363+1)/MAX('Eingabe Email'!$B:$B),'H2 Originaldaten'!B231,7),2),1)","v":11},{"$f":"'H2 Originaldaten'!C231","v":8},{"$f":"ROUND(MAX(_xlfn.NORM.INV(('Eingabe Email'!$B363+1)/MAX('Eingabe Email'!$B:$B),'H2 Originaldaten'!D231,7),2),1)","v":395.5},{"$f":"ROUND(MAX(_xlfn.NORM.INV(('Eingabe Email'!$B363+1)/MAX('Eingabe Email'!$B:$B),'H2 Originaldaten'!E231,7),2),1)","v":185.5},{"$f":"ROUND(MAX(_xlfn.NORM.INV(('Eingabe Email'!$B363+1)/MAX('Eingabe Email'!$B:$B),'H2 Originaldaten'!F231,7),2),1)","v":4320.5},{"$f":"ROUND(MAX(_xlfn.NORM.INV(('Eingabe Email'!$B363+1)/MAX('Eingabe Email'!$B:$B),'H2 Originaldaten'!G231,7),2),1)","v":7.7},{"$f":"'H2 Originaldaten'!H231","v":77},{"$f":"'H2 Originaldaten'!I231","v":1},{"$f":"'H2 Originaldaten'!J231","v":"chrysler cordoba"}]
[231,{"$f":"ROUND(MAX(_xlfn.NORM.INV(('Eingabe Email'!$B364+1)/MAX('Eingabe Email'!$B:$B),'H2 Originaldaten'!B232,7),2),1)","v":19.3},{"$f":"'H2 Originaldaten'!C232","v":8},{"$f":"ROUND(MAX(_xlfn.NORM.INV(('Eingabe Email'!$B364+1)/MAX('Eingabe Email'!$B:$B),'H2 Originaldaten'!D232,7),2),1)","v":354.3},{"$f":"ROUND(MAX(_xlfn.NORM.INV(('Eingabe Email'!$B364+1)/MAX('Eingabe Email'!$B:$B),'H2 Originaldaten'!E232,7),2),1)","v":152.30000000000001},{"$f":"ROUND(MAX(_xlfn.NORM.INV(('Eingabe Email'!$B364+1)/MAX('Eingabe Email'!$B:$B),'H2 Originaldaten'!F232,7),2),1)","v":4338.3},{"$f":"ROUND(MAX(_xlfn.NORM.INV(('Eingabe Email'!$B364+1)/MAX('Eingabe Email'!$B:$B),'H2 Originaldaten'!G232,7),2),1)","v":17.8},{"$f":"'H2 Originaldaten'!H232","v":77},{"$f":"'H2 Originaldaten'!I232","v":1},{"$f":"'H2 Originaldaten'!J232","v":"ford thunderbird"}]
[232,{"$f":"ROUND(MAX(_xlfn.NORM.INV(('Eingabe Email'!$B365+1)/MAX('Eingabe Email'!$B:$B),'H2 Originaldaten'!B233,7),2),1)","v":31.5},{"$f":"'H2 Originaldaten'!C233","v":4},{"$f":"ROUND(MAX(_xlfn.NORM.INV(('Eingabe Email'!$B365+1)/MAX('Eingabe Email'!$B:$B),'H2 Originaldaten'!D233,7),2),1)","v":99.5},{"$f":"ROUND(MAX(_xlfn.NORM.INV(('Eingabe Email'!$B365+1)/MAX('Eingabe Email'!$B:$B),'H2 Originaldaten'!E233,7),2),1)","v":80.5},{"$f":"ROUND(MAX(_xlfn.NORM.INV(('Eingabe Email'!$B365+1)/MAX('Eingabe Email'!$B:$B),'H2 Originaldaten'!F233,7),2),1)","v":1942.5},{"$f":"ROUND(MAX(_xlfn.NORM.INV(('Eingabe Email'!$B365+1)/MAX('Eingabe Email'!$B:$B),'H2 Originaldaten'!G233,7),2),1)","v":17},{"$f":"'H2 Originaldaten'!H233","v":77},{"$f":"'H2 Originaldaten'!I233","v":2},{"$f":"'H2 Originaldaten'!J233","v":"volkswagen rabbit custom"}]
[233,{"$f":"ROUND(MAX(_xlfn.NORM.INV(('Eingabe Email'!$B366+1)/MAX('Eingabe Email'!$B:$B),'H2 Originaldaten'!B234,7),2),1)","v":14.3},{"$f":"'H2 Originaldaten'!C234","v":4},{"$f":"ROUND(MAX(_xlfn.NORM.INV(('Eingabe Email'!$B366+1)/MAX('Eingabe Email'!$B:$B),'H2 Originaldaten'!D234,7),2),1)","v":140.80000000000001},{"$f":"ROUND(MAX(_xlfn.NORM.INV(('Eingabe Email'!$B366+1)/MAX('Eingabe Email'!$B:$B),'H2 Originaldaten'!E234,7),2),1)","v":77.8},{"$f":"ROUND(MAX(_xlfn.NORM.INV(('Eingabe Email'!$B366+1)/MAX('Eingabe Email'!$B:$B),'H2 Originaldaten'!F234,7),2),1)","v":2729.8},{"$f":"ROUND(MAX(_xlfn.NORM.INV(('Eingabe Email'!$B366+1)/MAX('Eingabe Email'!$B:$B),'H2 Originaldaten'!G234,7),2),1)","v":5.8},{"$f":"'H2 Originaldaten'!H234","v":77},{"$f":"'H2 Originaldaten'!I234","v":1},{"$f":"'H2 Originaldaten'!J234","v":"pontiac sunbird coupe"}]
[234,{"$f":"ROUND(MAX(_xlfn.NORM.INV(('Eingabe Email'!$B367+1)/MAX('Eingabe Email'!$B:$B),'H2 Originaldaten'!B235,7),2),1)","v":21.2},{"$f":"'H2 Originaldaten'!C235","v":4},{"$f":"ROUND(MAX(_xlfn.NORM.INV(('Eingabe Email'!$B367+1)/MAX('Eingabe Email'!$B:$B),'H2 Originaldaten'!D235,7),2),1)","v":92.2},{"$f":"ROUND(MAX(_xlfn.NORM.INV(('Eingabe Email'!$B367+1)/MAX('Eingabe Email'!$B:$B),'H2 Originaldaten'!E235,7),2),1)","v":70.2},{"$f":"ROUND(MAX(_xlfn.NORM.INV(('Eingabe Email'!$B367+1)/MAX('Eingabe Email'!$B:$B),'H2 Originaldaten'!F235,7),2),1)","v":2260.1999999999998},{"$f":"ROUND(MAX(_xlfn.NORM.INV(('Eingabe Email'!$B367+1)/MAX('Eingabe Email'!$B:$B),'H2 Originaldaten'!G235,7),2),1)","v":13.4},{"$f":"'H2 Originaldaten'!H235","v":77},{"$f":"'H2 Originaldaten'!I235","v":3},{"$f":"'H2 Originaldaten'!J235","v":"toyota corolla liftback"}]
[235,{"$f":"ROUND(MAX(_xlfn.NORM.INV(('Eingabe Email'!$B368+1)/MAX('Eingabe Email'!$B:$B),'H2 Originaldaten'!B236,7),2),1)","v":31.4},{"$f":"'H2 Originaldaten'!C236","v":4},{"$f":"ROUND(MAX(_xlfn.NORM.INV(('Eingabe Email'!$B368+1)/MAX('Eingabe Email'!$B:$B),'H2 Originaldaten'!D236,7),2),1)","v":145.9},{"$f":"ROUND(MAX(_xlfn.NORM.INV(('Eingabe Email'!$B368+1)/MAX('Eingabe Email'!$B:$B),'H2 Originaldaten'!E236,7),2),1)","v":94.9},{"$f":"ROUND(MAX(_xlfn.NORM.INV(('Eingabe Email'!$B368+1)/MAX('Eingabe Email'!$B:$B),'H2 Originaldaten'!F236,7),2),1)","v":2760.9},{"$f":"ROUND(MAX(_xlfn.NORM.INV(('Eingabe Email'!$B368+1)/MAX('Eingabe Email'!$B:$B),'H2 Originaldaten'!G236,7),2),1)","v":21.7},{"$f":"'H2 Originaldaten'!H236","v":77},{"$f":"'H2 Originaldaten'!I236","v":1},{"$f":"'H2 Originaldaten'!J236","v":"ford mustang ii 2+2"}]
[236,{"$f":"ROUND(MAX(_xlfn.NORM.INV(('Eingabe Email'!$B369+1)/MAX('Eingabe Email'!$B:$B),'H2 Originaldaten'!B237,7),2),1)","v":27.9},{"$f":"'H2 Originaldaten'!C237","v":4},{"$f":"ROUND(MAX(_xlfn.NORM.INV(('Eingabe Email'!$B369+1)/MAX('Eingabe Email'!$B:$B),'H2 Originaldaten'!D237,7),2),1)","v":95.4},{"$f":"ROUND(MAX(_xlfn.NORM.INV(('Eingabe Email'!$B369+1)/MAX('Eingabe Email'!$B:$B),'H2 Originaldaten'!E237,7),2),1)","v":60.4},{"$f":"ROUND(MAX(_xlfn.NORM.INV(('Eingabe Email'!$B369+1)/MAX('Eingabe Email'!$B:$B),'H2 Originaldaten'!F237,7),2),1)","v":2048.4},{"$f":"ROUND(MAX(_xlfn.NORM.INV(('Eingabe Email'!$B369+1)/MAX('Eingabe Email'!$B:$B),'H2 Originaldaten'!G237,7),2),1)","v":14.4},{"$f":"'H2 Originaldaten'!H237","v":77},{"$f":"'H2 Originaldaten'!I237","v":1},{"$f":"'H2 Originaldaten'!J237","v":"chevrolet chevette"}]
[237,{"$f":"ROUND(MAX(_xlfn.NORM.INV(('Eingabe Email'!$B370+1)/MAX('Eingabe Email'!$B:$B),'H2 Originaldaten'!B238,7),2),1)","v":39.799999999999997},{"$f":"'H2 Originaldaten'!C238","v":4},{"$f":"ROUND(MAX(_xlfn.NORM.INV(('Eingabe Email'!$B370+1)/MAX('Eingabe Email'!$B:$B),'H2 Originaldaten'!D238,7),2),1)","v":104.3},{"$f":"ROUND(MAX(_xlfn.NORM.INV(('Eingabe Email'!$B370+1)/MAX('Eingabe Email'!$B:$B),'H2 Originaldaten'!E238,7),2),1)","v":89.3},{"$f":"ROUND(MAX(_xlfn.NORM.INV(('Eingabe Email'!$B370+1)/MAX('Eingabe Email'!$B:$B),'H2 Originaldaten'!F238,7),2),1)","v":2081.3000000000002},{"$f":"ROUND(MAX(_xlfn.NORM.INV(('Eingabe Email'!$B370+1)/MAX('Eingabe Email'!$B:$B),'H2 Originaldaten'!G238,7),2),1)","v":22.2},{"$f":"'H2 Originaldaten'!H238","v":77},{"$f":"'H2 Originaldaten'!I238","v":1},{"$f":"'H2 Originaldaten'!J238","v":"dodge colt m/m"}]
[238,{"$f":"ROUND(MAX(_xlfn.NORM.INV(('Eingabe Email'!$B371+1)/MAX('Eingabe Email'!$B:$B),'H2 Originaldaten'!B239,7),2),1)","v":29.5},{"$f":"'H2 Originaldaten'!C239","v":4},{"$f":"ROUND(MAX(_xlfn.NORM.INV(('Eingabe Email'!$B371+1)/MAX('Eingabe Email'!$B:$B),'H2 Originaldaten'!D239,7),2),1)","v":96.5},{"$f":"ROUND(MAX(_xlfn.NORM.INV(('Eingabe Email'!$B371+1)/MAX('Eingabe Email'!$B:$B),'H2 Originaldaten'!E239,7),2),1)","v":66.5},{"$f":"ROUND(MAX(_xlfn.NORM.INV(('Eingabe Email'!$B371+1)/MAX('Eingabe Email'!$B:$B),'H2 Originaldaten'!F239,7),2),1)","v":1984.5},{"$f":"ROUND(MAX(_xlfn.NORM.INV(('Eingabe Email'!$B371+1)/MAX('Eingabe Email'!$B:$B),'H2 Originaldaten'!G239,7),2),1)","v":15.9},{"$f":"'H2 Originaldaten'!H239","v":77},{"$f":"'H2 Originaldaten'!I239","v":3},{"$f":"'H2 Originaldaten'!J239","v":"subaru dl"}]
[239,{"$f":"ROUND(MAX(_xlfn.NORM.INV(('Eingabe Email'!$B372+1)/MAX('Eingabe Email'!$B:$B),'H2 Originaldaten'!B240,7),2),1)","v":27.1},{"$f":"'H2 Originaldaten'!C240","v":4},{"$f":"ROUND(MAX(_xlfn.NORM.INV(('Eingabe Email'!$B372+1)/MAX('Eingabe Email'!$B:$B),'H2 Originaldaten'!D240,7),2),1)","v":93.6},{"$f":"ROUND(MAX(_xlfn.NORM.INV(('Eingabe Email'!$B372+1)/MAX('Eingabe Email'!$B:$B),'H2 Originaldaten'!E240,7),2),1)","v":74.599999999999994},{"$f":"ROUND(MAX(_xlfn.NORM.INV(('Eingabe Email'!$B372+1)/MAX('Eingabe Email'!$B:$B),'H2 Originaldaten'!F240,7),2),1)","v":2186.6},{"$f":"ROUND(MAX(_xlfn.NORM.INV(('Eingabe Email'!$B372+1)/MAX('Eingabe Email'!$B:$B),'H2 Originaldaten'!G240,7),2),1)","v":10.7},{"$f":"'H2 Originaldaten'!H240","v":77},{"$f":"'H2 Originaldaten'!I240","v":2},{"$f":"'H2 Originaldaten'!J240","v":"volkswagen dasher"}]
[240,{"$f":"ROUND(MAX(_xlfn.NORM.INV(('Eingabe Email'!$B373+1)/MAX('Eingabe Email'!$B:$B),'H2 Originaldaten'!B241,7),2),1)","v":24.6},{"$f":"'H2 Originaldaten'!C241","v":6},{"$f":"ROUND(MAX(_xlfn.NORM.INV(('Eingabe Email'!$B373+1)/MAX('Eingabe Email'!$B:$B),'H2 Originaldaten'!D241,7),2),1)","v":148.6},{"$f":"ROUND(MAX(_xlfn.NORM.INV(('Eingabe Email'!$B373+1)/MAX('Eingabe Email'!$B:$B),'H2 Originaldaten'!E241,7),2),1)","v":99.6},{"$f":"ROUND(MAX(_xlfn.NORM.INV(('Eingabe Email'!$B373+1)/MAX('Eingabe Email'!$B:$B),'H2 Originaldaten'!F241,7),2),1)","v":2817.6},{"$f":"ROUND(MAX(_xlfn.NORM.INV(('Eingabe Email'!$B373+1)/MAX('Eingabe Email'!$B:$B),'H2 Originaldaten'!G241,7),2),1)","v":17.100000000000001},{"$f":"'H2 Originaldaten'!H241","v":77},{"$f":"'H2 Originaldaten'!I241","v":3},{"$f":"'H2 Originaldaten'!J241","v":"datsun 810"}]
[241,{"$f":"ROUND(MAX(_xlfn.NORM.INV(('Eingabe Email'!$B374+1)/MAX('Eingabe Email'!$B:$B),'H2 Originaldaten'!B242,7),2),1)","v":20.2},{"$f":"'H2 Originaldaten'!C242","v":4},{"$f":"ROUND(MAX(_xlfn.NORM.INV(('Eingabe Email'!$B374+1)/MAX('Eingabe Email'!$B:$B),'H2 Originaldaten'!D242,7),2),1)","v":119.7},{"$f":"ROUND(MAX(_xlfn.NORM.INV(('Eingabe Email'!$B374+1)/MAX('Eingabe Email'!$B:$B),'H2 Originaldaten'!E242,7),2),1)","v":108.7},{"$f":"ROUND(MAX(_xlfn.NORM.INV(('Eingabe Email'!$B374+1)/MAX('Eingabe Email'!$B:$B),'H2 Originaldaten'!F242,7),2),1)","v":2598.6999999999998},{"$f":"ROUND(MAX(_xlfn.NORM.INV(('Eingabe Email'!$B374+1)/MAX('Eingabe Email'!$B:$B),'H2 Originaldaten'!G242,7),2),1)","v":11.5},{"$f":"'H2 Originaldaten'!H242","v":77},{"$f":"'H2 Originaldaten'!I242","v":2},{"$f":"'H2 Originaldaten'!J242","v":"bmw 320i"}]
[242,{"$f":"ROUND(MAX(_xlfn.NORM.INV(('Eingabe Email'!$B375+1)/MAX('Eingabe Email'!$B:$B),'H2 Originaldaten'!B243,7),2),1)","v":10.6},{"$f":"'H2 Originaldaten'!C243","v":3},{"$f":"ROUND(MAX(_xlfn.NORM.INV(('Eingabe Email'!$B375+1)/MAX('Eingabe Email'!$B:$B),'H2 Originaldaten'!D243,7),2),1)","v":69.099999999999994},{"$f":"ROUND(MAX(_xlfn.NORM.INV(('Eingabe Email'!$B375+1)/MAX('Eingabe Email'!$B:$B),'H2 Originaldaten'!E243,7),2),1)","v":99.1},{"$f":"ROUND(MAX(_xlfn.NORM.INV(('Eingabe Email'!$B375+1)/MAX('Eingabe Email'!$B:$B),'H2 Originaldaten'!F243,7),2),1)","v":2709.1},{"$f":"ROUND(MAX(_xlfn.NORM.INV(('Eingabe Email'!$B375+1)/MAX('Eingabe Email'!$B:$B),'H2 Originaldaten'!G243,7),2),1)","v":2.6},{"$f":"'H2 Originaldaten'!H243","v":77},{"$f":"'H2 Originaldaten'!I243","v":3},{"$f":"'H2 Originaldaten'!J243","v":"mazda rx-4"}]
[243,{"$f":"ROUND(MAX(_xlfn.NORM.INV(('Eingabe Email'!$B376+1)/MAX('Eingabe Email'!$B:$B),'H2 Originaldaten'!B244,7),2),1)","v":46},{"$f":"'H2 Originaldaten'!C244","v":4},{"$f":"ROUND(MAX(_xlfn.NORM.INV(('Eingabe Email'!$B376+1)/MAX('Eingabe Email'!$B:$B),'H2 Originaldaten'!D244,7),2),1)","v":92.9},{"$f":"ROUND(MAX(_xlfn.NORM.INV(('Eingabe Email'!$B376+1)/MAX('Eingabe Email'!$B:$B),'H2 Originaldaten'!E244,7),2),1)","v":50.9},{"$f":"ROUND(MAX(_xlfn.NORM.INV(('Eingabe Email'!$B376+1)/MAX('Eingabe Email'!$B:$B),'H2 Originaldaten'!F244,7),2),1)","v":1987.9},{"$f":"ROUND(MAX(_xlfn.NORM.INV(('Eingabe Email'!$B376+1)/MAX('Eingabe Email'!$B:$B),'H2 Originaldaten'!G244,7),2),1)","v":24.4},{"$f":"'H2 Originaldaten'!H244","v":78},{"$f":"'H2 Originaldaten'!I244","v":2},{"$f":"'H2 Originaldaten'!J244","v":"volkswagen rabbit custom diesel"}]
[244,{"$f":"ROUND(MAX(_xlfn.NORM.INV(('Eingabe Email'!$B377+1)/MAX('Eingabe Email'!$B:$B),'H2 Originaldaten'!B245,7),2),1)","v":36.5},{"$f":"'H2 Originaldaten'!C245","v":4},{"$f":"ROUND(MAX(_xlfn.NORM.INV(('Eingabe Email'!$B377+1)/MAX('Eingabe Email'!$B:$B),'H2 Originaldaten'!D245,7),2),1)","v":98.4},{"$f":"ROUND(MAX(_xlfn.NORM.INV(('Eingabe Email'!$B377+1)/MAX('Eingabe Email'!$B:$B),'H2 Originaldaten'!E245,7),2),1)","v":66.400000000000006},{"$f":"ROUND(MAX(_xlfn.NORM.INV(('Eingabe Email'!$B377+1)/MAX('Eingabe Email'!$B:$B),'H2 Originaldaten'!F245,7),2),1)","v":1800.4},{"$f":"ROUND(MAX(_xlfn.NORM.INV(('Eingabe Email'!$B377+1)/MAX('Eingabe Email'!$B:$B),'H2 Originaldaten'!G245,7),2),1)","v":14.8},{"$f":"'H2 Originaldaten'!H245","v":78},{"$f":"'H2 Originaldaten'!I245","v":1},{"$f":"'H2 Originaldaten'!J245","v":"ford fiesta"}]
[245,{"$f":"ROUND(MAX(_xlfn.NORM.INV(('Eingabe Email'!$B378+1)/MAX('Eingabe Email'!$B:$B),'H2 Originaldaten'!B246,7),2),1)","v":31.1},{"$f":"'H2 Originaldaten'!C246","v":4},{"$f":"ROUND(MAX(_xlfn.NORM.INV(('Eingabe Email'!$B378+1)/MAX('Eingabe Email'!$B:$B),'H2 Originaldaten'!D246,7),2),1)","v":76.3},{"$f":"ROUND(MAX(_xlfn.NORM.INV(('Eingabe Email'!$B378+1)/MAX('Eingabe Email'!$B:$B),'H2 Originaldaten'!E246,7),2),1)","v":50.3},{"$f":"ROUND(MAX(_xlfn.NORM.INV(('Eingabe Email'!$B378+1)/MAX('Eingabe Email'!$B:$B),'H2 Originaldaten'!F246,7),2),1)","v":1983.3},{"$f":"ROUND(MAX(_xlfn.NORM.INV(('Eingabe Email'!$B378+1)/MAX('Eingabe Email'!$B:$B),'H2 Originaldaten'!G246,7),2),1)","v":17.7},{"$f":"'H2 Originaldaten'!H246","v":78},{"$f":"'H2 Originaldaten'!I246","v":3},{"$f":"'H2 Originaldaten'!J246","v":"mazda glc deluxe"}]
[246,{"$f":"ROUND(MAX(_xlfn.NORM.INV(('Eingabe Email'!$B379+1)/MAX('Eingabe Email'!$B:$B),'H2 Originaldaten'!B247,7),2),1)","v":40.6},{"$f":"'H2 Originaldaten'!C247","v":4},{"$f":"ROUND(MAX(_xlfn.NORM.INV(('Eingabe Email'!$B379+1)/MAX('Eingabe Email'!$B:$B),'H2 Originaldaten'!D247,7),2),1)","v":86.2},{"$f":"ROUND(MAX(_xlfn.NORM.INV(('Eingabe Email'!$B379+1)/MAX('Eingabe Email'!$B:$B),'H2 Originaldaten'!E247,7),2),1)","v":71.2},{"$f":"ROUND(MAX(_xlfn.NORM.INV(('Eingabe Email'!$B379+1)/MAX('Eingabe Email'!$B:$B),'H2 Originaldaten'!F247,7),2),1)","v":2071.1999999999998},{"$f":"ROUND(MAX(_xlfn.NORM.INV(('Eingabe Email'!$B379+1)/MAX('Eingabe Email'!$B:$B),'H2 Originaldaten'!G247,7),2),1)","v":19.8},{"$f":"'H2 Originaldaten'!H247","v":78},{"$f":"'H2 Originaldaten'!I247","v":3},{"$f":"'H2 Originaldaten'!J247","v":"datsun b210 gx"}]
[247,{"$f":"ROUND(MAX(_xlfn.NORM.INV(('Eingabe Email'!$B380+1)/MAX('Eingabe Email'!$B:$B),'H2 Originaldaten'!B248,7),2),1)","v":35.9},{"$f":"'H2 Originaldaten'!C248","v":4},{"$f":"ROUND(MAX(_xlfn.NORM.INV(('Eingabe Email'!$B380+1)/MAX('Eingabe Email'!$B:$B),'H2 Originaldaten'!D248,7),2),1)","v":90.8},{"$f":"ROUND(MAX(_xlfn.NORM.INV(('Eingabe Email'!$B380+1)/MAX('Eingabe Email'!$B:$B),'H2 Originaldaten'!E248,7),2),1)","v":59.8},{"$f":"ROUND(MAX(_xlfn.NORM.INV(('Eingabe Email'!$B380+1)/MAX('Eingabe Email'!$B:$B),'H2 Originaldaten'!F248,7),2),1)","v":1799.8},{"$f":"ROUND(MAX(_xlfn.NORM.INV(('Eingabe Email'!$B380+1)/MAX('Eingabe Email'!$B:$B),'H2 Originaldaten'!G248,7),2),1)","v":16.2},{"$f":"'H2 Originaldaten'!H248","v":78},{"$f":"'H2 Originaldaten'!I248","v":3},{"$f":"'H2 Originaldaten'!J248","v":"honda civic cvcc"}]
[248,{"$f":"ROUND(MAX(_xlfn.NORM.INV(('Eingabe Email'!$B381+1)/MAX('Eingabe Email'!$B:$B),'H2 Originaldaten'!B249,7),2),1)","v":21.4},{"$f":"'H2 Originaldaten'!C249","v":8},{"$f":"ROUND(MAX(_xlfn.NORM.INV(('Eingabe Email'!$B381+1)/MAX('Eingabe Email'!$B:$B),'H2 Originaldaten'!D249,7),2),1)","v":261.5},{"$f":"ROUND(MAX(_xlfn.NORM.INV(('Eingabe Email'!$B381+1)/MAX('Eingabe Email'!$B:$B),'H2 Originaldaten'!E249,7),2),1)","v":111.5},{"$f":"ROUND(MAX(_xlfn.NORM.INV(('Eingabe Email'!$B381+1)/MAX('Eingabe Email'!$B:$B),'H2 Originaldaten'!F249,7),2),1)","v":3366.5},{"$f":"ROUND(MAX(_xlfn.NORM.INV(('Eingabe Email'!$B381+1)/MAX('Eingabe Email'!$B:$B),'H2 Originaldaten'!G249,7),2),1)","v":17},{"$f":"'H2 Originaldaten'!H249","v":78},{"$f":"'H2 Originaldaten'!I249","v":1},{"$f":"'H2 Originaldaten'!J249","v":"oldsmobile cutlass salon brougham"}]
[249,{"$f":"ROUND(MAX(_xlfn.NORM.INV(('Eingabe Email'!$B382+1)/MAX('Eingabe Email'!$B:$B),'H2 Originaldaten'!B250,7),2),1)","v":19.3},{"$f":"'H2 Originaldaten'!C250","v":8},{"$f":"ROUND(MAX(_xlfn.NORM.INV(('Eingabe Email'!$B382+1)/MAX('Eingabe Email'!$B:$B),'H2 Originaldaten'!D250,7),2),1)","v":317.89999999999998},{"$f":"ROUND(MAX(_xlfn.NORM.INV(('Eingabe Email'!$B382+1)/MAX('Eingabe Email'!$B:$B),'H2 Originaldaten'!E250,7),2),1)","v":139.9},{"$f":"ROUND(MAX(_xlfn.NORM.INV(('Eingabe Email'!$B382+1)/MAX('Eingabe Email'!$B:$B),'H2 Originaldaten'!F250,7),2),1)","v":3734.9},{"$f":"ROUND(MAX(_xlfn.NORM.INV(('Eingabe Email'!$B382+1)/MAX('Eingabe Email'!$B:$B),'H2 Originaldaten'!G250,7),2),1)","v":13.1},{"$f":"'H2 Originaldaten'!H250","v":78},{"$f":"'H2 Originaldaten'!I250","v":1},{"$f":"'H2 Originaldaten'!J250","v":"dodge diplomat"}]
[250,{"$f":"ROUND(MAX(_xlfn.NORM.INV(('Eingabe Email'!$B383+1)/MAX('Eingabe Email'!$B:$B),'H2 Originaldaten'!B251,7),2),1)","v":20.7},{"$f":"'H2 Originaldaten'!C251","v":8},{"$f":"ROUND(MAX(_xlfn.NORM.INV(('Eingabe Email'!$B383+1)/MAX('Eingabe Email'!$B:$B),'H2 Originaldaten'!D251,7),2),1)","v":302.5},{"$f":"ROUND(MAX(_xlfn.NORM.INV(('Eingabe Email'!$B383+1)/MAX('Eingabe Email'!$B:$B),'H2 Originaldaten'!E251,7),2),1)","v":139.5},{"$f":"ROUND(MAX(_xlfn.NORM.INV(('Eingabe Email'!$B383+1)/MAX('Eingabe Email'!$B:$B),'H2 Originaldaten'!F251,7),2),1)","v":3570.5},{"$f":"ROUND(MAX(_xlfn.NORM.INV(('Eingabe Email'!$B383+1)/MAX('Eingabe Email'!$B:$B),'H2 Originaldaten'!G251,7),2),1)","v":13.3},{"$f":"'H2 Originaldaten'!H251","v":78},{"$f":"'H2 Originaldaten'!I251","v":1},{"$f":"'H2 Originaldaten'!J251","v":"mercury monarch ghia"}]
[251,{"$f":"ROUND(MAX(_xlfn.NORM.INV(('Eingabe Email'!$B384+1)/MAX('Eingabe Email'!$B:$B),'H2 Originaldaten'!B252,7),2),1)","v":16.899999999999999},{"$f":"'H2 Originaldaten'!C252","v":6},{"$f":"ROUND(MAX(_xlfn.NORM.INV(('Eingabe Email'!$B384+1)/MAX('Eingabe Email'!$B:$B),'H2 Originaldaten'!D252,7),2),1)","v":228.7},{"$f":"ROUND(MAX(_xlfn.NORM.INV(('Eingabe Email'!$B384+1)/MAX('Eingabe Email'!$B:$B),'H2 Originaldaten'!E252,7),2),1)","v":102.7},{"$f":"ROUND(MAX(_xlfn.NORM.INV(('Eingabe Email'!$B384+1)/MAX('Eingabe Email'!$B:$B),'H2 Originaldaten'!F252,7),2),1)","v":3532.7},{"$f":"ROUND(MAX(_xlfn.NORM.INV(('Eingabe Email'!$B384+1)/MAX('Eingabe Email'!$B:$B),'H2 Originaldaten'!G252,7),2),1)","v":16.899999999999999},{"$f":"'H2 Originaldaten'!H252","v":78},{"$f":"'H2 Originaldaten'!I252","v":1},{"$f":"'H2 Originaldaten'!J252","v":"pontiac phoenix lj"}]
[252,{"$f":"ROUND(MAX(_xlfn.NORM.INV(('Eingabe Email'!$B385+1)/MAX('Eingabe Email'!$B:$B),'H2 Originaldaten'!B253,7),2),1)","v":30.7},{"$f":"'H2 Originaldaten'!C253","v":6},{"$f":"ROUND(MAX(_xlfn.NORM.INV(('Eingabe Email'!$B385+1)/MAX('Eingabe Email'!$B:$B),'H2 Originaldaten'!D253,7),2),1)","v":210.2},{"$f":"ROUND(MAX(_xlfn.NORM.INV(('Eingabe Email'!$B385+1)/MAX('Eingabe Email'!$B:$B),'H2 Originaldaten'!E253,7),2),1)","v":105.2},{"$f":"ROUND(MAX(_xlfn.NORM.INV(('Eingabe Email'!$B385+1)/MAX('Eingabe Email'!$B:$B),'H2 Originaldaten'!F253,7),2),1)","v":3165.2},{"$f":"ROUND(MAX(_xlfn.NORM.INV(('Eingabe Email'!$B385+1)/MAX('Eingabe Email'!$B:$B),'H2 Originaldaten'!G253,7),2),1)","v":28.4},{"$f":"'H2 Originaldaten'!H253","v":78},{"$f":"'H2 Originaldaten'!I253","v":1},{"$f":"'H2 Originaldaten'!J253","v":"chevrolet malibu"}]
[253,{"$f":"ROUND(MAX(_xlfn.NORM.INV(('Eingabe Email'!$B386+1)/MAX('Eingabe Email'!$B:$B),'H2 Originaldaten'!B254,7),2),1)","v":30.5},{"$f":"'H2 Originaldaten'!C254","v":6},{"$f":"ROUND(MAX(_xlfn.NORM.INV(('Eingabe Email'!$B386+1)/MAX('Eingabe Email'!$B:$B),'H2 Originaldaten'!D254,7),2),1)","v":210.3},{"$f":"ROUND(MAX(_xlfn.NORM.INV(('Eingabe Email'!$B386+1)/MAX('Eingabe Email'!$B:$B),'H2 Originaldaten'!E254,7),2),1)","v":95.3},{"$f":"ROUND(MAX(_xlfn.NORM.INV(('Eingabe Email'!$B386+1)/MAX('Eingabe Email'!$B:$B),'H2 Originaldaten'!F254,7),2),1)","v":2975.3},{"$f":"ROUND(MAX(_xlfn.NORM.INV(('Eingabe Email'!$B386+1)/MAX('Eingabe Email'!$B:$B),'H2 Originaldaten'!G254,7),2),1)","v":26.1},{"$f":"'H2 Originaldaten'!H254","v":78},{"$f":"'H2 Originaldaten'!I254","v":1},{"$f":"'H2 Originaldaten'!J254","v":"ford fairmont (auto)"}]
[254,{"$f":"ROUND(MAX(_xlfn.NORM.INV(('Eingabe Email'!$B387+1)/MAX('Eingabe Email'!$B:$B),'H2 Originaldaten'!B255,7),2),1)","v":27.6},{"$f":"'H2 Originaldaten'!C255","v":4},{"$f":"ROUND(MAX(_xlfn.NORM.INV(('Eingabe Email'!$B387+1)/MAX('Eingabe Email'!$B:$B),'H2 Originaldaten'!D255,7),2),1)","v":142.5},{"$f":"ROUND(MAX(_xlfn.NORM.INV(('Eingabe Email'!$B387+1)/MAX('Eingabe Email'!$B:$B),'H2 Originaldaten'!E255,7),2),1)","v":90.5},{"$f":"ROUND(MAX(_xlfn.NORM.INV(('Eingabe Email'!$B387+1)/MAX('Eingabe Email'!$B:$B),'H2 Originaldaten'!F255,7),2),1)","v":2722.5},{"$f":"ROUND(MAX(_xlfn.NORM.INV(('Eingabe Email'!$B387+1)/MAX('Eingabe Email'!$B:$B),'H2 Originaldaten'!G255,7),2),1)","v":17.899999999999999},{"$f":"'H2 Originaldaten'!H255","v":78},{"$f":"'H2 Originaldaten'!I255","v":1},{"$f":"'H2 Originaldaten'!J255","v":"ford fairmont (man)"}]
[255,{"$f":"ROUND(MAX(_xlfn.NORM.INV(('Eingabe Email'!$B388+1)/MAX('Eingabe Email'!$B:$B),'H2 Originaldaten'!B256,7),2),1)","v":7.1},{"$f":"'H2 Originaldaten'!C256","v":6},{"$f":"ROUND(MAX(_xlfn.NORM.INV(('Eingabe Email'!$B388+1)/MAX('Eingabe Email'!$B:$B),'H2 Originaldaten'!D256,7),2),1)","v":211.6},{"$f":"ROUND(MAX(_xlfn.NORM.INV(('Eingabe Email'!$B388+1)/MAX('Eingabe Email'!$B:$B),'H2 Originaldaten'!E256,7),2),1)","v":86.6},{"$f":"ROUND(MAX(_xlfn.NORM.INV(('Eingabe Email'!$B388+1)/MAX('Eingabe Email'!$B:$B),'H2 Originaldaten'!F256,7),2),1)","v":3416.6},{"$f":"ROUND(MAX(_xlfn.NORM.INV(('Eingabe Email'!$B388+1)/MAX('Eingabe Email'!$B:$B),'H2 Originaldaten'!G256,7),2),1)","v":3.8},{"$f":"'H2 Originaldaten'!H256","v":78},{"$f":"'H2 Originaldaten'!I256","v":1},{"$f":"'H2 Originaldaten'!J256","v":"plymouth volare"}]
[256,{"$f":"ROUND(MAX(_xlfn.NORM.INV(('Eingabe Email'!$B389+1)/MAX('Eingabe Email'!$B:$B),'H2 Originaldaten'!B257,7),2),1)","v":16.3},{"$f":"'H2 Originaldaten'!C257","v":6},{"$f":"ROUND(MAX(_xlfn.NORM.INV(('Eingabe Email'!$B389+1)/MAX('Eingabe Email'!$B:$B),'H2 Originaldaten'!D257,7),2),1)","v":228.9},{"$f":"ROUND(MAX(_xlfn.NORM.INV(('Eingabe Email'!$B389+1)/MAX('Eingabe Email'!$B:$B),'H2 Originaldaten'!E257,7),2),1)","v":86.9},{"$f":"ROUND(MAX(_xlfn.NORM.INV(('Eingabe Email'!$B389+1)/MAX('Eingabe Email'!$B:$B),'H2 Originaldaten'!F257,7),2),1)","v":3206.9},{"$f":"ROUND(MAX(_xlfn.NORM.INV(('Eingabe Email'!$B389+1)/MAX('Eingabe Email'!$B:$B),'H2 Originaldaten'!G257,7),2),1)","v":14.1},{"$f":"'H2 Originaldaten'!H257","v":78},{"$f":"'H2 Originaldaten'!I257","v":1},{"$f":"'H2 Originaldaten'!J257","v":"amc concord"}]
[257,{"$f":"ROUND(MAX(_xlfn.NORM.INV(('Eingabe Email'!$B390+1)/MAX('Eingabe Email'!$B:$B),'H2 Originaldaten'!B258,7),2),1)","v":18.600000000000001},{"$f":"'H2 Originaldaten'!C258","v":6},{"$f":"ROUND(MAX(_xlfn.NORM.INV(('Eingabe Email'!$B390+1)/MAX('Eingabe Email'!$B:$B),'H2 Originaldaten'!D258,7),2),1)","v":229},{"$f":"ROUND(MAX(_xlfn.NORM.INV(('Eingabe Email'!$B390+1)/MAX('Eingabe Email'!$B:$B),'H2 Originaldaten'!E258,7),2),1)","v":103},{"$f":"ROUND(MAX(_xlfn.NORM.INV(('Eingabe Email'!$B390+1)/MAX('Eingabe Email'!$B:$B),'H2 Originaldaten'!F258,7),2),1)","v":3378},{"$f":"ROUND(MAX(_xlfn.NORM.INV(('Eingabe Email'!$B390+1)/MAX('Eingabe Email'!$B:$B),'H2 Originaldaten'!G258,7),2),1)","v":13.8},{"$f":"'H2 Originaldaten'!H258","v":78},{"$f":"'H2 Originaldaten'!I258","v":1},{"$f":"'H2 Originaldaten'!J258","v":"buick century special"}]
[258,{"$f":"ROUND(MAX(_xlfn.NORM.INV(('Eingabe Email'!$B391+1)/MAX('Eingabe Email'!$B:$B),'H2 Originaldaten'!B259,7),2),1)","v":18.8},{"$f":"'H2 Originaldaten'!C259","v":6},{"$f":"ROUND(MAX(_xlfn.NORM.INV(('Eingabe Email'!$B391+1)/MAX('Eingabe Email'!$B:$B),'H2 Originaldaten'!D259,7),2),1)","v":198},{"$f":"ROUND(MAX(_xlfn.NORM.INV(('Eingabe Email'!$B391+1)/MAX('Eingabe Email'!$B:$B),'H2 Originaldaten'!E259,7),2),1)","v":83},{"$f":"ROUND(MAX(_xlfn.NORM.INV(('Eingabe Email'!$B391+1)/MAX('Eingabe Email'!$B:$B),'H2 Originaldaten'!F259,7),2),1)","v":3068},{"$f":"ROUND(MAX(_xlfn.NORM.INV(('Eingabe Email'!$B391+1)/MAX('Eingabe Email'!$B:$B),'H2 Originaldaten'!G259,7),2),1)","v":14.7},{"$f":"'H2 Originaldaten'!H259","v":78},{"$f":"'H2 Originaldaten'!I259","v":1},{"$f":"'H2 Originaldaten'!J259","v":"mercury zephyr"}]
[259,{"$f":"ROUND(MAX(_xlfn.NORM.INV(('Eingabe Email'!$B392+1)/MAX('Eingabe Email'!$B:$B),'H2 Originaldaten'!B260,7),2),1)","v":26.9},{"$f":"'H2 Originaldaten'!C260","v":6},{"$f":"ROUND(MAX(_xlfn.NORM.INV(('Eingabe Email'!$B392+1)/MAX('Eingabe Email'!$B:$B),'H2 Originaldaten'!D260,7),2),1)","v":233.3},{"$f":"ROUND(MAX(_xlfn.NORM.INV(('Eingabe Email'!$B392+1)/MAX('Eingabe Email'!$B:$B),'H2 Originaldaten'!E260,7),2),1)","v":118.3},{"$f":"ROUND(MAX(_xlfn.NORM.INV(('Eingabe Email'!$B392+1)/MAX('Eingabe Email'!$B:$B),'H2 Originaldaten'!F260,7),2),1)","v":3628.3},{"$f":"ROUND(MAX(_xlfn.NORM.INV(('Eingabe Email'!$B392+1)/MAX('Eingabe Email'!$B:$B),'H2 Originaldaten'!G260,7),2),1)","v":27},{"$f":"'H2 Originaldaten'!H260","v":78},{"$f":"'H2 Originaldaten'!I260","v":1},{"$f":"'H2 Originaldaten'!J260","v":"dodge aspen"}]
[260,{"$f":"ROUND(MAX(_xlfn.NORM.INV(('Eingabe Email'!$B393+1)/MAX('Eingabe Email'!$B:$B),'H2 Originaldaten'!B261,7),2),1)","v":27.5},{"$f":"'H2 Originaldaten'!C261","v":6},{"$f":"ROUND(MAX(_xlfn.NORM.INV(('Eingabe Email'!$B393+1)/MAX('Eingabe Email'!$B:$B),'H2 Originaldaten'!D261,7),2),1)","v":267.39999999999998},{"$f":"ROUND(MAX(_xlfn.NORM.INV(('Eingabe Email'!$B393+1)/MAX('Eingabe Email'!$B:$B),'H2 Originaldaten'!E261,7),2),1)","v":129.4},{"$f":"ROUND(MAX(_xlfn.NORM.INV(('Eingabe Email'!$B393+1)/MAX('Eingabe Email'!$B:$B),'H2 Originaldaten'!F261,7),2),1)","v":3419.4},{"$f":"ROUND(MAX(_xlfn.NORM.INV(('Eingabe Email'!$B393+1)/MAX('Eingabe Email'!$B:$B),'H2 Originaldaten'!G261,7),2),1)","v":24.5},{"$f":"'H2 Originaldaten'!H261","v":78},{"$f":"'H2 Originaldaten'!I261","v":1},{"$f":"'H2 Originaldaten'!J261","v":"amc concord d/l"}]
[261,{"$f":"ROUND(MAX(_xlfn.NORM.INV(('Eingabe Email'!$B394+1)/MAX('Eingabe Email'!$B:$B),'H2 Originaldaten'!B262,7),2),1)","v":18.399999999999999},{"$f":"'H2 Originaldaten'!C262","v":8},{"$f":"ROUND(MAX(_xlfn.NORM.INV(('Eingabe Email'!$B394+1)/MAX('Eingabe Email'!$B:$B),'H2 Originaldaten'!D262,7),2),1)","v":304.2},{"$f":"ROUND(MAX(_xlfn.NORM.INV(('Eingabe Email'!$B394+1)/MAX('Eingabe Email'!$B:$B),'H2 Originaldaten'!E262,7),2),1)","v":144.19999999999999},{"$f":"ROUND(MAX(_xlfn.NORM.INV(('Eingabe Email'!$B394+1)/MAX('Eingabe Email'!$B:$B),'H2 Originaldaten'!F262,7),2),1)","v":3424.2},{"$f":"ROUND(MAX(_xlfn.NORM.INV(('Eingabe Email'!$B394+1)/MAX('Eingabe Email'!$B:$B),'H2 Originaldaten'!G262,7),2),1)","v":12.4},{"$f":"'H2 Originaldaten'!H262","v":78},{"$f":"'H2 Originaldaten'!I262","v":1},{"$f":"'H2 Originaldaten'!J262","v":"chevrolet monte carlo landau"}]
[262,{"$f":"ROUND(MAX(_xlfn.NORM.INV(('Eingabe Email'!$B395+1)/MAX('Eingabe Email'!$B:$B),'H2 Originaldaten'!B263,7),2),1)","v":14.8},{"$f":"'H2 Originaldaten'!C263","v":6},{"$f":"ROUND(MAX(_xlfn.NORM.INV(('Eingabe Email'!$B395+1)/MAX('Eingabe Email'!$B:$B),'H2 Originaldaten'!D263,7),2),1)","v":228.1},{"$f":"ROUND(MAX(_xlfn.NORM.INV(('Eingabe Email'!$B395+1)/MAX('Eingabe Email'!$B:$B),'H2 Originaldaten'!E263,7),2),1)","v":162.1},{"$f":"ROUND(MAX(_xlfn.NORM.INV(('Eingabe Email'!$B395+1)/MAX('Eingabe Email'!$B:$B),'H2 Originaldaten'!F263,7),2),1)","v":3442.1},{"$f":"ROUND(MAX(_xlfn.NORM.INV(('Eingabe Email'!$B395+1)/MAX('Eingabe Email'!$B:$B),'H2 Originaldaten'!G263,7),2),1)","v":10.5},{"$f":"'H2 Originaldaten'!H263","v":78},{"$f":"'H2 Originaldaten'!I263","v":1},{"$f":"'H2 Originaldaten'!J263","v":"buick regal sport coupe (turbo)"}]
[263,{"$f":"ROUND(MAX(_xlfn.NORM.INV(('Eingabe Email'!$B396+1)/MAX('Eingabe Email'!$B:$B),'H2 Originaldaten'!B264,7),2),1)","v":11},{"$f":"'H2 Originaldaten'!C264","v":8},{"$f":"ROUND(MAX(_xlfn.NORM.INV(('Eingabe Email'!$B396+1)/MAX('Eingabe Email'!$B:$B),'H2 Originaldaten'!D264,7),2),1)","v":294.89999999999998},{"$f":"ROUND(MAX(_xlfn.NORM.INV(('Eingabe Email'!$B396+1)/MAX('Eingabe Email'!$B:$B),'H2 Originaldaten'!E264,7),2),1)","v":131.9},{"$f":"ROUND(MAX(_xlfn.NORM.INV(('Eingabe Email'!$B396+1)/MAX('Eingabe Email'!$B:$B),'H2 Originaldaten'!F264,7),2),1)","v":3197.9},{"$f":"ROUND(MAX(_xlfn.NORM.INV(('Eingabe Email'!$B396+1)/MAX('Eingabe Email'!$B:$B),'H2 Originaldaten'!G264,7),2),1)","v":4.0999999999999996},{"$f":"'H2 Originaldaten'!H264","v":78},{"$f":"'H2 Originaldaten'!I264","v":1},{"$f":"'H2 Originaldaten'!J264","v":"ford futura"}]
[264,{"$f":"ROUND(MAX(_xlfn.NORM.INV(('Eingabe Email'!$B397+1)/MAX('Eingabe Email'!$B:$B),'H2 Originaldaten'!B265,7),2),1)","v":17.399999999999999},{"$f":"'H2 Originaldaten'!C265","v":8},{"$f":"ROUND(MAX(_xlfn.NORM.INV(('Eingabe Email'!$B397+1)/MAX('Eingabe Email'!$B:$B),'H2 Originaldaten'!D265,7),2),1)","v":317.89999999999998},{"$f":"ROUND(MAX(_xlfn.NORM.INV(('Eingabe Email'!$B397+1)/MAX('Eingabe Email'!$B:$B),'H2 Originaldaten'!E265,7),2),1)","v":139.9},{"$f":"ROUND(MAX(_xlfn.NORM.INV(('Eingabe Email'!$B397+1)/MAX('Eingabe Email'!$B:$B),'H2 Originaldaten'!F265,7),2),1)","v":4079.9},{"$f":"ROUND(MAX(_xlfn.NORM.INV(('Eingabe Email'!$B397+1)/MAX('Eingabe Email'!$B:$B),'H2 Originaldaten'!G265,7),2),1)","v":13.6},{"$f":"'H2 Originaldaten'!H265","v":78},{"$f":"'H2 Originaldaten'!I265","v":1},{"$f":"'H2 Originaldaten'!J265","v":"dodge magnum xe"}]
[265,{"$f":"ROUND(MAX(_xlfn.NORM.INV(('Eingabe Email'!$B398+1)/MAX('Eingabe Email'!$B:$B),'H2 Originaldaten'!B266,7),2),1)","v":38.700000000000003},{"$f":"'H2 Originaldaten'!C266","v":4},{"$f":"ROUND(MAX(_xlfn.NORM.INV(('Eingabe Email'!$B398+1)/MAX('Eingabe Email'!$B:$B),'H2 Originaldaten'!D266,7),2),1)","v":106.7},{"$f":"ROUND(MAX(_xlfn.NORM.INV(('Eingabe Email'!$B398+1)/MAX('Eingabe Email'!$B:$B),'H2 Originaldaten'!E266,7),2),1)","v":76.7},{"$f":"ROUND(MAX(_xlfn.NORM.INV(('Eingabe Email'!$B398+1)/MAX('Eingabe Email'!$B:$B),'H2 Originaldaten'!F266,7),2),1)","v":2163.6999999999998},{"$f":"ROUND(MAX(_xlfn.NORM.INV(('Eingabe Email'!$B398+1)/MAX('Eingabe Email'!$B:$B),'H2 Originaldaten'!G266,7),2),1)","v":25.2},{"$f":"'H2 Originaldaten'!H266","v":78},{"$f":"'H2 Originaldaten'!I266","v":1},{"$f":"'H2 Originaldaten'!J266","v":"chevrolet chevette"}]
[266,{"$f":"ROUND(MAX(_xlfn.NORM.INV(('Eingabe Email'!$B399+1)/MAX('Eingabe Email'!$B:$B),'H2 Originaldaten'!B267,7),2),1)","v":31.3},{"$f":"'H2 Originaldaten'!C267","v":4},{"$f":"ROUND(MAX(_xlfn.NORM.INV(('Eingabe Email'!$B399+1)/MAX('Eingabe Email'!$B:$B),'H2 Originaldaten'!D267,7),2),1)","v":137.80000000000001},{"$f":"ROUND(MAX(_xlfn.NORM.INV(('Eingabe Email'!$B399+1)/MAX('Eingabe Email'!$B:$B),'H2 Originaldaten'!E267,7),2),1)","v":98.8},{"$f":"ROUND(MAX(_xlfn.NORM.INV(('Eingabe Email'!$B399+1)/MAX('Eingabe Email'!$B:$B),'H2 Originaldaten'!F267,7),2),1)","v":2563.8000000000002},{"$f":"ROUND(MAX(_xlfn.NORM.INV(('Eingabe Email'!$B399+1)/MAX('Eingabe Email'!$B:$B),'H2 Originaldaten'!G267,7),2),1)","v":18},{"$f":"'H2 Originaldaten'!H267","v":78},{"$f":"'H2 Originaldaten'!I267","v":3},{"$f":"'H2 Originaldaten'!J267","v":"toyota corona"}]
[267,{"$f":"ROUND(MAX(_xlfn.NORM.INV(('Eingabe Email'!$B400+1)/MAX('Eingabe Email'!$B:$B),'H2 Originaldaten'!B268,7),2),1)","v":9.4},{"$f":"'H2 Originaldaten'!C268","v":4},{"$f":"ROUND(MAX(_xlfn.NORM.INV(('Eingabe Email'!$B400+1)/MAX('Eingabe Email'!$B:$B),'H2 Originaldaten'!D268,7),2),1)","v":101.2},{"$f":"ROUND(MAX(_xlfn.NORM.INV(('Eingabe Email'!$B400+1)/MAX('Eingabe Email'!$B:$B),'H2 Originaldaten'!E268,7),2),1)","v":79.2},{"$f":"ROUND(MAX(_xlfn.NORM.INV(('Eingabe Email'!$B400+1)/MAX('Eingabe Email'!$B:$B),'H2 Originaldaten'!F268,7),2),1)","v":2282.1999999999998},{"$f":"ROUND(MAX(_xlfn.NORM.INV(('Eingabe Email'!$B400+1)/MAX('Eingabe Email'!$B:$B),'H2 Originaldaten'!G268,7),2),1)","v":2},{"$f":"'H2 Originaldaten'!H268","v":78},{"$f":"'H2 Originaldaten'!I268","v":3},{"$f":"'H2 Originaldaten'!J268","v":"datsun 510"}]
[268,{"$f":"ROUND(MAX(_xlfn.NORM.INV(('Eingabe Email'!$B401+1)/MAX('Eingabe Email'!$B:$B),'H2 Originaldaten'!B269,7),2),1)","v":30.4},{"$f":"'H2 Originaldaten'!C269","v":4},{"$f":"ROUND(MAX(_xlfn.NORM.INV(('Eingabe Email'!$B401+1)/MAX('Eingabe Email'!$B:$B),'H2 Originaldaten'!D269,7),2),1)","v":104.5},{"$f":"ROUND(MAX(_xlfn.NORM.INV(('Eingabe Email'!$B401+1)/MAX('Eingabe Email'!$B:$B),'H2 Originaldaten'!E269,7),2),1)","v":74.5},{"$f":"ROUND(MAX(_xlfn.NORM.INV(('Eingabe Email'!$B401+1)/MAX('Eingabe Email'!$B:$B),'H2 Originaldaten'!F269,7),2),1)","v":2229.5},{"$f":"ROUND(MAX(_xlfn.NORM.INV(('Eingabe Email'!$B401+1)/MAX('Eingabe Email'!$B:$B),'H2 Originaldaten'!G269,7),2),1)","v":14},{"$f":"'H2 Originaldaten'!H269","v":78},{"$f":"'H2 Originaldaten'!I269","v":1},{"$f":"'H2 Originaldaten'!J269","v":"dodge omni"}]
[269,{"$f":"ROUND(MAX(_xlfn.NORM.INV(('Eingabe Email'!$B402+1)/MAX('Eingabe Email'!$B:$B),'H2 Originaldaten'!B270,7),2),1)","v":29.2},{"$f":"'H2 Originaldaten'!C270","v":4},{"$f":"ROUND(MAX(_xlfn.NORM.INV(('Eingabe Email'!$B402+1)/MAX('Eingabe Email'!$B:$B),'H2 Originaldaten'!D270,7),2),1)","v":142.1},{"$f":"ROUND(MAX(_xlfn.NORM.INV(('Eingabe Email'!$B402+1)/MAX('Eingabe Email'!$B:$B),'H2 Originaldaten'!E270,7),2),1)","v":103.1},{"$f":"ROUND(MAX(_xlfn.NORM.INV(('Eingabe Email'!$B402+1)/MAX('Eingabe Email'!$B:$B),'H2 Originaldaten'!F270,7),2),1)","v":2523.1},{"$f":"ROUND(MAX(_xlfn.NORM.INV(('Eingabe Email'!$B402+1)/MAX('Eingabe Email'!$B:$B),'H2 Originaldaten'!G270,7),2),1)","v":22.9},{"$f":"'H2 Originaldaten'!H270","v":78},{"$f":"'H2 Originaldaten'!I270","v":3},{"$f":"'H2 Originaldaten'!J270","v":"toyota celica gt liftback"}]
[270,{"$f":"ROUND(MAX(_xlfn.NORM.INV(('Eingabe Email'!$B403+1)/MAX('Eingabe Email'!$B:$B),'H2 Originaldaten'!B271,7),2),1)","v":22.4},{"$f":"'H2 Originaldaten'!C271","v":4},{"$f":"ROUND(MAX(_xlfn.NORM.INV(('Eingabe Email'!$B403+1)/MAX('Eingabe Email'!$B:$B),'H2 Originaldaten'!D271,7),2),1)","v":155.19999999999999},{"$f":"ROUND(MAX(_xlfn.NORM.INV(('Eingabe Email'!$B403+1)/MAX('Eingabe Email'!$B:$B),'H2 Originaldaten'!E271,7),2),1)","v":104.2},{"$f":"ROUND(MAX(_xlfn.NORM.INV(('Eingabe Email'!$B403+1)/MAX('Eingabe Email'!$B:$B),'H2 Originaldaten'!F271,7),2),1)","v":2744.2},{"$f":"ROUND(MAX(_xlfn.NORM.INV(('Eingabe Email'!$B403+1)/MAX('Eingabe Email'!$B:$B),'H2 Originaldaten'!G271,7),2),1)","v":15.9},{"$f":"'H2 Originaldaten'!H271","v":78},{"$f":"'H2 Originaldaten'!I271","v":1},{"$f":"'H2 Originaldaten'!J271","v":"plymouth sapporo"}]
[271,{"$f":"ROUND(MAX(_xlfn.NORM.INV(('Eingabe Email'!$B404+1)/MAX('Eingabe Email'!$B:$B),'H2 Originaldaten'!B272,7),2),1)","v":19.7},{"$f":"'H2 Originaldaten'!C272","v":4},{"$f":"ROUND(MAX(_xlfn.NORM.INV(('Eingabe Email'!$B404+1)/MAX('Eingabe Email'!$B:$B),'H2 Originaldaten'!D272,7),2),1)","v":146.9},{"$f":"ROUND(MAX(_xlfn.NORM.INV(('Eingabe Email'!$B404+1)/MAX('Eingabe Email'!$B:$B),'H2 Originaldaten'!E272,7),2),1)","v":80.900000000000006},{"$f":"ROUND(MAX(_xlfn.NORM.INV(('Eingabe Email'!$B404+1)/MAX('Eingabe Email'!$B:$B),'H2 Originaldaten'!F272,7),2),1)","v":2850.9},{"$f":"ROUND(MAX(_xlfn.NORM.INV(('Eingabe Email'!$B404+1)/MAX('Eingabe Email'!$B:$B),'H2 Originaldaten'!G272,7),2),1)","v":13.5},{"$f":"'H2 Originaldaten'!H272","v":78},{"$f":"'H2 Originaldaten'!I272","v":1},{"$f":"'H2 Originaldaten'!J272","v":"oldsmobile starfire sx"}]
[272,{"$f":"ROUND(MAX(_xlfn.NORM.INV(('Eingabe Email'!$B405+1)/MAX('Eingabe Email'!$B:$B),'H2 Originaldaten'!B273,7),2),1)","v":24.6},{"$f":"'H2 Originaldaten'!C273","v":4},{"$f":"ROUND(MAX(_xlfn.NORM.INV(('Eingabe Email'!$B405+1)/MAX('Eingabe Email'!$B:$B),'H2 Originaldaten'!D273,7),2),1)","v":119.7},{"$f":"ROUND(MAX(_xlfn.NORM.INV(('Eingabe Email'!$B405+1)/MAX('Eingabe Email'!$B:$B),'H2 Originaldaten'!E273,7),2),1)","v":97.7},{"$f":"ROUND(MAX(_xlfn.NORM.INV(('Eingabe Email'!$B405+1)/MAX('Eingabe Email'!$B:$B),'H2 Originaldaten'!F273,7),2),1)","v":2405.6999999999998},{"$f":"ROUND(MAX(_xlfn.NORM.INV(('Eingabe Email'!$B405+1)/MAX('Eingabe Email'!$B:$B),'H2 Originaldaten'!G273,7),2),1)","v":15.6},{"$f":"'H2 Originaldaten'!H273","v":78},{"$f":"'H2 Originaldaten'!I273","v":3},{"$f":"'H2 Originaldaten'!J273","v":"datsun 200-sx"}]
[273,{"$f":"ROUND(MAX(_xlfn.NORM.INV(('Eingabe Email'!$B406+1)/MAX('Eingabe Email'!$B:$B),'H2 Originaldaten'!B274,7),2),1)","v":19.3},{"$f":"'H2 Originaldaten'!C274","v":5},{"$f":"ROUND(MAX(_xlfn.NORM.INV(('Eingabe Email'!$B406+1)/MAX('Eingabe Email'!$B:$B),'H2 Originaldaten'!D274,7),2),1)","v":130},{"$f":"ROUND(MAX(_xlfn.NORM.INV(('Eingabe Email'!$B406+1)/MAX('Eingabe Email'!$B:$B),'H2 Originaldaten'!E274,7),2),1)","v":102},{"$f":"ROUND(MAX(_xlfn.NORM.INV(('Eingabe Email'!$B406+1)/MAX('Eingabe Email'!$B:$B),'H2 Originaldaten'!F274,7),2),1)","v":2829},{"$f":"ROUND(MAX(_xlfn.NORM.INV(('Eingabe Email'!$B406+1)/MAX('Eingabe Email'!$B:$B),'H2 Originaldaten'!G274,7),2),1)","v":14.9},{"$f":"'H2 Originaldaten'!H274","v":78},{"$f":"'H2 Originaldaten'!I274","v":2},{"$f":"'H2 Originaldaten'!J274","v":"audi 5000"}]
[274,{"$f":"ROUND(MAX(_xlfn.NORM.INV(('Eingabe Email'!$B407+1)/MAX('Eingabe Email'!$B:$B),'H2 Originaldaten'!B275,7),2),1)","v":11.2},{"$f":"'H2 Originaldaten'!C275","v":6},{"$f":"ROUND(MAX(_xlfn.NORM.INV(('Eingabe Email'!$B407+1)/MAX('Eingabe Email'!$B:$B),'H2 Originaldaten'!D275,7),2),1)","v":157.19999999999999},{"$f":"ROUND(MAX(_xlfn.NORM.INV(('Eingabe Email'!$B407+1)/MAX('Eingabe Email'!$B:$B),'H2 Originaldaten'!E275,7),2),1)","v":119.2},{"$f":"ROUND(MAX(_xlfn.NORM.INV(('Eingabe Email'!$B407+1)/MAX('Eingabe Email'!$B:$B),'H2 Originaldaten'!F275,7),2),1)","v":3134.2},{"$f":"ROUND(MAX(_xlfn.NORM.INV(('Eingabe Email'!$B407+1)/MAX('Eingabe Email'!$B:$B),'H2 Originaldaten'!G275,7),2),1)","v":7.8},{"$f":"'H2 Originaldaten'!H275","v":78},{"$f":"'H2 Originaldaten'!I275","v":2},{"$f":"'H2 Originaldaten'!J275","v":"volvo 264gl"}]
[275,{"$f":"ROUND(MAX(_xlfn.NORM.INV(('Eingabe Email'!$B408+1)/MAX('Eingabe Email'!$B:$B),'H2 Originaldaten'!B276,7),2),1)","v":24.8},{"$f":"'H2 Originaldaten'!C276","v":4},{"$f":"ROUND(MAX(_xlfn.NORM.INV(('Eingabe Email'!$B408+1)/MAX('Eingabe Email'!$B:$B),'H2 Originaldaten'!D276,7),2),1)","v":124.2},{"$f":"ROUND(MAX(_xlfn.NORM.INV(('Eingabe Email'!$B408+1)/MAX('Eingabe Email'!$B:$B),'H2 Originaldaten'!E276,7),2),1)","v":118.2},{"$f":"ROUND(MAX(_xlfn.NORM.INV(('Eingabe Email'!$B408+1)/MAX('Eingabe Email'!$B:$B),'H2 Originaldaten'!F276,7),2),1)","v":2798.2},{"$f":"ROUND(MAX(_xlfn.NORM.INV(('Eingabe Email'!$B408+1)/MAX('Eingabe Email'!$B:$B),'H2 Originaldaten'!G276,7),2),1)","v":18.899999999999999},{"$f":"'H2 Originaldaten'!H276","v":78},{"$f":"'H2 Originaldaten'!I276","v":2},{"$f":"'H2 Originaldaten'!J276","v":"saab 99gle"}]
[276,{"$f":"ROUND(MAX(_xlfn.NORM.INV(('Eingabe Email'!$B409+1)/MAX('Eingabe Email'!$B:$B),'H2 Originaldaten'!B277,7),2),1)","v":17.3},{"$f":"'H2 Originaldaten'!C277","v":6},{"$f":"ROUND(MAX(_xlfn.NORM.INV(('Eingabe Email'!$B409+1)/MAX('Eingabe Email'!$B:$B),'H2 Originaldaten'!D277,7),2),1)","v":164.1},{"$f":"ROUND(MAX(_xlfn.NORM.INV(('Eingabe Email'!$B409+1)/MAX('Eingabe Email'!$B:$B),'H2 Originaldaten'!E277,7),2),1)","v":134.1},{"$f":"ROUND(MAX(_xlfn.NORM.INV(('Eingabe Email'!$B409+1)/MAX('Eingabe Email'!$B:$B),'H2 Originaldaten'!F277,7),2),1)","v":3411.1},{"$f":"ROUND(MAX(_xlfn.NORM.INV(('Eingabe Email'!$B409+1)/MAX('Eingabe Email'!$B:$B),'H2 Originaldaten'!G277,7),2),1)","v":16.899999999999999},{"$f":"'H2 Originaldaten'!H277","v":78},{"$f":"'H2 Originaldaten'!I277","v":2},{"$f":"'H2 Originaldaten'!J277","v":"peugeot 604sl"}]
[277,{"$f":"ROUND(MAX(_xlfn.NORM.INV(('Eingabe Email'!$B410+1)/MAX('Eingabe Email'!$B:$B),'H2 Originaldaten'!B278,7),2),1)","v":38.200000000000003},{"$f":"'H2 Originaldaten'!C278","v":4},{"$f":"ROUND(MAX(_xlfn.NORM.INV(('Eingabe Email'!$B410+1)/MAX('Eingabe Email'!$B:$B),'H2 Originaldaten'!D278,7),2),1)","v":95.7},{"$f":"ROUND(MAX(_xlfn.NORM.INV(('Eingabe Email'!$B410+1)/MAX('Eingabe Email'!$B:$B),'H2 Originaldaten'!E278,7),2),1)","v":77.7},{"$f":"ROUND(MAX(_xlfn.NORM.INV(('Eingabe Email'!$B410+1)/MAX('Eingabe Email'!$B:$B),'H2 Originaldaten'!F278,7),2),1)","v":1996.7},{"$f":"ROUND(MAX(_xlfn.NORM.INV(('Eingabe Email'!$B410+1)/MAX('Eingabe Email'!$B:$B),'H2 Originaldaten'!G278,7),2),1)","v":21.6},{"$f":"'H2 Originaldaten'!H278","v":78},{"$f":"'H2 Originaldaten'!I278","v":2},{"$f":"'H2 Originaldaten'!J278","v":"volkswagen scirocco"}]
[278,{"$f":"ROUND(MAX(_xlfn.NORM.INV(('Eingabe Email'!$B411+1)/MAX('Eingabe Email'!$B:$B),'H2 Originaldaten'!B279,7),2),1)","v":27.8},{"$f":"'H2 Originaldaten'!C279","v":4},{"$f":"ROUND(MAX(_xlfn.NORM.INV(('Eingabe Email'!$B411+1)/MAX('Eingabe Email'!$B:$B),'H2 Originaldaten'!D279,7),2),1)","v":96.3},{"$f":"ROUND(MAX(_xlfn.NORM.INV(('Eingabe Email'!$B411+1)/MAX('Eingabe Email'!$B:$B),'H2 Originaldaten'!E279,7),2),1)","v":66.3},{"$f":"ROUND(MAX(_xlfn.NORM.INV(('Eingabe Email'!$B411+1)/MAX('Eingabe Email'!$B:$B),'H2 Originaldaten'!F279,7),2),1)","v":2133.3000000000002},{"$f":"ROUND(MAX(_xlfn.NORM.INV(('Eingabe Email'!$B411+1)/MAX('Eingabe Email'!$B:$B),'H2 Originaldaten'!G279,7),2),1)","v":14.9},{"$f":"'H2 Originaldaten'!H279","v":78},{"$f":"'H2 Originaldaten'!I279","v":3},{"$f":"'H2 Originaldaten'!J279","v":"honda accord lx"}]
[279,{"$f":"ROUND(MAX(_xlfn.NORM.INV(('Eingabe Email'!$B412+1)/MAX('Eingabe Email'!$B:$B),'H2 Originaldaten'!B280,7),2),1)","v":22.2},{"$f":"'H2 Originaldaten'!C280","v":6},{"$f":"ROUND(MAX(_xlfn.NORM.INV(('Eingabe Email'!$B412+1)/MAX('Eingabe Email'!$B:$B),'H2 Originaldaten'!D280,7),2),1)","v":231.7},{"$f":"ROUND(MAX(_xlfn.NORM.INV(('Eingabe Email'!$B412+1)/MAX('Eingabe Email'!$B:$B),'H2 Originaldaten'!E280,7),2),1)","v":115.7},{"$f":"ROUND(MAX(_xlfn.NORM.INV(('Eingabe Email'!$B412+1)/MAX('Eingabe Email'!$B:$B),'H2 Originaldaten'!F280,7),2),1)","v":3245.7},{"$f":"ROUND(MAX(_xlfn.NORM.INV(('Eingabe Email'!$B412+1)/MAX('Eingabe Email'!$B:$B),'H2 Originaldaten'!G280,7),2),1)","v":16.100000000000001},{"$f":"'H2 Originaldaten'!H280","v":79},{"$f":"'H2 Originaldaten'!I280","v":1},{"$f":"'H2 Originaldaten'!J280","v":"pontiac lemans v6"}]
[280,{"$f":"ROUND(MAX(_xlfn.NORM.INV(('Eingabe Email'!$B413+1)/MAX('Eingabe Email'!$B:$B),'H2 Originaldaten'!B281,7),2),1)","v":8.8000000000000007},{"$f":"'H2 Originaldaten'!C281","v":6},{"$f":"ROUND(MAX(_xlfn.NORM.INV(('Eingabe Email'!$B413+1)/MAX('Eingabe Email'!$B:$B),'H2 Originaldaten'!D281,7),2),1)","v":189},{"$f":"ROUND(MAX(_xlfn.NORM.INV(('Eingabe Email'!$B413+1)/MAX('Eingabe Email'!$B:$B),'H2 Originaldaten'!E281,7),2),1)","v":74},{"$f":"ROUND(MAX(_xlfn.NORM.INV(('Eingabe Email'!$B413+1)/MAX('Eingabe Email'!$B:$B),'H2 Originaldaten'!F281,7),2),1)","v":2979},{"$f":"ROUND(MAX(_xlfn.NORM.INV(('Eingabe Email'!$B413+1)/MAX('Eingabe Email'!$B:$B),'H2 Originaldaten'!G281,7),2),1)","v":7.2},{"$f":"'H2 Originaldaten'!H281","v":79},{"$f":"'H2 Originaldaten'!I281","v":1},{"$f":"'H2 Originaldaten'!J281","v":"mercury zephyr 6"}]
[281,{"$f":"ROUND(MAX(_xlfn.NORM.INV(('Eingabe Email'!$B414+1)/MAX('Eingabe Email'!$B:$B),'H2 Originaldaten'!B282,7),2),1)","v":20.2},{"$f":"'H2 Originaldaten'!C282","v":4},{"$f":"ROUND(MAX(_xlfn.NORM.INV(('Eingabe Email'!$B414+1)/MAX('Eingabe Email'!$B:$B),'H2 Originaldaten'!D282,7),2),1)","v":137.9},{"$f":"ROUND(MAX(_xlfn.NORM.INV(('Eingabe Email'!$B414+1)/MAX('Eingabe Email'!$B:$B),'H2 Originaldaten'!E282,7),2),1)","v":85.9},{"$f":"ROUND(MAX(_xlfn.NORM.INV(('Eingabe Email'!$B414+1)/MAX('Eingabe Email'!$B:$B),'H2 Originaldaten'!F282,7),2),1)","v":2887.9},{"$f":"ROUND(MAX(_xlfn.NORM.INV(('Eingabe Email'!$B414+1)/MAX('Eingabe Email'!$B:$B),'H2 Originaldaten'!G282,7),2),1)","v":15.2},{"$f":"'H2 Originaldaten'!H282","v":79},{"$f":"'H2 Originaldaten'!I282","v":1},{"$f":"'H2 Originaldaten'!J282","v":"ford fairmont 4"}]
[282,{"$f":"ROUND(MAX(_xlfn.NORM.INV(('Eingabe Email'!$B415+1)/MAX('Eingabe Email'!$B:$B),'H2 Originaldaten'!B283,7),2),1)","v":19.8},{"$f":"'H2 Originaldaten'!C283","v":6},{"$f":"ROUND(MAX(_xlfn.NORM.INV(('Eingabe Email'!$B415+1)/MAX('Eingabe Email'!$B:$B),'H2 Originaldaten'!D283,7),2),1)","v":231.6},{"$f":"ROUND(MAX(_xlfn.NORM.INV(('Eingabe Email'!$B415+1)/MAX('Eingabe Email'!$B:$B),'H2 Originaldaten'!E283,7),2),1)","v":89.6},{"$f":"ROUND(MAX(_xlfn.NORM.INV(('Eingabe Email'!$B415+1)/MAX('Eingabe Email'!$B:$B),'H2 Originaldaten'!F283,7),2),1)","v":3264.6},{"$f":"ROUND(MAX(_xlfn.NORM.INV(('Eingabe Email'!$B415+1)/MAX('Eingabe Email'!$B:$B),'H2 Originaldaten'!G283,7),2),1)","v":17.8},{"$f":"'H2 Originaldaten'!H283","v":79},{"$f":"'H2 Originaldaten'!I283","v":1},{"$f":"'H2 Originaldaten'!J283","v":"amc concord dl 6"}]
[283,{"$f":"ROUND(MAX(_xlfn.NORM.INV(('Eingabe Email'!$B416+1)/MAX('Eingabe Email'!$B:$B),'H2 Originaldaten'!B284,7),2),1)","v":30.7},{"$f":"'H2 Originaldaten'!C284","v":6},{"$f":"ROUND(MAX(_xlfn.NORM.INV(('Eingabe Email'!$B416+1)/MAX('Eingabe Email'!$B:$B),'H2 Originaldaten'!D284,7),2),1)","v":235.1},{"$f":"ROUND(MAX(_xlfn.NORM.INV(('Eingabe Email'!$B416+1)/MAX('Eingabe Email'!$B:$B),'H2 Originaldaten'!E284,7),2),1)","v":120.1},{"$f":"ROUND(MAX(_xlfn.NORM.INV(('Eingabe Email'!$B416+1)/MAX('Eingabe Email'!$B:$B),'H2 Originaldaten'!F284,7),2),1)","v":3370.1},{"$f":"ROUND(MAX(_xlfn.NORM.INV(('Eingabe Email'!$B416+1)/MAX('Eingabe Email'!$B:$B),'H2 Originaldaten'!G284,7),2),1)","v":26.7},{"$f":"'H2 Originaldaten'!H284","v":79},{"$f":"'H2 Originaldaten'!I284","v":1},{"$f":"'H2 Originaldaten'!J284","v":"dodge aspen 6"}]
[284,{"$f":"ROUND(MAX(_xlfn.NORM.INV(('Eingabe Email'!$B417+1)/MAX('Eingabe Email'!$B:$B),'H2 Originaldaten'!B285,7),2),1)","v":10.3},{"$f":"'H2 Originaldaten'!C285","v":8},{"$f":"ROUND(MAX(_xlfn.NORM.INV(('Eingabe Email'!$B417+1)/MAX('Eingabe Email'!$B:$B),'H2 Originaldaten'!D285,7),2),1)","v":298.3},{"$f":"ROUND(MAX(_xlfn.NORM.INV(('Eingabe Email'!$B417+1)/MAX('Eingabe Email'!$B:$B),'H2 Originaldaten'!E285,7),2),1)","v":123.3},{"$f":"ROUND(MAX(_xlfn.NORM.INV(('Eingabe Email'!$B417+1)/MAX('Eingabe Email'!$B:$B),'H2 Originaldaten'!F285,7),2),1)","v":3833.3},{"$f":"ROUND(MAX(_xlfn.NORM.INV(('Eingabe Email'!$B417+1)/MAX('Eingabe Email'!$B:$B),'H2 Originaldaten'!G285,7),2),1)","v":8.6999999999999993},{"$f":"'H2 Originaldaten'!H285","v":79},{"$f":"'H2 Originaldaten'!I285","v":1},{"$f":"'H2 Originaldaten'!J285","v":"chevrolet caprice classic"}]
[285,{"$f":"ROUND(MAX(_xlfn.NORM.INV(('Eingabe Email'!$B418+1)/MAX('Eingabe Email'!$B:$B),'H2 Originaldaten'!B286,7),2),1)","v":10.5},{"$f":"'H2 Originaldaten'!C286","v":8},{"$f":"ROUND(MAX(_xlfn.NORM.INV(('Eingabe Email'!$B418+1)/MAX('Eingabe Email'!$B:$B),'H2 Originaldaten'!D286,7),2),1)","v":294.89999999999998},{"$f":"ROUND(MAX(_xlfn.NORM.INV(('Eingabe Email'!$B418+1)/MAX('Eingabe Email'!$B:$B),'H2 Originaldaten'!E286,7),2),1)","v":121.9},{"$f":"ROUND(MAX(_xlfn.NORM.INV(('Eingabe Email'!$B418+1)/MAX('Eingabe Email'!$B:$B),'H2 Originaldaten'!F286,7),2),1)","v":3717.9},{"$f":"ROUND(MAX(_xlfn.NORM.INV(('Eingabe Email'!$B418+1)/MAX('Eingabe Email'!$B:$B),'H2 Originaldaten'!G286,7),2),1)","v":6.3},{"$f":"'H2 Originaldaten'!H286","v":79},{"$f":"'H2 Originaldaten'!I286","v":1},{"$f":"'H2 Originaldaten'!J286","v":"ford ltd landau"}]
[286,{"$f":"ROUND(MAX(_xlfn.NORM.INV(('Eingabe Email'!$B419+1)/MAX('Eingabe Email'!$B:$B),'H2 Originaldaten'!B287,7),2),1)","v":30},{"$f":"'H2 Originaldaten'!C287","v":8},{"$f":"ROUND(MAX(_xlfn.NORM.INV(('Eingabe Email'!$B419+1)/MAX('Eingabe Email'!$B:$B),'H2 Originaldaten'!D287,7),2),1)","v":364.5},{"$f":"ROUND(MAX(_xlfn.NORM.INV(('Eingabe Email'!$B419+1)/MAX('Eingabe Email'!$B:$B),'H2 Originaldaten'!E287,7),2),1)","v":151.5},{"$f":"ROUND(MAX(_xlfn.NORM.INV(('Eingabe Email'!$B419+1)/MAX('Eingabe Email'!$B:$B),'H2 Originaldaten'!F287,7),2),1)","v":3968.5},{"$f":"ROUND(MAX(_xlfn.NORM.INV(('Eingabe Email'!$B419+1)/MAX('Eingabe Email'!$B:$B),'H2 Originaldaten'!G287,7),2),1)","v":26.7},{"$f":"'H2 Originaldaten'!H287","v":79},{"$f":"'H2 Originaldaten'!I287","v":1},{"$f":"'H2 Originaldaten'!J287","v":"mercury grand marquis"}]
[287,{"$f":"ROUND(MAX(_xlfn.NORM.INV(('Eingabe Email'!$B420+1)/MAX('Eingabe Email'!$B:$B),'H2 Originaldaten'!B288,7),2),1)","v":24.1},{"$f":"'H2 Originaldaten'!C288","v":8},{"$f":"ROUND(MAX(_xlfn.NORM.INV(('Eingabe Email'!$B420+1)/MAX('Eingabe Email'!$B:$B),'H2 Originaldaten'!D288,7),2),1)","v":323.89999999999998},{"$f":"ROUND(MAX(_xlfn.NORM.INV(('Eingabe Email'!$B420+1)/MAX('Eingabe Email'!$B:$B),'H2 Originaldaten'!E288,7),2),1)","v":140.9},{"$f":"ROUND(MAX(_xlfn.NORM.INV(('Eingabe Email'!$B420+1)/MAX('Eingabe Email'!$B:$B),'H2 Originaldaten'!F288,7),2),1)","v":3835.9},{"$f":"ROUND(MAX(_xlfn.NORM.INV(('Eingabe Email'!$B420+1)/MAX('Eingabe Email'!$B:$B),'H2 Originaldaten'!G288,7),2),1)","v":21.1},{"$f":"'H2 Originaldaten'!H288","v":79},{"$f":"'H2 Originaldaten'!I288","v":1},{"$f":"'H2 Originaldaten'!J288","v":"dodge st. regis"}]
[288,{"$f":"ROUND(MAX(_xlfn.NORM.INV(('Eingabe Email'!$B421+1)/MAX('Eingabe Email'!$B:$B),'H2 Originaldaten'!B289,7),2),1)","v":26.1},{"$f":"'H2 Originaldaten'!C289","v":8},{"$f":"ROUND(MAX(_xlfn.NORM.INV(('Eingabe Email'!$B421+1)/MAX('Eingabe Email'!$B:$B),'H2 Originaldaten'!D289,7),2),1)","v":359.2},{"$f":"ROUND(MAX(_xlfn.NORM.INV(('Eingabe Email'!$B421+1)/MAX('Eingabe Email'!$B:$B),'H2 Originaldaten'!E289,7),2),1)","v":164.2},{"$f":"ROUND(MAX(_xlfn.NORM.INV(('Eingabe Email'!$B421+1)/MAX('Eingabe Email'!$B:$B),'H2 Originaldaten'!F289,7),2),1)","v":4369.2},{"$f":"ROUND(MAX(_xlfn.NORM.INV(('Eingabe Email'!$B421+1)/MAX('Eingabe Email'!$B:$B),'H2 Originaldaten'!G289,7),2),1)","v":24.1},{"$f":"'H2 Originaldaten'!H289","v":79},{"$f":"'H2 Originaldaten'!I289","v":1},{"$f":"'H2 Originaldaten'!J289","v":"buick estate wagon (sw)"}]
[289,{"$f":"ROUND(MAX(_xlfn.NORM.INV(('Eingabe Email'!$B422+1)/MAX('Eingabe Email'!$B:$B),'H2 Originaldaten'!B290,7),2),1)","v":12.2},{"$f":"'H2 Originaldaten'!C290","v":8},{"$f":"ROUND(MAX(_xlfn.NORM.INV(('Eingabe Email'!$B422+1)/MAX('Eingabe Email'!$B:$B),'H2 Originaldaten'!D290,7),2),1)","v":347.7},{"$f":"ROUND(MAX(_xlfn.NORM.INV(('Eingabe Email'!$B422+1)/MAX('Eingabe Email'!$B:$B),'H2 Originaldaten'!E290,7),2),1)","v":138.69999999999999},{"$f":"ROUND(MAX(_xlfn.NORM.INV(('Eingabe Email'!$B422+1)/MAX('Eingabe Email'!$B:$B),'H2 Originaldaten'!F290,7),2),1)","v":4050.7},{"$f":"ROUND(MAX(_xlfn.NORM.INV(('Eingabe Email'!$B422+1)/MAX('Eingabe Email'!$B:$B),'H2 Originaldaten'!G290,7),2),1)","v":11},{"$f":"'H2 Originaldaten'!H290","v":79},{"$f":"'H2 Originaldaten'!I290","v":1},{"$f":"'H2 Originaldaten'!J290","v":"ford country squire (sw)"}]
[290,{"$f":"ROUND(MAX(_xlfn.NORM.INV(('Eingabe Email'!$B423+1)/MAX('Eingabe Email'!$B:$B),'H2 Originaldaten'!B291,7),2),1)","v":18.600000000000001},{"$f":"'H2 Originaldaten'!C291","v":8},{"$f":"ROUND(MAX(_xlfn.NORM.INV(('Eingabe Email'!$B423+1)/MAX('Eingabe Email'!$B:$B),'H2 Originaldaten'!D291,7),2),1)","v":266.39999999999998},{"$f":"ROUND(MAX(_xlfn.NORM.INV(('Eingabe Email'!$B423+1)/MAX('Eingabe Email'!$B:$B),'H2 Originaldaten'!E291,7),2),1)","v":124.4},{"$f":"ROUND(MAX(_xlfn.NORM.INV(('Eingabe Email'!$B423+1)/MAX('Eingabe Email'!$B:$B),'H2 Originaldaten'!F291,7),2),1)","v":3604.4},{"$f":"ROUND(MAX(_xlfn.NORM.INV(('Eingabe Email'!$B423+1)/MAX('Eingabe Email'!$B:$B),'H2 Originaldaten'!G291,7),2),1)","v":14.4},{"$f":"'H2 Originaldaten'!H291","v":79},{"$f":"'H2 Originaldaten'!I291","v":1},{"$f":"'H2 Originaldaten'!J291","v":"chevrolet malibu classic (sw)"}]
[291,{"$f":"ROUND(MAX(_xlfn.NORM.INV(('Eingabe Email'!$B424+1)/MAX('Eingabe Email'!$B:$B),'H2 Originaldaten'!B292,7),2),1)","v":15.8},{"$f":"'H2 Originaldaten'!C292","v":8},{"$f":"ROUND(MAX(_xlfn.NORM.INV(('Eingabe Email'!$B424+1)/MAX('Eingabe Email'!$B:$B),'H2 Originaldaten'!D292,7),2),1)","v":357.3},{"$f":"ROUND(MAX(_xlfn.NORM.INV(('Eingabe Email'!$B424+1)/MAX('Eingabe Email'!$B:$B),'H2 Originaldaten'!E292,7),2),1)","v":147.30000000000001},{"$f":"ROUND(MAX(_xlfn.NORM.INV(('Eingabe Email'!$B424+1)/MAX('Eingabe Email'!$B:$B),'H2 Originaldaten'!F292,7),2),1)","v":3937.3},{"$f":"ROUND(MAX(_xlfn.NORM.INV(('Eingabe Email'!$B424+1)/MAX('Eingabe Email'!$B:$B),'H2 Originaldaten'!G292,7),2),1)","v":10.3},{"$f":"'H2 Originaldaten'!H292","v":79},{"$f":"'H2 Originaldaten'!I292","v":1},{"$f":"'H2 Originaldaten'!J292","v":"chrysler lebaron town @ country (sw)"}]
[292,{"$f":"ROUND(MAX(_xlfn.NORM.INV(('Eingabe Email'!$B425+1)/MAX('Eingabe Email'!$B:$B),'H2 Originaldaten'!B293,7),2),1)","v":34.4},{"$f":"'H2 Originaldaten'!C293","v":4},{"$f":"ROUND(MAX(_xlfn.NORM.INV(('Eingabe Email'!$B425+1)/MAX('Eingabe Email'!$B:$B),'H2 Originaldaten'!D293,7),2),1)","v":91.5},{"$f":"ROUND(MAX(_xlfn.NORM.INV(('Eingabe Email'!$B425+1)/MAX('Eingabe Email'!$B:$B),'H2 Originaldaten'!E293,7),2),1)","v":73.5},{"$f":"ROUND(MAX(_xlfn.NORM.INV(('Eingabe Email'!$B425+1)/MAX('Eingabe Email'!$B:$B),'H2 Originaldaten'!F293,7),2),1)","v":1927.5},{"$f":"ROUND(MAX(_xlfn.NORM.INV(('Eingabe Email'!$B425+1)/MAX('Eingabe Email'!$B:$B),'H2 Originaldaten'!G293,7),2),1)","v":16.5},{"$f":"'H2 Originaldaten'!H293","v":79},{"$f":"'H2 Originaldaten'!I293","v":2},{"$f":"'H2 Originaldaten'!J293","v":"vw rabbit custom"}]
[293,{"$f":"ROUND(MAX(_xlfn.NORM.INV(('Eingabe Email'!$B426+1)/MAX('Eingabe Email'!$B:$B),'H2 Originaldaten'!B294,7),2),1)","v":39.200000000000003},{"$f":"'H2 Originaldaten'!C294","v":4},{"$f":"ROUND(MAX(_xlfn.NORM.INV(('Eingabe Email'!$B426+1)/MAX('Eingabe Email'!$B:$B),'H2 Originaldaten'!D294,7),2),1)","v":91.1},{"$f":"ROUND(MAX(_xlfn.NORM.INV(('Eingabe Email'!$B426+1)/MAX('Eingabe Email'!$B:$B),'H2 Originaldaten'!E294,7),2),1)","v":70.099999999999994},{"$f":"ROUND(MAX(_xlfn.NORM.INV(('Eingabe Email'!$B426+1)/MAX('Eingabe Email'!$B:$B),'H2 Originaldaten'!F294,7),2),1)","v":1980.1},{"$f":"ROUND(MAX(_xlfn.NORM.INV(('Eingabe Email'!$B426+1)/MAX('Eingabe Email'!$B:$B),'H2 Originaldaten'!G294,7),2),1)","v":20.3},{"$f":"'H2 Originaldaten'!H294","v":79},{"$f":"'H2 Originaldaten'!I294","v":3},{"$f":"'H2 Originaldaten'!J294","v":"maxda glc deluxe"}]
[294,{"$f":"ROUND(MAX(_xlfn.NORM.INV(('Eingabe Email'!$B427+1)/MAX('Eingabe Email'!$B:$B),'H2 Originaldaten'!B295,7),2),1)","v":41},{"$f":"'H2 Originaldaten'!C295","v":4},{"$f":"ROUND(MAX(_xlfn.NORM.INV(('Eingabe Email'!$B427+1)/MAX('Eingabe Email'!$B:$B),'H2 Originaldaten'!D295,7),2),1)","v":103.3},{"$f":"ROUND(MAX(_xlfn.NORM.INV(('Eingabe Email'!$B427+1)/MAX('Eingabe Email'!$B:$B),'H2 Originaldaten'!E295,7),2),1)","v":85.3},{"$f":"ROUND(MAX(_xlfn.NORM.INV(('Eingabe Email'!$B427+1)/MAX('Eingabe Email'!$B:$B),'H2 Originaldaten'!F295,7),2),1)","v":1920.3},{"$f":"ROUND(MAX(_xlfn.NORM.INV(('Eingabe Email'!$B427+1)/MAX('Eingabe Email'!$B:$B),'H2 Originaldaten'!G295,7),2),1)","v":19.7},{"$f":"'H2 Originaldaten'!H295","v":79},{"$f":"'H2 Originaldaten'!I295","v":1},{"$f":"'H2 Originaldaten'!J295","v":"dodge colt hatchback custom"}]
[295,{"$f":"ROUND(MAX(_xlfn.NORM.INV(('Eingabe Email'!$B428+1)/MAX('Eingabe Email'!$B:$B),'H2 Originaldaten'!B296,7),2),1)","v":14.3},{"$f":"'H2 Originaldaten'!C296","v":4},{"$f":"ROUND(MAX(_xlfn.NORM.INV(('Eingabe Email'!$B428+1)/MAX('Eingabe Email'!$B:$B),'H2 Originaldaten'!D296,7),2),1)","v":107.9},{"$f":"ROUND(MAX(_xlfn.NORM.INV(('Eingabe Email'!$B428+1)/MAX('Eingabe Email'!$B:$B),'H2 Originaldaten'!E296,7),2),1)","v":66.900000000000006},{"$f":"ROUND(MAX(_xlfn.NORM.INV(('Eingabe Email'!$B428+1)/MAX('Eingabe Email'!$B:$B),'H2 Originaldaten'!F296,7),2),1)","v":2656.9},{"$f":"ROUND(MAX(_xlfn.NORM.INV(('Eingabe Email'!$B428+1)/MAX('Eingabe Email'!$B:$B),'H2 Originaldaten'!G296,7),2),1)","v":2},{"$f":"'H2 Originaldaten'!H296","v":79},{"$f":"'H2 Originaldaten'!I296","v":1},{"$f":"'H2 Originaldaten'!J296","v":"amc spirit dl"}]
[296,{"$f":"ROUND(MAX(_xlfn.NORM.INV(('Eingabe Email'!$B429+1)/MAX('Eingabe Email'!$B:$B),'H2 Originaldaten'!B297,7),2),1)","v":16.100000000000001},{"$f":"'H2 Originaldaten'!C297","v":5},{"$f":"ROUND(MAX(_xlfn.NORM.INV(('Eingabe Email'!$B429+1)/MAX('Eingabe Email'!$B:$B),'H2 Originaldaten'!D297,7),2),1)","v":173.7},{"$f":"ROUND(MAX(_xlfn.NORM.INV(('Eingabe Email'!$B429+1)/MAX('Eingabe Email'!$B:$B),'H2 Originaldaten'!E297,7),2),1)","v":67.7},{"$f":"ROUND(MAX(_xlfn.NORM.INV(('Eingabe Email'!$B429+1)/MAX('Eingabe Email'!$B:$B),'H2 Originaldaten'!F297,7),2),1)","v":3520.7},{"$f":"ROUND(MAX(_xlfn.NORM.INV(('Eingabe Email'!$B429+1)/MAX('Eingabe Email'!$B:$B),'H2 Originaldaten'!G297,7),2),1)","v":10.8},{"$f":"'H2 Originaldaten'!H297","v":79},{"$f":"'H2 Originaldaten'!I297","v":2},{"$f":"'H2 Originaldaten'!J297","v":"mercedes benz 300d"}]
[297,{"$f":"ROUND(MAX(_xlfn.NORM.INV(('Eingabe Email'!$B430+1)/MAX('Eingabe Email'!$B:$B),'H2 Originaldaten'!B298,7),2),1)","v":37.1},{"$f":"'H2 Originaldaten'!C298","v":8},{"$f":"ROUND(MAX(_xlfn.NORM.INV(('Eingabe Email'!$B430+1)/MAX('Eingabe Email'!$B:$B),'H2 Originaldaten'!D298,7),2),1)","v":364.1},{"$f":"ROUND(MAX(_xlfn.NORM.INV(('Eingabe Email'!$B430+1)/MAX('Eingabe Email'!$B:$B),'H2 Originaldaten'!E298,7),2),1)","v":139.1},{"$f":"ROUND(MAX(_xlfn.NORM.INV(('Eingabe Email'!$B430+1)/MAX('Eingabe Email'!$B:$B),'H2 Originaldaten'!F298,7),2),1)","v":3914.1},{"$f":"ROUND(MAX(_xlfn.NORM.INV(('Eingabe Email'!$B430+1)/MAX('Eingabe Email'!$B:$B),'H2 Originaldaten'!G298,7),2),1)","v":31.5},{"$f":"'H2 Originaldaten'!H298","v":79},{"$f":"'H2 Originaldaten'!I298","v":1},{"$f":"'H2 Originaldaten'!J298","v":"cadillac eldorado"}]
[298,{"$f":"ROUND(MAX(_xlfn.NORM.INV(('Eingabe Email'!$B431+1)/MAX('Eingabe Email'!$B:$B),'H2 Originaldaten'!B299,7),2),1)","v":19},{"$f":"'H2 Originaldaten'!C299","v":4},{"$f":"ROUND(MAX(_xlfn.NORM.INV(('Eingabe Email'!$B431+1)/MAX('Eingabe Email'!$B:$B),'H2 Originaldaten'!D299,7),2),1)","v":132.80000000000001},{"$f":"ROUND(MAX(_xlfn.NORM.INV(('Eingabe Email'!$B431+1)/MAX('Eingabe Email'!$B:$B),'H2 Originaldaten'!E299,7),2),1)","v":62.8},{"$f":"ROUND(MAX(_xlfn.NORM.INV(('Eingabe Email'!$B431+1)/MAX('Eingabe Email'!$B:$B),'H2 Originaldaten'!F299,7),2),1)","v":3181.8},{"$f":"ROUND(MAX(_xlfn.NORM.INV(('Eingabe Email'!$B431+1)/MAX('Eingabe Email'!$B:$B),'H2 Originaldaten'!G299,7),2),1)","v":16.600000000000001},{"$f":"'H2 Originaldaten'!H299","v":79},{"$f":"'H2 Originaldaten'!I299","v":2},{"$f":"'H2 Originaldaten'!J299","v":"peugeot 504"}]
[299,{"$f":"ROUND(MAX(_xlfn.NORM.INV(('Eingabe Email'!$B432+1)/MAX('Eingabe Email'!$B:$B),'H2 Originaldaten'!B300,7),2),1)","v":21.6},{"$f":"'H2 Originaldaten'!C300","v":8},{"$f":"ROUND(MAX(_xlfn.NORM.INV(('Eingabe Email'!$B432+1)/MAX('Eingabe Email'!$B:$B),'H2 Originaldaten'!D300,7),2),1)","v":257.7},{"$f":"ROUND(MAX(_xlfn.NORM.INV(('Eingabe Email'!$B432+1)/MAX('Eingabe Email'!$B:$B),'H2 Originaldaten'!E300,7),2),1)","v":87.7},{"$f":"ROUND(MAX(_xlfn.NORM.INV(('Eingabe Email'!$B432+1)/MAX('Eingabe Email'!$B:$B),'H2 Originaldaten'!F300,7),2),1)","v":3417.7},{"$f":"ROUND(MAX(_xlfn.NORM.INV(('Eingabe Email'!$B432+1)/MAX('Eingabe Email'!$B:$B),'H2 Originaldaten'!G300,7),2),1)","v":19.899999999999999},{"$f":"'H2 Originaldaten'!H300","v":79},{"$f":"'H2 Originaldaten'!I300","v":1},{"$f":"'H2 Originaldaten'!J300","v":"oldsmobile cutlass salon brougham"}]
[300,{"$f":"ROUND(MAX(_xlfn.NORM.INV(('Eingabe Email'!$B433+1)/MAX('Eingabe Email'!$B:$B),'H2 Originaldaten'!B301,7),2),1)","v":40.700000000000003},{"$f":"'H2 Originaldaten'!C301","v":4},{"$f":"ROUND(MAX(_xlfn.NORM.INV(('Eingabe Email'!$B433+1)/MAX('Eingabe Email'!$B:$B),'H2 Originaldaten'!D301,7),2),1)","v":111.5},{"$f":"ROUND(MAX(_xlfn.NORM.INV(('Eingabe Email'!$B433+1)/MAX('Eingabe Email'!$B:$B),'H2 Originaldaten'!E301,7),2),1)","v":76.5},{"$f":"ROUND(MAX(_xlfn.NORM.INV(('Eingabe Email'!$B433+1)/MAX('Eingabe Email'!$B:$B),'H2 Originaldaten'!F301,7),2),1)","v":2206.5},{"$f":"ROUND(MAX(_xlfn.NORM.INV(('Eingabe Email'!$B433+1)/MAX('Eingabe Email'!$B:$B),'H2 Originaldaten'!G301,7),2),1)","v":19.7},{"$f":"'H2 Originaldaten'!H301","v":79},{"$f":"'H2 Originaldaten'!I301","v":1},{"$f":"'H2 Originaldaten'!J301","v":"plymouth horizon"}]
[301,{"$f":"ROUND(MAX(_xlfn.NORM.INV(('Eingabe Email'!$B434+1)/MAX('Eingabe Email'!$B:$B),'H2 Originaldaten'!B302,7),2),1)","v":34.799999999999997},{"$f":"'H2 Originaldaten'!C302","v":4},{"$f":"ROUND(MAX(_xlfn.NORM.INV(('Eingabe Email'!$B434+1)/MAX('Eingabe Email'!$B:$B),'H2 Originaldaten'!D302,7),2),1)","v":105.3},{"$f":"ROUND(MAX(_xlfn.NORM.INV(('Eingabe Email'!$B434+1)/MAX('Eingabe Email'!$B:$B),'H2 Originaldaten'!E302,7),2),1)","v":70.3},{"$f":"ROUND(MAX(_xlfn.NORM.INV(('Eingabe Email'!$B434+1)/MAX('Eingabe Email'!$B:$B),'H2 Originaldaten'!F302,7),2),1)","v":2150.3000000000002},{"$f":"ROUND(MAX(_xlfn.NORM.INV(('Eingabe Email'!$B434+1)/MAX('Eingabe Email'!$B:$B),'H2 Originaldaten'!G302,7),2),1)","v":15.2},{"$f":"'H2 Originaldaten'!H302","v":79},{"$f":"'H2 Originaldaten'!I302","v":1},{"$f":"'H2 Originaldaten'!J302","v":"plymouth horizon tc3"}]
[302,{"$f":"ROUND(MAX(_xlfn.NORM.INV(('Eingabe Email'!$B435+1)/MAX('Eingabe Email'!$B:$B),'H2 Originaldaten'!B303,7),2),1)","v":39.6},{"$f":"'H2 Originaldaten'!C303","v":4},{"$f":"ROUND(MAX(_xlfn.NORM.INV(('Eingabe Email'!$B435+1)/MAX('Eingabe Email'!$B:$B),'H2 Originaldaten'!D303,7),2),1)","v":92.8},{"$f":"ROUND(MAX(_xlfn.NORM.INV(('Eingabe Email'!$B435+1)/MAX('Eingabe Email'!$B:$B),'H2 Originaldaten'!E303,7),2),1)","v":72.8},{"$f":"ROUND(MAX(_xlfn.NORM.INV(('Eingabe Email'!$B435+1)/MAX('Eingabe Email'!$B:$B),'H2 Originaldaten'!F303,7),2),1)","v":2027.8},{"$f":"ROUND(MAX(_xlfn.NORM.INV(('Eingabe Email'!$B435+1)/MAX('Eingabe Email'!$B:$B),'H2 Originaldaten'!G303,7),2),1)","v":27},{"$f":"'H2 Originaldaten'!H303","v":79},{"$f":"'H2 Originaldaten'!I303","v":3},{"$f":"'H2 Originaldaten'!J303","v":"datsun 210"}]
[303,{"$f":"ROUND(MAX(_xlfn.NORM.INV(('Eingabe Email'!$B436+1)/MAX('Eingabe Email'!$B:$B),'H2 Originaldaten'!B304,7),2),1)","v":19.5},{"$f":"'H2 Originaldaten'!C304","v":4},{"$f":"ROUND(MAX(_xlfn.NORM.INV(('Eingabe Email'!$B436+1)/MAX('Eingabe Email'!$B:$B),'H2 Originaldaten'!D304,7),2),1)","v":73.2},{"$f":"ROUND(MAX(_xlfn.NORM.INV(('Eingabe Email'!$B436+1)/MAX('Eingabe Email'!$B:$B),'H2 Originaldaten'!E304,7),2),1)","v":51.2},{"$f":"ROUND(MAX(_xlfn.NORM.INV(('Eingabe Email'!$B436+1)/MAX('Eingabe Email'!$B:$B),'H2 Originaldaten'!F304,7),2),1)","v":2112.1999999999998},{"$f":"ROUND(MAX(_xlfn.NORM.INV(('Eingabe Email'!$B436+1)/MAX('Eingabe Email'!$B:$B),'H2 Originaldaten'!G304,7),2),1)","v":2},{"$f":"'H2 Originaldaten'!H304","v":79},{"$f":"'H2 Originaldaten'!I304","v":2},{"$f":"'H2 Originaldaten'!J304","v":"fiat strada custom"}]
[304,{"$f":"ROUND(MAX(_xlfn.NORM.INV(('Eingabe Email'!$B437+1)/MAX('Eingabe Email'!$B:$B),'H2 Originaldaten'!B305,7),2),1)","v":26.8},{"$f":"'H2 Originaldaten'!C305","v":4},{"$f":"ROUND(MAX(_xlfn.NORM.INV(('Eingabe Email'!$B437+1)/MAX('Eingabe Email'!$B:$B),'H2 Originaldaten'!D305,7),2),1)","v":149.4},{"$f":"ROUND(MAX(_xlfn.NORM.INV(('Eingabe Email'!$B437+1)/MAX('Eingabe Email'!$B:$B),'H2 Originaldaten'!E305,7),2),1)","v":88.4},{"$f":"ROUND(MAX(_xlfn.NORM.INV(('Eingabe Email'!$B437+1)/MAX('Eingabe Email'!$B:$B),'H2 Originaldaten'!F305,7),2),1)","v":2668.4},{"$f":"ROUND(MAX(_xlfn.NORM.INV(('Eingabe Email'!$B437+1)/MAX('Eingabe Email'!$B:$B),'H2 Originaldaten'!G305,7),2),1)","v":14.4},{"$f":"'H2 Originaldaten'!H305","v":79},{"$f":"'H2 Originaldaten'!I305","v":1},{"$f":"'H2 Originaldaten'!J305","v":"buick skylark limited"}]
[305,{"$f":"ROUND(MAX(_xlfn.NORM.INV(('Eingabe Email'!$B438+1)/MAX('Eingabe Email'!$B:$B),'H2 Originaldaten'!B306,7),2),1)","v":34},{"$f":"'H2 Originaldaten'!C306","v":6},{"$f":"ROUND(MAX(_xlfn.NORM.INV(('Eingabe Email'!$B438+1)/MAX('Eingabe Email'!$B:$B),'H2 Originaldaten'!D306,7),2),1)","v":178.2},{"$f":"ROUND(MAX(_xlfn.NORM.INV(('Eingabe Email'!$B438+1)/MAX('Eingabe Email'!$B:$B),'H2 Originaldaten'!E306,7),2),1)","v":120.2},{"$f":"ROUND(MAX(_xlfn.NORM.INV(('Eingabe Email'!$B438+1)/MAX('Eingabe Email'!$B:$B),'H2 Originaldaten'!F306,7),2),1)","v":2600.1999999999998},{"$f":"ROUND(MAX(_xlfn.NORM.INV(('Eingabe Email'!$B438+1)/MAX('Eingabe Email'!$B:$B),'H2 Originaldaten'!G306,7),2),1)","v":16.5},{"$f":"'H2 Originaldaten'!H306","v":79},{"$f":"'H2 Originaldaten'!I306","v":1},{"$f":"'H2 Originaldaten'!J306","v":"chevrolet citation"}]
[306,{"$f":"ROUND(MAX(_xlfn.NORM.INV(('Eingabe Email'!$B439+1)/MAX('Eingabe Email'!$B:$B),'H2 Originaldaten'!B307,7),2),1)","v":34.6},{"$f":"'H2 Originaldaten'!C307","v":6},{"$f":"ROUND(MAX(_xlfn.NORM.INV(('Eingabe Email'!$B439+1)/MAX('Eingabe Email'!$B:$B),'H2 Originaldaten'!D307,7),2),1)","v":180.8},{"$f":"ROUND(MAX(_xlfn.NORM.INV(('Eingabe Email'!$B439+1)/MAX('Eingabe Email'!$B:$B),'H2 Originaldaten'!E307,7),2),1)","v":122.8},{"$f":"ROUND(MAX(_xlfn.NORM.INV(('Eingabe Email'!$B439+1)/MAX('Eingabe Email'!$B:$B),'H2 Originaldaten'!F307,7),2),1)","v":2707.8},{"$f":"ROUND(MAX(_xlfn.NORM.INV(('Eingabe Email'!$B439+1)/MAX('Eingabe Email'!$B:$B),'H2 Originaldaten'!G307,7),2),1)","v":20.7},{"$f":"'H2 Originaldaten'!H307","v":79},{"$f":"'H2 Originaldaten'!I307","v":1},{"$f":"'H2 Originaldaten'!J307","v":"oldsmobile omega brougham"}]
[307,{"$f":"ROUND(MAX(_xlfn.NORM.INV(('Eingabe Email'!$B440+1)/MAX('Eingabe Email'!$B:$B),'H2 Originaldaten'!B308,7),2),1)","v":33.6},{"$f":"'H2 Originaldaten'!C308","v":4},{"$f":"ROUND(MAX(_xlfn.NORM.INV(('Eingabe Email'!$B440+1)/MAX('Eingabe Email'!$B:$B),'H2 Originaldaten'!D308,7),2),1)","v":151.1},{"$f":"ROUND(MAX(_xlfn.NORM.INV(('Eingabe Email'!$B440+1)/MAX('Eingabe Email'!$B:$B),'H2 Originaldaten'!E308,7),2),1)","v":90.1},{"$f":"ROUND(MAX(_xlfn.NORM.INV(('Eingabe Email'!$B440+1)/MAX('Eingabe Email'!$B:$B),'H2 Originaldaten'!F308,7),2),1)","v":2556.1},{"$f":"ROUND(MAX(_xlfn.NORM.INV(('Eingabe Email'!$B440+1)/MAX('Eingabe Email'!$B:$B),'H2 Originaldaten'!G308,7),2),1)","v":13.3},{"$f":"'H2 Originaldaten'!H308","v":79},{"$f":"'H2 Originaldaten'!I308","v":1},{"$f":"'H2 Originaldaten'!J308","v":"pontiac phoenix"}]
[308,{"$f":"ROUND(MAX(_xlfn.NORM.INV(('Eingabe Email'!$B441+1)/MAX('Eingabe Email'!$B:$B),'H2 Originaldaten'!B309,7),2),1)","v":49.3},{"$f":"'H2 Originaldaten'!C309","v":4},{"$f":"ROUND(MAX(_xlfn.NORM.INV(('Eingabe Email'!$B441+1)/MAX('Eingabe Email'!$B:$B),'H2 Originaldaten'!D309,7),2),1)","v":105.8},{"$f":"ROUND(MAX(_xlfn.NORM.INV(('Eingabe Email'!$B441+1)/MAX('Eingabe Email'!$B:$B),'H2 Originaldaten'!E309,7),2),1)","v":83.8},{"$f":"ROUND(MAX(_xlfn.NORM.INV(('Eingabe Email'!$B441+1)/MAX('Eingabe Email'!$B:$B),'H2 Originaldaten'!F309,7),2),1)","v":2151.8000000000002},{"$f":"ROUND(MAX(_xlfn.NORM.INV(('Eingabe Email'!$B441+1)/MAX('Eingabe Email'!$B:$B),'H2 Originaldaten'!G309,7),2),1)","v":22.5},{"$f":"'H2 Originaldaten'!H309","v":80},{"$f":"'H2 Originaldaten'!I309","v":2},{"$f":"'H2 Originaldaten'!J309","v":"vw rabbit"}]
[309,{"$f":"ROUND(MAX(_xlfn.NORM.INV(('Eingabe Email'!$B442+1)/MAX('Eingabe Email'!$B:$B),'H2 Originaldaten'!B310,7),2),1)","v":48.5},{"$f":"'H2 Originaldaten'!C310","v":4},{"$f":"ROUND(MAX(_xlfn.NORM.INV(('Eingabe Email'!$B442+1)/MAX('Eingabe Email'!$B:$B),'H2 Originaldaten'!D310,7),2),1)","v":99.4},{"$f":"ROUND(MAX(_xlfn.NORM.INV(('Eingabe Email'!$B442+1)/MAX('Eingabe Email'!$B:$B),'H2 Originaldaten'!E310,7),2),1)","v":70.400000000000006},{"$f":"ROUND(MAX(_xlfn.NORM.INV(('Eingabe Email'!$B442+1)/MAX('Eingabe Email'!$B:$B),'H2 Originaldaten'!F310,7),2),1)","v":1978.4},{"$f":"ROUND(MAX(_xlfn.NORM.INV(('Eingabe Email'!$B442+1)/MAX('Eingabe Email'!$B:$B),'H2 Originaldaten'!G310,7),2),1)","v":29.2},{"$f":"'H2 Originaldaten'!H310","v":80},{"$f":"'H2 Originaldaten'!I310","v":3},{"$f":"'H2 Originaldaten'!J310","v":"toyota corolla tercel"}]
[310,{"$f":"ROUND(MAX(_xlfn.NORM.INV(('Eingabe Email'!$B443+1)/MAX('Eingabe Email'!$B:$B),'H2 Originaldaten'!B311,7),2),1)","v":37.1},{"$f":"'H2 Originaldaten'!C311","v":4},{"$f":"ROUND(MAX(_xlfn.NORM.INV(('Eingabe Email'!$B443+1)/MAX('Eingabe Email'!$B:$B),'H2 Originaldaten'!D311,7),2),1)","v":103},{"$f":"ROUND(MAX(_xlfn.NORM.INV(('Eingabe Email'!$B443+1)/MAX('Eingabe Email'!$B:$B),'H2 Originaldaten'!E311,7),2),1)","v":75},{"$f":"ROUND(MAX(_xlfn.NORM.INV(('Eingabe Email'!$B443+1)/MAX('Eingabe Email'!$B:$B),'H2 Originaldaten'!F311,7),2),1)","v":2125},{"$f":"ROUND(MAX(_xlfn.NORM.INV(('Eingabe Email'!$B443+1)/MAX('Eingabe Email'!$B:$B),'H2 Originaldaten'!G311,7),2),1)","v":20.5},{"$f":"'H2 Originaldaten'!H311","v":80},{"$f":"'H2 Originaldaten'!I311","v":1},{"$f":"'H2 Originaldaten'!J311","v":"chevrolet chevette"}]
[311,{"$f":"ROUND(MAX(_xlfn.NORM.INV(('Eingabe Email'!$B444+1)/MAX('Eingabe Email'!$B:$B),'H2 Originaldaten'!B312,7),2),1)","v":29.6},{"$f":"'H2 Originaldaten'!C312","v":4},{"$f":"ROUND(MAX(_xlfn.NORM.INV(('Eingabe Email'!$B444+1)/MAX('Eingabe Email'!$B:$B),'H2 Originaldaten'!D312,7),2),1)","v":78.400000000000006},{"$f":"ROUND(MAX(_xlfn.NORM.INV(('Eingabe Email'!$B444+1)/MAX('Eingabe Email'!$B:$B),'H2 Originaldaten'!E312,7),2),1)","v":57.4},{"$f":"ROUND(MAX(_xlfn.NORM.INV(('Eingabe Email'!$B444+1)/MAX('Eingabe Email'!$B:$B),'H2 Originaldaten'!F312,7),2),1)","v":2011.4},{"$f":"ROUND(MAX(_xlfn.NORM.INV(('Eingabe Email'!$B444+1)/MAX('Eingabe Email'!$B:$B),'H2 Originaldaten'!G312,7),2),1)","v":8.8000000000000007},{"$f":"'H2 Originaldaten'!H312","v":80},{"$f":"'H2 Originaldaten'!I312","v":3},{"$f":"'H2 Originaldaten'!J312","v":"datsun 310"}]
[312,{"$f":"ROUND(MAX(_xlfn.NORM.INV(('Eingabe Email'!$B445+1)/MAX('Eingabe Email'!$B:$B),'H2 Originaldaten'!B313,7),2),1)","v":30.9},{"$f":"'H2 Originaldaten'!C313","v":4},{"$f":"ROUND(MAX(_xlfn.NORM.INV(('Eingabe Email'!$B445+1)/MAX('Eingabe Email'!$B:$B),'H2 Originaldaten'!D313,7),2),1)","v":153.9},{"$f":"ROUND(MAX(_xlfn.NORM.INV(('Eingabe Email'!$B445+1)/MAX('Eingabe Email'!$B:$B),'H2 Originaldaten'!E313,7),2),1)","v":92.9},{"$f":"ROUND(MAX(_xlfn.NORM.INV(('Eingabe Email'!$B445+1)/MAX('Eingabe Email'!$B:$B),'H2 Originaldaten'!F313,7),2),1)","v":2680.9},{"$f":"ROUND(MAX(_xlfn.NORM.INV(('Eingabe Email'!$B445+1)/MAX('Eingabe Email'!$B:$B),'H2 Originaldaten'!G313,7),2),1)","v":19.399999999999999},{"$f":"'H2 Originaldaten'!H313","v":80},{"$f":"'H2 Originaldaten'!I313","v":1},{"$f":"'H2 Originaldaten'!J313","v":"chevrolet citation"}]
[313,{"$f":"ROUND(MAX(_xlfn.NORM.INV(('Eingabe Email'!$B446+1)/MAX('Eingabe Email'!$B:$B),'H2 Originaldaten'!B314,7),2),1)","v":22.4},{"$f":"'H2 Originaldaten'!C314","v":4},{"$f":"ROUND(MAX(_xlfn.NORM.INV(('Eingabe Email'!$B446+1)/MAX('Eingabe Email'!$B:$B),'H2 Originaldaten'!D314,7),2),1)","v":136},{"$f":"ROUND(MAX(_xlfn.NORM.INV(('Eingabe Email'!$B446+1)/MAX('Eingabe Email'!$B:$B),'H2 Originaldaten'!E314,7),2),1)","v":84},{"$f":"ROUND(MAX(_xlfn.NORM.INV(('Eingabe Email'!$B446+1)/MAX('Eingabe Email'!$B:$B),'H2 Originaldaten'!F314,7),2),1)","v":2866},{"$f":"ROUND(MAX(_xlfn.NORM.INV(('Eingabe Email'!$B446+1)/MAX('Eingabe Email'!$B:$B),'H2 Originaldaten'!G314,7),2),1)","v":14.1},{"$f":"'H2 Originaldaten'!H314","v":80},{"$f":"'H2 Originaldaten'!I314","v":1},{"$f":"'H2 Originaldaten'!J314","v":"ford fairmont"}]
[314,{"$f":"ROUND(MAX(_xlfn.NORM.INV(('Eingabe Email'!$B447+1)/MAX('Eingabe Email'!$B:$B),'H2 Originaldaten'!B315,7),2),1)","v":24.3},{"$f":"'H2 Originaldaten'!C315","v":4},{"$f":"ROUND(MAX(_xlfn.NORM.INV(('Eingabe Email'!$B447+1)/MAX('Eingabe Email'!$B:$B),'H2 Originaldaten'!D315,7),2),1)","v":151},{"$f":"ROUND(MAX(_xlfn.NORM.INV(('Eingabe Email'!$B447+1)/MAX('Eingabe Email'!$B:$B),'H2 Originaldaten'!E315,7),2),1)","v":90},{"$f":"ROUND(MAX(_xlfn.NORM.INV(('Eingabe Email'!$B447+1)/MAX('Eingabe Email'!$B:$B),'H2 Originaldaten'!F315,7),2),1)","v":3003},{"$f":"ROUND(MAX(_xlfn.NORM.INV(('Eingabe Email'!$B447+1)/MAX('Eingabe Email'!$B:$B),'H2 Originaldaten'!G315,7),2),1)","v":20.100000000000001},{"$f":"'H2 Originaldaten'!H315","v":80},{"$f":"'H2 Originaldaten'!I315","v":1},{"$f":"'H2 Originaldaten'!J315","v":"amc concord"}]
[315,{"$f":"ROUND(MAX(_xlfn.NORM.INV(('Eingabe Email'!$B448+1)/MAX('Eingabe Email'!$B:$B),'H2 Originaldaten'!B316,7),2),1)","v":26.2},{"$f":"'H2 Originaldaten'!C316","v":6},{"$f":"ROUND(MAX(_xlfn.NORM.INV(('Eingabe Email'!$B448+1)/MAX('Eingabe Email'!$B:$B),'H2 Originaldaten'!D316,7),2),1)","v":232.1},{"$f":"ROUND(MAX(_xlfn.NORM.INV(('Eingabe Email'!$B448+1)/MAX('Eingabe Email'!$B:$B),'H2 Originaldaten'!E316,7),2),1)","v":97.1},{"$f":"ROUND(MAX(_xlfn.NORM.INV(('Eingabe Email'!$B448+1)/MAX('Eingabe Email'!$B:$B),'H2 Originaldaten'!F316,7),2),1)","v":3388.1},{"$f":"ROUND(MAX(_xlfn.NORM.INV(('Eingabe Email'!$B448+1)/MAX('Eingabe Email'!$B:$B),'H2 Originaldaten'!G316,7),2),1)","v":25.8},{"$f":"'H2 Originaldaten'!H316","v":80},{"$f":"'H2 Originaldaten'!I316","v":1},{"$f":"'H2 Originaldaten'!J316","v":"dodge aspen"}]
[316,{"$f":"ROUND(MAX(_xlfn.NORM.INV(('Eingabe Email'!$B449+1)/MAX('Eingabe Email'!$B:$B),'H2 Originaldaten'!B317,7),2),1)","v":38.700000000000003},{"$f":"'H2 Originaldaten'!C317","v":4},{"$f":"ROUND(MAX(_xlfn.NORM.INV(('Eingabe Email'!$B449+1)/MAX('Eingabe Email'!$B:$B),'H2 Originaldaten'!D317,7),2),1)","v":101.4},{"$f":"ROUND(MAX(_xlfn.NORM.INV(('Eingabe Email'!$B449+1)/MAX('Eingabe Email'!$B:$B),'H2 Originaldaten'!E317,7),2),1)","v":82.4},{"$f":"ROUND(MAX(_xlfn.NORM.INV(('Eingabe Email'!$B449+1)/MAX('Eingabe Email'!$B:$B),'H2 Originaldaten'!F317,7),2),1)","v":2192.4},{"$f":"ROUND(MAX(_xlfn.NORM.INV(('Eingabe Email'!$B449+1)/MAX('Eingabe Email'!$B:$B),'H2 Originaldaten'!G317,7),2),1)","v":20.2},{"$f":"'H2 Originaldaten'!H317","v":80},{"$f":"'H2 Originaldaten'!I317","v":2},{"$f":"'H2 Originaldaten'!J317","v":"audi 4000"}]
[317,{"$f":"ROUND(MAX(_xlfn.NORM.INV(('Eingabe Email'!$B450+1)/MAX('Eingabe Email'!$B:$B),'H2 Originaldaten'!B318,7),2),1)","v":34.700000000000003},{"$f":"'H2 Originaldaten'!C318","v":4},{"$f":"ROUND(MAX(_xlfn.NORM.INV(('Eingabe Email'!$B450+1)/MAX('Eingabe Email'!$B:$B),'H2 Originaldaten'!D318,7),2),1)","v":138.9},{"$f":"ROUND(MAX(_xlfn.NORM.INV(('Eingabe Email'!$B450+1)/MAX('Eingabe Email'!$B:$B),'H2 Originaldaten'!E318,7),2),1)","v":94.9},{"$f":"ROUND(MAX(_xlfn.NORM.INV(('Eingabe Email'!$B450+1)/MAX('Eingabe Email'!$B:$B),'H2 Originaldaten'!F318,7),2),1)","v":2715.9},{"$f":"ROUND(MAX(_xlfn.NORM.INV(('Eingabe Email'!$B450+1)/MAX('Eingabe Email'!$B:$B),'H2 Originaldaten'!G318,7),2),1)","v":20.399999999999999},{"$f":"'H2 Originaldaten'!H318","v":80},{"$f":"'H2 Originaldaten'!I318","v":3},{"$f":"'H2 Originaldaten'!J318","v":"toyota corona liftback"}]
[318,{"$f":"ROUND(MAX(_xlfn.NORM.INV(('Eingabe Email'!$B451+1)/MAX('Eingabe Email'!$B:$B),'H2 Originaldaten'!B319,7),2),1)","v":17.2},{"$f":"'H2 Originaldaten'!C319","v":4},{"$f":"ROUND(MAX(_xlfn.NORM.INV(('Eingabe Email'!$B451+1)/MAX('Eingabe Email'!$B:$B),'H2 Originaldaten'!D319,7),2),1)","v":105.9},{"$f":"ROUND(MAX(_xlfn.NORM.INV(('Eingabe Email'!$B451+1)/MAX('Eingabe Email'!$B:$B),'H2 Originaldaten'!E319,7),2),1)","v":60.9},{"$f":"ROUND(MAX(_xlfn.NORM.INV(('Eingabe Email'!$B451+1)/MAX('Eingabe Email'!$B:$B),'H2 Originaldaten'!F319,7),2),1)","v":2527.9},{"$f":"ROUND(MAX(_xlfn.NORM.INV(('Eingabe Email'!$B451+1)/MAX('Eingabe Email'!$B:$B),'H2 Originaldaten'!G319,7),2),1)","v":3.4},{"$f":"'H2 Originaldaten'!H319","v":80},{"$f":"'H2 Originaldaten'!I319","v":3},{"$f":"'H2 Originaldaten'!J319","v":"mazda 626"}]
[319,{"$f":"ROUND(MAX(_xlfn.NORM.INV(('Eingabe Email'!$B452+1)/MAX('Eingabe Email'!$B:$B),'H2 Originaldaten'!B320,7),2),1)","v":41.2},{"$f":"'H2 Originaldaten'!C320","v":4},{"$f":"ROUND(MAX(_xlfn.NORM.INV(('Eingabe Email'!$B452+1)/MAX('Eingabe Email'!$B:$B),'H2 Originaldaten'!D320,7),2),1)","v":123.2},{"$f":"ROUND(MAX(_xlfn.NORM.INV(('Eingabe Email'!$B452+1)/MAX('Eingabe Email'!$B:$B),'H2 Originaldaten'!E320,7),2),1)","v":96.2},{"$f":"ROUND(MAX(_xlfn.NORM.INV(('Eingabe Email'!$B452+1)/MAX('Eingabe Email'!$B:$B),'H2 Originaldaten'!F320,7),2),1)","v":2438.1999999999998},{"$f":"ROUND(MAX(_xlfn.NORM.INV(('Eingabe Email'!$B452+1)/MAX('Eingabe Email'!$B:$B),'H2 Originaldaten'!G320,7),2),1)","v":19.2},{"$f":"'H2 Originaldaten'!H320","v":80},{"$f":"'H2 Originaldaten'!I320","v":3},{"$f":"'H2 Originaldaten'!J320","v":"datsun 510 hatchback"}]
[320,{"$f":"ROUND(MAX(_xlfn.NORM.INV(('Eingabe Email'!$B453+1)/MAX('Eingabe Email'!$B:$B),'H2 Originaldaten'!B321,7),2),1)","v":30.4},{"$f":"'H2 Originaldaten'!C321","v":4},{"$f":"ROUND(MAX(_xlfn.NORM.INV(('Eingabe Email'!$B453+1)/MAX('Eingabe Email'!$B:$B),'H2 Originaldaten'!D321,7),2),1)","v":106.2},{"$f":"ROUND(MAX(_xlfn.NORM.INV(('Eingabe Email'!$B453+1)/MAX('Eingabe Email'!$B:$B),'H2 Originaldaten'!E321,7),2),1)","v":73.2},{"$f":"ROUND(MAX(_xlfn.NORM.INV(('Eingabe Email'!$B453+1)/MAX('Eingabe Email'!$B:$B),'H2 Originaldaten'!F321,7),2),1)","v":2263.1999999999998},{"$f":"ROUND(MAX(_xlfn.NORM.INV(('Eingabe Email'!$B453+1)/MAX('Eingabe Email'!$B:$B),'H2 Originaldaten'!G321,7),2),1)","v":13.4},{"$f":"'H2 Originaldaten'!H321","v":80},{"$f":"'H2 Originaldaten'!I321","v":3},{"$f":"'H2 Originaldaten'!J321","v":"toyota corolla"}]
[321,{"$f":"ROUND(MAX(_xlfn.NORM.INV(('Eingabe Email'!$B454+1)/MAX('Eingabe Email'!$B:$B),'H2 Originaldaten'!B322,7),2),1)","v":54.4},{"$f":"'H2 Originaldaten'!C322","v":4},{"$f":"ROUND(MAX(_xlfn.NORM.INV(('Eingabe Email'!$B454+1)/MAX('Eingabe Email'!$B:$B),'H2 Originaldaten'!D322,7),2),1)","v":93.8},{"$f":"ROUND(MAX(_xlfn.NORM.INV(('Eingabe Email'!$B454+1)/MAX('Eingabe Email'!$B:$B),'H2 Originaldaten'!E322,7),2),1)","v":72.8},{"$f":"ROUND(MAX(_xlfn.NORM.INV(('Eingabe Email'!$B454+1)/MAX('Eingabe Email'!$B:$B),'H2 Originaldaten'!F322,7),2),1)","v":2117.8000000000002},{"$f":"ROUND(MAX(_xlfn.NORM.INV(('Eingabe Email'!$B454+1)/MAX('Eingabe Email'!$B:$B),'H2 Originaldaten'!G322,7),2),1)","v":25.7},{"$f":"'H2 Originaldaten'!H322","v":80},{"$f":"'H2 Originaldaten'!I322","v":3},{"$f":"'H2 Originaldaten'!J322","v":"mazda glc"}]
[322,{"$f":"ROUND(MAX(_xlfn.NORM.INV(('Eingabe Email'!$B455+1)/MAX('Eingabe Email'!$B:$B),'H2 Originaldaten'!B323,7),2),1)","v":18.600000000000001},{"$f":"'H2 Originaldaten'!C323","v":4},{"$f":"ROUND(MAX(_xlfn.NORM.INV(('Eingabe Email'!$B455+1)/MAX('Eingabe Email'!$B:$B),'H2 Originaldaten'!D323,7),2),1)","v":146.69999999999999},{"$f":"ROUND(MAX(_xlfn.NORM.INV(('Eingabe Email'!$B455+1)/MAX('Eingabe Email'!$B:$B),'H2 Originaldaten'!E323,7),2),1)","v":95.7},{"$f":"ROUND(MAX(_xlfn.NORM.INV(('Eingabe Email'!$B455+1)/MAX('Eingabe Email'!$B:$B),'H2 Originaldaten'!F323,7),2),1)","v":2790.7},{"$f":"ROUND(MAX(_xlfn.NORM.INV(('Eingabe Email'!$B455+1)/MAX('Eingabe Email'!$B:$B),'H2 Originaldaten'!G323,7),2),1)","v":5.0999999999999996},{"$f":"'H2 Originaldaten'!H323","v":80},{"$f":"'H2 Originaldaten'!I323","v":1},{"$f":"'H2 Originaldaten'!J323","v":"dodge colt"}]
[323,{"$f":"ROUND(MAX(_xlfn.NORM.INV(('Eingabe Email'!$B456+1)/MAX('Eingabe Email'!$B:$B),'H2 Originaldaten'!B324,7),2),1)","v":32.6},{"$f":"'H2 Originaldaten'!C324","v":4},{"$f":"ROUND(MAX(_xlfn.NORM.INV(('Eingabe Email'!$B456+1)/MAX('Eingabe Email'!$B:$B),'H2 Originaldaten'!D324,7),2),1)","v":76.8},{"$f":"ROUND(MAX(_xlfn.NORM.INV(('Eingabe Email'!$B456+1)/MAX('Eingabe Email'!$B:$B),'H2 Originaldaten'!E324,7),2),1)","v":56.8},{"$f":"ROUND(MAX(_xlfn.NORM.INV(('Eingabe Email'!$B456+1)/MAX('Eingabe Email'!$B:$B),'H2 Originaldaten'!F324,7),2),1)","v":2101.8000000000002},{"$f":"ROUND(MAX(_xlfn.NORM.INV(('Eingabe Email'!$B456+1)/MAX('Eingabe Email'!$B:$B),'H2 Originaldaten'!G324,7),2),1)","v":11},{"$f":"'H2 Originaldaten'!H324","v":80},{"$f":"'H2 Originaldaten'!I324","v":3},{"$f":"'H2 Originaldaten'!J324","v":"datsun 210"}]
[324,{"$f":"ROUND(MAX(_xlfn.NORM.INV(('Eingabe Email'!$B457+1)/MAX('Eingabe Email'!$B:$B),'H2 Originaldaten'!B325,7),2),1)","v":60.3},{"$f":"'H2 Originaldaten'!C325","v":4},{"$f":"ROUND(MAX(_xlfn.NORM.INV(('Eingabe Email'!$B457+1)/MAX('Eingabe Email'!$B:$B),'H2 Originaldaten'!D325,7),2),1)","v":106},{"$f":"ROUND(MAX(_xlfn.NORM.INV(('Eingabe Email'!$B457+1)/MAX('Eingabe Email'!$B:$B),'H2 Originaldaten'!E325,7),2),1)","v":64},{"$f":"ROUND(MAX(_xlfn.NORM.INV(('Eingabe Email'!$B457+1)/MAX('Eingabe Email'!$B:$B),'H2 Originaldaten'!F325,7),2),1)","v":2101},{"$f":"ROUND(MAX(_xlfn.NORM.INV(('Eingabe Email'!$B457+1)/MAX('Eingabe Email'!$B:$B),'H2 Originaldaten'!G325,7),2),1)","v":37.700000000000003},{"$f":"'H2 Originaldaten'!H325","v":80},{"$f":"'H2 Originaldaten'!I325","v":2},{"$f":"'H2 Originaldaten'!J325","v":"vw rabbit c (diesel)"}]
[325,{"$f":"ROUND(MAX(_xlfn.NORM.INV(('Eingabe Email'!$B458+1)/MAX('Eingabe Email'!$B:$B),'H2 Originaldaten'!B326,7),2),1)","v":28.4},{"$f":"'H2 Originaldaten'!C326","v":4},{"$f":"ROUND(MAX(_xlfn.NORM.INV(('Eingabe Email'!$B458+1)/MAX('Eingabe Email'!$B:$B),'H2 Originaldaten'!D326,7),2),1)","v":75},{"$f":"ROUND(MAX(_xlfn.NORM.INV(('Eingabe Email'!$B458+1)/MAX('Eingabe Email'!$B:$B),'H2 Originaldaten'!E326,7),2),1)","v":33},{"$f":"ROUND(MAX(_xlfn.NORM.INV(('Eingabe Email'!$B458+1)/MAX('Eingabe Email'!$B:$B),'H2 Originaldaten'!F326,7),2),1)","v":2320},{"$f":"ROUND(MAX(_xlfn.NORM.INV(('Eingabe Email'!$B458+1)/MAX('Eingabe Email'!$B:$B),'H2 Originaldaten'!G326,7),2),1)","v":8.6999999999999993},{"$f":"'H2 Originaldaten'!H326","v":80},{"$f":"'H2 Originaldaten'!I326","v":2},{"$f":"'H2 Originaldaten'!J326","v":"vw dasher (diesel)"}]
[326,{"$f":"ROUND(MAX(_xlfn.NORM.INV(('Eingabe Email'!$B459+1)/MAX('Eingabe Email'!$B:$B),'H2 Originaldaten'!B327,7),2),1)","v":31.2},{"$f":"'H2 Originaldaten'!C327","v":5},{"$f":"ROUND(MAX(_xlfn.NORM.INV(('Eingabe Email'!$B459+1)/MAX('Eingabe Email'!$B:$B),'H2 Originaldaten'!D327,7),2),1)","v":115.8},{"$f":"ROUND(MAX(_xlfn.NORM.INV(('Eingabe Email'!$B459+1)/MAX('Eingabe Email'!$B:$B),'H2 Originaldaten'!E327,7),2),1)","v":61.8},{"$f":"ROUND(MAX(_xlfn.NORM.INV(('Eingabe Email'!$B459+1)/MAX('Eingabe Email'!$B:$B),'H2 Originaldaten'!F327,7),2),1)","v":2944.8},{"$f":"ROUND(MAX(_xlfn.NORM.INV(('Eingabe Email'!$B459+1)/MAX('Eingabe Email'!$B:$B),'H2 Originaldaten'!G327,7),2),1)","v":14.7},{"$f":"'H2 Originaldaten'!H327","v":80},{"$f":"'H2 Originaldaten'!I327","v":2},{"$f":"'H2 Originaldaten'!J327","v":"audi 5000s (diesel)"}]
[327,{"$f":"ROUND(MAX(_xlfn.NORM.INV(('Eingabe Email'!$B460+1)/MAX('Eingabe Email'!$B:$B),'H2 Originaldaten'!B328,7),2),1)","v":22.3},{"$f":"'H2 Originaldaten'!C328","v":4},{"$f":"ROUND(MAX(_xlfn.NORM.INV(('Eingabe Email'!$B460+1)/MAX('Eingabe Email'!$B:$B),'H2 Originaldaten'!D328,7),2),1)","v":138.30000000000001},{"$f":"ROUND(MAX(_xlfn.NORM.INV(('Eingabe Email'!$B460+1)/MAX('Eingabe Email'!$B:$B),'H2 Originaldaten'!E328,7),2),1)","v":59.3},{"$f":"ROUND(MAX(_xlfn.NORM.INV(('Eingabe Email'!$B460+1)/MAX('Eingabe Email'!$B:$B),'H2 Originaldaten'!F328,7),2),1)","v":3242.3},{"$f":"ROUND(MAX(_xlfn.NORM.INV(('Eingabe Email'!$B460+1)/MAX('Eingabe Email'!$B:$B),'H2 Originaldaten'!G328,7),2),1)","v":14.1},{"$f":"'H2 Originaldaten'!H328","v":80},{"$f":"'H2 Originaldaten'!I328","v":2},{"$f":"'H2 Originaldaten'!J328","v":"mercedes-benz 240d"}]
[328,{"$f":"ROUND(MAX(_xlfn.NORM.INV(('Eingabe Email'!$B461+1)/MAX('Eingabe Email'!$B:$B),'H2 Originaldaten'!B329,7),2),1)","v":37.200000000000003},{"$f":"'H2 Originaldaten'!C329","v":4},{"$f":"ROUND(MAX(_xlfn.NORM.INV(('Eingabe Email'!$B461+1)/MAX('Eingabe Email'!$B:$B),'H2 Originaldaten'!D329,7),2),1)","v":83.6},{"$f":"ROUND(MAX(_xlfn.NORM.INV(('Eingabe Email'!$B461+1)/MAX('Eingabe Email'!$B:$B),'H2 Originaldaten'!E329,7),2),1)","v":59.6},{"$f":"ROUND(MAX(_xlfn.NORM.INV(('Eingabe Email'!$B461+1)/MAX('Eingabe Email'!$B:$B),'H2 Originaldaten'!F329,7),2),1)","v":1842.6},{"$f":"ROUND(MAX(_xlfn.NORM.INV(('Eingabe Email'!$B461+1)/MAX('Eingabe Email'!$B:$B),'H2 Originaldaten'!G329,7),2),1)","v":6.4},{"$f":"'H2 Originaldaten'!H329","v":80},{"$f":"'H2 Originaldaten'!I329","v":3},{"$f":"'H2 Originaldaten'!J329","v":"honda civic 1500 gl"}]
[329,{"$f":"ROUND(MAX(_xlfn.NORM.INV(('Eingabe Email'!$B462+1)/MAX('Eingabe Email'!$B:$B),'H2 Originaldaten'!B330,7),2),1)","v":28.3},{"$f":"'H2 Originaldaten'!C330","v":4},{"$f":"ROUND(MAX(_xlfn.NORM.INV(('Eingabe Email'!$B462+1)/MAX('Eingabe Email'!$B:$B),'H2 Originaldaten'!D330,7),2),1)","v":91.5},{"$f":"ROUND(MAX(_xlfn.NORM.INV(('Eingabe Email'!$B462+1)/MAX('Eingabe Email'!$B:$B),'H2 Originaldaten'!E330,7),2),1)","v":61.5},{"$f":"ROUND(MAX(_xlfn.NORM.INV(('Eingabe Email'!$B462+1)/MAX('Eingabe Email'!$B:$B),'H2 Originaldaten'!F330,7),2),1)","v":2139.5},{"$f":"ROUND(MAX(_xlfn.NORM.INV(('Eingabe Email'!$B462+1)/MAX('Eingabe Email'!$B:$B),'H2 Originaldaten'!G330,7),2),1)","v":12.5},{"$f":"'H2 Originaldaten'!H330","v":80},{"$f":"'H2 Originaldaten'!I330","v":3},{"$f":"'H2 Originaldaten'!J330","v":"subaru dl"}]
[330,{"$f":"ROUND(MAX(_xlfn.NORM.INV(('Eingabe Email'!$B463+1)/MAX('Eingabe Email'!$B:$B),'H2 Originaldaten'!B331,7),2),1)","v":30.6},{"$f":"'H2 Originaldaten'!C331","v":4},{"$f":"ROUND(MAX(_xlfn.NORM.INV(('Eingabe Email'!$B463+1)/MAX('Eingabe Email'!$B:$B),'H2 Originaldaten'!D331,7),2),1)","v":89.8},{"$f":"ROUND(MAX(_xlfn.NORM.INV(('Eingabe Email'!$B463+1)/MAX('Eingabe Email'!$B:$B),'H2 Originaldaten'!E331,7),2),1)","v":62.8},{"$f":"ROUND(MAX(_xlfn.NORM.INV(('Eingabe Email'!$B463+1)/MAX('Eingabe Email'!$B:$B),'H2 Originaldaten'!F331,7),2),1)","v":1845.8},{"$f":"ROUND(MAX(_xlfn.NORM.INV(('Eingabe Email'!$B463+1)/MAX('Eingabe Email'!$B:$B),'H2 Originaldaten'!G331,7),2),1)","v":16.100000000000001},{"$f":"'H2 Originaldaten'!H331","v":80},{"$f":"'H2 Originaldaten'!I331","v":2},{"$f":"'H2 Originaldaten'!J331","v":"vokswagen rabbit"}]
[331,{"$f":"ROUND(MAX(_xlfn.NORM.INV(('Eingabe Email'!$B464+1)/MAX('Eingabe Email'!$B:$B),'H2 Originaldaten'!B332,7),2),1)","v":24.9},{"$f":"'H2 Originaldaten'!C332","v":6},{"$f":"ROUND(MAX(_xlfn.NORM.INV(('Eingabe Email'!$B464+1)/MAX('Eingabe Email'!$B:$B),'H2 Originaldaten'!D332,7),2),1)","v":160.19999999999999},{"$f":"ROUND(MAX(_xlfn.NORM.INV(('Eingabe Email'!$B464+1)/MAX('Eingabe Email'!$B:$B),'H2 Originaldaten'!E332,7),2),1)","v":124.2},{"$f":"ROUND(MAX(_xlfn.NORM.INV(('Eingabe Email'!$B464+1)/MAX('Eingabe Email'!$B:$B),'H2 Originaldaten'!F332,7),2),1)","v":2902.2},{"$f":"ROUND(MAX(_xlfn.NORM.INV(('Eingabe Email'!$B464+1)/MAX('Eingabe Email'!$B:$B),'H2 Originaldaten'!G332,7),2),1)","v":3.6},{"$f":"'H2 Originaldaten'!H332","v":80},{"$f":"'H2 Originaldaten'!I332","v":3},{"$f":"'H2 Originaldaten'!J332","v":"datsun 280-zx"}]
[332,{"$f":"ROUND(MAX(_xlfn.NORM.INV(('Eingabe Email'!$B465+1)/MAX('Eingabe Email'!$B:$B),'H2 Originaldaten'!B333,7),2),1)","v":24.3},{"$f":"'H2 Originaldaten'!C333","v":3},{"$f":"ROUND(MAX(_xlfn.NORM.INV(('Eingabe Email'!$B465+1)/MAX('Eingabe Email'!$B:$B),'H2 Originaldaten'!D333,7),2),1)","v":70.599999999999994},{"$f":"ROUND(MAX(_xlfn.NORM.INV(('Eingabe Email'!$B465+1)/MAX('Eingabe Email'!$B:$B),'H2 Originaldaten'!E333,7),2),1)","v":100.6},{"$f":"ROUND(MAX(_xlfn.NORM.INV(('Eingabe Email'!$B465+1)/MAX('Eingabe Email'!$B:$B),'H2 Originaldaten'!F333,7),2),1)","v":2420.6},{"$f":"ROUND(MAX(_xlfn.NORM.INV(('Eingabe Email'!$B465+1)/MAX('Eingabe Email'!$B:$B),'H2 Originaldaten'!G333,7),2),1)","v":13.1},{"$f":"'H2 Originaldaten'!H333","v":80},{"$f":"'H2 Originaldaten'!I333","v":3},{"$f":"'H2 Originaldaten'!J333","v":"mazda rx-7 gs"}]
[333,{"$f":"ROUND(MAX(_xlfn.NORM.INV(('Eingabe Email'!$B466+1)/MAX('Eingabe Email'!$B:$B),'H2 Originaldaten'!B334,7),2),1)","v":36},{"$f":"'H2 Originaldaten'!C334","v":4},{"$f":"ROUND(MAX(_xlfn.NORM.INV(('Eingabe Email'!$B466+1)/MAX('Eingabe Email'!$B:$B),'H2 Originaldaten'!D334,7),2),1)","v":123},{"$f":"ROUND(MAX(_xlfn.NORM.INV(('Eingabe Email'!$B466+1)/MAX('Eingabe Email'!$B:$B),'H2 Originaldaten'!E334,7),2),1)","v":89},{"$f":"ROUND(MAX(_xlfn.NORM.INV(('Eingabe Email'!$B466+1)/MAX('Eingabe Email'!$B:$B),'H2 Originaldaten'!F334,7),2),1)","v":2501},{"$f":"ROUND(MAX(_xlfn.NORM.INV(('Eingabe Email'!$B466+1)/MAX('Eingabe Email'!$B:$B),'H2 Originaldaten'!G334,7),2),1)","v":16.100000000000001},{"$f":"'H2 Originaldaten'!H334","v":80},{"$f":"'H2 Originaldaten'!I334","v":2},{"$f":"'H2 Originaldaten'!J334","v":"triumph tr7 coupe"}]
[334,{"$f":"ROUND(MAX(_xlfn.NORM.INV(('Eingabe Email'!$B467+1)/MAX('Eingabe Email'!$B:$B),'H2 Originaldaten'!B335,7),2),1)","v":24.5},{"$f":"'H2 Originaldaten'!C335","v":4},{"$f":"ROUND(MAX(_xlfn.NORM.INV(('Eingabe Email'!$B467+1)/MAX('Eingabe Email'!$B:$B),'H2 Originaldaten'!D335,7),2),1)","v":99.1},{"$f":"ROUND(MAX(_xlfn.NORM.INV(('Eingabe Email'!$B467+1)/MAX('Eingabe Email'!$B:$B),'H2 Originaldaten'!E335,7),2),1)","v":64.099999999999994},{"$f":"ROUND(MAX(_xlfn.NORM.INV(('Eingabe Email'!$B467+1)/MAX('Eingabe Email'!$B:$B),'H2 Originaldaten'!F335,7),2),1)","v":2282.1},{"$f":"ROUND(MAX(_xlfn.NORM.INV(('Eingabe Email'!$B467+1)/MAX('Eingabe Email'!$B:$B),'H2 Originaldaten'!G335,7),2),1)","v":9.1},{"$f":"'H2 Originaldaten'!H335","v":80},{"$f":"'H2 Originaldaten'!I335","v":3},{"$f":"'H2 Originaldaten'!J335","v":"honda accord"}]
[335,{"$f":"ROUND(MAX(_xlfn.NORM.INV(('Eingabe Email'!$B468+1)/MAX('Eingabe Email'!$B:$B),'H2 Originaldaten'!B336,7),2),1)","v":34},{"$f":"'H2 Originaldaten'!C336","v":4},{"$f":"ROUND(MAX(_xlfn.NORM.INV(('Eingabe Email'!$B468+1)/MAX('Eingabe Email'!$B:$B),'H2 Originaldaten'!D336,7),2),1)","v":141.80000000000001},{"$f":"ROUND(MAX(_xlfn.NORM.INV(('Eingabe Email'!$B468+1)/MAX('Eingabe Email'!$B:$B),'H2 Originaldaten'!E336,7),2),1)","v":90.8},{"$f":"ROUND(MAX(_xlfn.NORM.INV(('Eingabe Email'!$B468+1)/MAX('Eingabe Email'!$B:$B),'H2 Originaldaten'!F336,7),2),1)","v":2496.8000000000002},{"$f":"ROUND(MAX(_xlfn.NORM.INV(('Eingabe Email'!$B468+1)/MAX('Eingabe Email'!$B:$B),'H2 Originaldaten'!G336,7),2),1)","v":22.5},{"$f":"'H2 Originaldaten'!H336","v":81},{"$f":"'H2 Originaldaten'!I336","v":1},{"$f":"'H2 Originaldaten'!J336","v":"plymouth reliant"}]
[336,{"$f":"ROUND(MAX(_xlfn.NORM.INV(('Eingabe Email'!$B469+1)/MAX('Eingabe Email'!$B:$B),'H2 Originaldaten'!B337,7),2),1)","v":29.3},{"$f":"'H2 Originaldaten'!C337","v":4},{"$f":"ROUND(MAX(_xlfn.NORM.INV(('Eingabe Email'!$B469+1)/MAX('Eingabe Email'!$B:$B),'H2 Originaldaten'!D337,7),2),1)","v":153.69999999999999},{"$f":"ROUND(MAX(_xlfn.NORM.INV(('Eingabe Email'!$B469+1)/MAX('Eingabe Email'!$B:$B),'H2 Originaldaten'!E337,7),2),1)","v":86.7},{"$f":"ROUND(MAX(_xlfn.NORM.INV(('Eingabe Email'!$B469+1)/MAX('Eingabe Email'!$B:$B),'H2 Originaldaten'!F337,7),2),1)","v":2637.7},{"$f":"ROUND(MAX(_xlfn.NORM.INV(('Eingabe Email'!$B469+1)/MAX('Eingabe Email'!$B:$B),'H2 Originaldaten'!G337,7),2),1)","v":19.100000000000001},{"$f":"'H2 Originaldaten'!H337","v":81},{"$f":"'H2 Originaldaten'!I337","v":1},{"$f":"'H2 Originaldaten'!J337","v":"buick skylark"}]
[337,{"$f":"ROUND(MAX(_xlfn.NORM.INV(('Eingabe Email'!$B470+1)/MAX('Eingabe Email'!$B:$B),'H2 Originaldaten'!B338,7),2),1)","v":19.899999999999999},{"$f":"'H2 Originaldaten'!C338","v":4},{"$f":"ROUND(MAX(_xlfn.NORM.INV(('Eingabe Email'!$B470+1)/MAX('Eingabe Email'!$B:$B),'H2 Originaldaten'!D338,7),2),1)","v":150.1},{"$f":"ROUND(MAX(_xlfn.NORM.INV(('Eingabe Email'!$B470+1)/MAX('Eingabe Email'!$B:$B),'H2 Originaldaten'!E338,7),2),1)","v":86.1},{"$f":"ROUND(MAX(_xlfn.NORM.INV(('Eingabe Email'!$B470+1)/MAX('Eingabe Email'!$B:$B),'H2 Originaldaten'!F338,7),2),1)","v":2614.1},{"$f":"ROUND(MAX(_xlfn.NORM.INV(('Eingabe Email'!$B470+1)/MAX('Eingabe Email'!$B:$B),'H2 Originaldaten'!G338,7),2),1)","v":8.5},{"$f":"'H2 Originaldaten'!H338","v":81},{"$f":"'H2 Originaldaten'!I338","v":1},{"$f":"'H2 Originaldaten'!J338","v":"dodge aries wagon (sw)"}]
[338,{"$f":"ROUND(MAX(_xlfn.NORM.INV(('Eingabe Email'!$B471+1)/MAX('Eingabe Email'!$B:$B),'H2 Originaldaten'!B339,7),2),1)","v":22.1},{"$f":"'H2 Originaldaten'!C339","v":6},{"$f":"ROUND(MAX(_xlfn.NORM.INV(('Eingabe Email'!$B471+1)/MAX('Eingabe Email'!$B:$B),'H2 Originaldaten'!D339,7),2),1)","v":171.6},{"$f":"ROUND(MAX(_xlfn.NORM.INV(('Eingabe Email'!$B471+1)/MAX('Eingabe Email'!$B:$B),'H2 Originaldaten'!E339,7),2),1)","v":108.6},{"$f":"ROUND(MAX(_xlfn.NORM.INV(('Eingabe Email'!$B471+1)/MAX('Eingabe Email'!$B:$B),'H2 Originaldaten'!F339,7),2),1)","v":2723.6},{"$f":"ROUND(MAX(_xlfn.NORM.INV(('Eingabe Email'!$B471+1)/MAX('Eingabe Email'!$B:$B),'H2 Originaldaten'!G339,7),2),1)","v":11.2},{"$f":"'H2 Originaldaten'!H339","v":81},{"$f":"'H2 Originaldaten'!I339","v":1},{"$f":"'H2 Originaldaten'!J339","v":"chevrolet citation"}]
[339,{"$f":"ROUND(MAX(_xlfn.NORM.INV(('Eingabe Email'!$B472+1)/MAX('Eingabe Email'!$B:$B),'H2 Originaldaten'!B340,7),2),1)","v":35.5},{"$f":"'H2 Originaldaten'!C340","v":4},{"$f":"ROUND(MAX(_xlfn.NORM.INV(('Eingabe Email'!$B472+1)/MAX('Eingabe Email'!$B:$B),'H2 Originaldaten'!D340,7),2),1)","v":140.5},{"$f":"ROUND(MAX(_xlfn.NORM.INV(('Eingabe Email'!$B472+1)/MAX('Eingabe Email'!$B:$B),'H2 Originaldaten'!E340,7),2),1)","v":89.5},{"$f":"ROUND(MAX(_xlfn.NORM.INV(('Eingabe Email'!$B472+1)/MAX('Eingabe Email'!$B:$B),'H2 Originaldaten'!F340,7),2),1)","v":2390.5},{"$f":"ROUND(MAX(_xlfn.NORM.INV(('Eingabe Email'!$B472+1)/MAX('Eingabe Email'!$B:$B),'H2 Originaldaten'!G340,7),2),1)","v":18.399999999999999},{"$f":"'H2 Originaldaten'!H340","v":81},{"$f":"'H2 Originaldaten'!I340","v":1},{"$f":"'H2 Originaldaten'!J340","v":"plymouth reliant"}]
[340,{"$f":"ROUND(MAX(_xlfn.NORM.INV(('Eingabe Email'!$B473+1)/MAX('Eingabe Email'!$B:$B),'H2 Originaldaten'!B341,7),2),1)","v":31.1},{"$f":"'H2 Originaldaten'!C341","v":4},{"$f":"ROUND(MAX(_xlfn.NORM.INV(('Eingabe Email'!$B473+1)/MAX('Eingabe Email'!$B:$B),'H2 Originaldaten'!D341,7),2),1)","v":71},{"$f":"ROUND(MAX(_xlfn.NORM.INV(('Eingabe Email'!$B473+1)/MAX('Eingabe Email'!$B:$B),'H2 Originaldaten'!E341,7),2),1)","v":50},{"$f":"ROUND(MAX(_xlfn.NORM.INV(('Eingabe Email'!$B473+1)/MAX('Eingabe Email'!$B:$B),'H2 Originaldaten'!F341,7),2),1)","v":1747},{"$f":"ROUND(MAX(_xlfn.NORM.INV(('Eingabe Email'!$B473+1)/MAX('Eingabe Email'!$B:$B),'H2 Originaldaten'!G341,7),2),1)","v":8.9},{"$f":"'H2 Originaldaten'!H341","v":81},{"$f":"'H2 Originaldaten'!I341","v":3},{"$f":"'H2 Originaldaten'!J341","v":"toyota starlet"}]
[341,{"$f":"ROUND(MAX(_xlfn.NORM.INV(('Eingabe Email'!$B474+1)/MAX('Eingabe Email'!$B:$B),'H2 Originaldaten'!B342,7),2),1)","v":37.700000000000003},{"$f":"'H2 Originaldaten'!C342","v":4},{"$f":"ROUND(MAX(_xlfn.NORM.INV(('Eingabe Email'!$B474+1)/MAX('Eingabe Email'!$B:$B),'H2 Originaldaten'!D342,7),2),1)","v":84.7},{"$f":"ROUND(MAX(_xlfn.NORM.INV(('Eingabe Email'!$B474+1)/MAX('Eingabe Email'!$B:$B),'H2 Originaldaten'!E342,7),2),1)","v":62.7},{"$f":"ROUND(MAX(_xlfn.NORM.INV(('Eingabe Email'!$B474+1)/MAX('Eingabe Email'!$B:$B),'H2 Originaldaten'!F342,7),2),1)","v":1873.7},{"$f":"ROUND(MAX(_xlfn.NORM.INV(('Eingabe Email'!$B474+1)/MAX('Eingabe Email'!$B:$B),'H2 Originaldaten'!G342,7),2),1)","v":15.1},{"$f":"'H2 Originaldaten'!H342","v":81},{"$f":"'H2 Originaldaten'!I342","v":1},{"$f":"'H2 Originaldaten'!J342","v":"plymouth champ"}]
[342,{"$f":"ROUND(MAX(_xlfn.NORM.INV(('Eingabe Email'!$B475+1)/MAX('Eingabe Email'!$B:$B),'H2 Originaldaten'!B343,7),2),1)","v":24.6},{"$f":"'H2 Originaldaten'!C343","v":4},{"$f":"ROUND(MAX(_xlfn.NORM.INV(('Eingabe Email'!$B475+1)/MAX('Eingabe Email'!$B:$B),'H2 Originaldaten'!D343,7),2),1)","v":70.5},{"$f":"ROUND(MAX(_xlfn.NORM.INV(('Eingabe Email'!$B475+1)/MAX('Eingabe Email'!$B:$B),'H2 Originaldaten'!E343,7),2),1)","v":49.5},{"$f":"ROUND(MAX(_xlfn.NORM.INV(('Eingabe Email'!$B475+1)/MAX('Eingabe Email'!$B:$B),'H2 Originaldaten'!F343,7),2),1)","v":1749.5},{"$f":"ROUND(MAX(_xlfn.NORM.INV(('Eingabe Email'!$B475+1)/MAX('Eingabe Email'!$B:$B),'H2 Originaldaten'!G343,7),2),1)","v":5.6},{"$f":"'H2 Originaldaten'!H343","v":81},{"$f":"'H2 Originaldaten'!I343","v":3},{"$f":"'H2 Originaldaten'!J343","v":"honda civic 1300"}]
[343,{"$f":"ROUND(MAX(_xlfn.NORM.INV(('Eingabe Email'!$B476+1)/MAX('Eingabe Email'!$B:$B),'H2 Originaldaten'!B344,7),2),1)","v":35.700000000000003},{"$f":"'H2 Originaldaten'!C344","v":4},{"$f":"ROUND(MAX(_xlfn.NORM.INV(('Eingabe Email'!$B476+1)/MAX('Eingabe Email'!$B:$B),'H2 Originaldaten'!D344,7),2),1)","v":100.4},{"$f":"ROUND(MAX(_xlfn.NORM.INV(('Eingabe Email'!$B476+1)/MAX('Eingabe Email'!$B:$B),'H2 Originaldaten'!E344,7),2),1)","v":70.400000000000006},{"$f":"ROUND(MAX(_xlfn.NORM.INV(('Eingabe Email'!$B476+1)/MAX('Eingabe Email'!$B:$B),'H2 Originaldaten'!F344,7),2),1)","v":2068.4},{"$f":"ROUND(MAX(_xlfn.NORM.INV(('Eingabe Email'!$B476+1)/MAX('Eingabe Email'!$B:$B),'H2 Originaldaten'!G344,7),2),1)","v":21.2},{"$f":"'H2 Originaldaten'!H344","v":81},{"$f":"'H2 Originaldaten'!I344","v":3},{"$f":"'H2 Originaldaten'!J344","v":"subaru"}]
[344,{"$f":"ROUND(MAX(_xlfn.NORM.INV(('Eingabe Email'!$B477+1)/MAX('Eingabe Email'!$B:$B),'H2 Originaldaten'!B345,7),2),1)","v":32.700000000000003},{"$f":"'H2 Originaldaten'!C345","v":4},{"$f":"ROUND(MAX(_xlfn.NORM.INV(('Eingabe Email'!$B477+1)/MAX('Eingabe Email'!$B:$B),'H2 Originaldaten'!D345,7),2),1)","v":80.7},{"$f":"ROUND(MAX(_xlfn.NORM.INV(('Eingabe Email'!$B477+1)/MAX('Eingabe Email'!$B:$B),'H2 Originaldaten'!E345,7),2),1)","v":60.7},{"$f":"ROUND(MAX(_xlfn.NORM.INV(('Eingabe Email'!$B477+1)/MAX('Eingabe Email'!$B:$B),'H2 Originaldaten'!F345,7),2),1)","v":1970.7},{"$f":"ROUND(MAX(_xlfn.NORM.INV(('Eingabe Email'!$B477+1)/MAX('Eingabe Email'!$B:$B),'H2 Originaldaten'!G345,7),2),1)","v":15.1},{"$f":"'H2 Originaldaten'!H345","v":81},{"$f":"'H2 Originaldaten'!I345","v":3},{"$f":"'H2 Originaldaten'!J345","v":"datsun 210 mpg"}]
[345,{"$f":"ROUND(MAX(_xlfn.NORM.INV(('Eingabe Email'!$B478+1)/MAX('Eingabe Email'!$B:$B),'H2 Originaldaten'!B346,7),2),1)","v":39.799999999999997},{"$f":"'H2 Originaldaten'!C346","v":4},{"$f":"ROUND(MAX(_xlfn.NORM.INV(('Eingabe Email'!$B478+1)/MAX('Eingabe Email'!$B:$B),'H2 Originaldaten'!D346,7),2),1)","v":91.1},{"$f":"ROUND(MAX(_xlfn.NORM.INV(('Eingabe Email'!$B478+1)/MAX('Eingabe Email'!$B:$B),'H2 Originaldaten'!E346,7),2),1)","v":64.099999999999994},{"$f":"ROUND(MAX(_xlfn.NORM.INV(('Eingabe Email'!$B478+1)/MAX('Eingabe Email'!$B:$B),'H2 Originaldaten'!F346,7),2),1)","v":2052.1},{"$f":"ROUND(MAX(_xlfn.NORM.INV(('Eingabe Email'!$B478+1)/MAX('Eingabe Email'!$B:$B),'H2 Originaldaten'!G346,7),2),1)","v":19.399999999999999},{"$f":"'H2 Originaldaten'!H346","v":81},{"$f":"'H2 Originaldaten'!I346","v":3},{"$f":"'H2 Originaldaten'!J346","v":"toyota tercel"}]
[346,{"$f":"ROUND(MAX(_xlfn.NORM.INV(('Eingabe Email'!$B479+1)/MAX('Eingabe Email'!$B:$B),'H2 Originaldaten'!B347,7),2),1)","v":35.200000000000003},{"$f":"'H2 Originaldaten'!C347","v":4},{"$f":"ROUND(MAX(_xlfn.NORM.INV(('Eingabe Email'!$B479+1)/MAX('Eingabe Email'!$B:$B),'H2 Originaldaten'!D347,7),2),1)","v":92.1},{"$f":"ROUND(MAX(_xlfn.NORM.INV(('Eingabe Email'!$B479+1)/MAX('Eingabe Email'!$B:$B),'H2 Originaldaten'!E347,7),2),1)","v":69.099999999999994},{"$f":"ROUND(MAX(_xlfn.NORM.INV(('Eingabe Email'!$B479+1)/MAX('Eingabe Email'!$B:$B),'H2 Originaldaten'!F347,7),2),1)","v":1986.1},{"$f":"ROUND(MAX(_xlfn.NORM.INV(('Eingabe Email'!$B479+1)/MAX('Eingabe Email'!$B:$B),'H2 Originaldaten'!G347,7),2),1)","v":17.100000000000001},{"$f":"'H2 Originaldaten'!H347","v":81},{"$f":"'H2 Originaldaten'!I347","v":3},{"$f":"'H2 Originaldaten'!J347","v":"mazda glc 4"}]
[347,{"$f":"ROUND(MAX(_xlfn.NORM.INV(('Eingabe Email'!$B480+1)/MAX('Eingabe Email'!$B:$B),'H2 Originaldaten'!B348,7),2),1)","v":34.299999999999997},{"$f":"'H2 Originaldaten'!C348","v":4},{"$f":"ROUND(MAX(_xlfn.NORM.INV(('Eingabe Email'!$B480+1)/MAX('Eingabe Email'!$B:$B),'H2 Originaldaten'!D348,7),2),1)","v":104.6},{"$f":"ROUND(MAX(_xlfn.NORM.INV(('Eingabe Email'!$B480+1)/MAX('Eingabe Email'!$B:$B),'H2 Originaldaten'!E348,7),2),1)","v":62.6},{"$f":"ROUND(MAX(_xlfn.NORM.INV(('Eingabe Email'!$B480+1)/MAX('Eingabe Email'!$B:$B),'H2 Originaldaten'!F348,7),2),1)","v":2214.6},{"$f":"ROUND(MAX(_xlfn.NORM.INV(('Eingabe Email'!$B480+1)/MAX('Eingabe Email'!$B:$B),'H2 Originaldaten'!G348,7),2),1)","v":14.5},{"$f":"'H2 Originaldaten'!H348","v":81},{"$f":"'H2 Originaldaten'!I348","v":1},{"$f":"'H2 Originaldaten'!J348","v":"plymouth horizon 4"}]
[348,{"$f":"ROUND(MAX(_xlfn.NORM.INV(('Eingabe Email'!$B481+1)/MAX('Eingabe Email'!$B:$B),'H2 Originaldaten'!B349,7),2),1)","v":48.7},{"$f":"'H2 Originaldaten'!C349","v":4},{"$f":"ROUND(MAX(_xlfn.NORM.INV(('Eingabe Email'!$B481+1)/MAX('Eingabe Email'!$B:$B),'H2 Originaldaten'!D349,7),2),1)","v":112.3},{"$f":"ROUND(MAX(_xlfn.NORM.INV(('Eingabe Email'!$B481+1)/MAX('Eingabe Email'!$B:$B),'H2 Originaldaten'!E349,7),2),1)","v":79.3},{"$f":"ROUND(MAX(_xlfn.NORM.INV(('Eingabe Email'!$B481+1)/MAX('Eingabe Email'!$B:$B),'H2 Originaldaten'!F349,7),2),1)","v":2059.3000000000002},{"$f":"ROUND(MAX(_xlfn.NORM.INV(('Eingabe Email'!$B481+1)/MAX('Eingabe Email'!$B:$B),'H2 Originaldaten'!G349,7),2),1)","v":30.5},{"$f":"'H2 Originaldaten'!H349","v":81},{"$f":"'H2 Originaldaten'!I349","v":1},{"$f":"'H2 Originaldaten'!J349","v":"ford escort 4w"}]
[349,{"$f":"ROUND(MAX(_xlfn.NORM.INV(('Eingabe Email'!$B482+1)/MAX('Eingabe Email'!$B:$B),'H2 Originaldaten'!B350,7),2),1)","v":30.5},{"$f":"'H2 Originaldaten'!C350","v":4},{"$f":"ROUND(MAX(_xlfn.NORM.INV(('Eingabe Email'!$B482+1)/MAX('Eingabe Email'!$B:$B),'H2 Originaldaten'!D350,7),2),1)","v":98.6},{"$f":"ROUND(MAX(_xlfn.NORM.INV(('Eingabe Email'!$B482+1)/MAX('Eingabe Email'!$B:$B),'H2 Originaldaten'!E350,7),2),1)","v":65.599999999999994},{"$f":"ROUND(MAX(_xlfn.NORM.INV(('Eingabe Email'!$B482+1)/MAX('Eingabe Email'!$B:$B),'H2 Originaldaten'!F350,7),2),1)","v":2380.6},{"$f":"ROUND(MAX(_xlfn.NORM.INV(('Eingabe Email'!$B482+1)/MAX('Eingabe Email'!$B:$B),'H2 Originaldaten'!G350,7),2),1)","v":21.3},{"$f":"'H2 Originaldaten'!H350","v":81},{"$f":"'H2 Originaldaten'!I350","v":1},{"$f":"'H2 Originaldaten'!J350","v":"ford escort 2h"}]
[350,{"$f":"ROUND(MAX(_xlfn.NORM.INV(('Eingabe Email'!$B483+1)/MAX('Eingabe Email'!$B:$B),'H2 Originaldaten'!B351,7),2),1)","v":17.899999999999999},{"$f":"'H2 Originaldaten'!C351","v":4},{"$f":"ROUND(MAX(_xlfn.NORM.INV(('Eingabe Email'!$B483+1)/MAX('Eingabe Email'!$B:$B),'H2 Originaldaten'!D351,7),2),1)","v":89.9},{"$f":"ROUND(MAX(_xlfn.NORM.INV(('Eingabe Email'!$B483+1)/MAX('Eingabe Email'!$B:$B),'H2 Originaldaten'!E351,7),2),1)","v":58.9},{"$f":"ROUND(MAX(_xlfn.NORM.INV(('Eingabe Email'!$B483+1)/MAX('Eingabe Email'!$B:$B),'H2 Originaldaten'!F351,7),2),1)","v":2174.9},{"$f":"ROUND(MAX(_xlfn.NORM.INV(('Eingabe Email'!$B483+1)/MAX('Eingabe Email'!$B:$B),'H2 Originaldaten'!G351,7),2),1)","v":2},{"$f":"'H2 Originaldaten'!H351","v":81},{"$f":"'H2 Originaldaten'!I351","v":2},{"$f":"'H2 Originaldaten'!J351","v":"volkswagen jetta"}]
[351,{"$f":"ROUND(MAX(_xlfn.NORM.INV(('Eingabe Email'!$B484+1)/MAX('Eingabe Email'!$B:$B),'H2 Originaldaten'!B352,7),2),1)","v":15.9},{"$f":"'H2 Originaldaten'!C352","v":4},{"$f":"ROUND(MAX(_xlfn.NORM.INV(('Eingabe Email'!$B484+1)/MAX('Eingabe Email'!$B:$B),'H2 Originaldaten'!D352,7),2),1)","v":89.2},{"$f":"ROUND(MAX(_xlfn.NORM.INV(('Eingabe Email'!$B484+1)/MAX('Eingabe Email'!$B:$B),'H2 Originaldaten'!E352,7),2),1)","v":57.2},{"$f":"ROUND(MAX(_xlfn.NORM.INV(('Eingabe Email'!$B484+1)/MAX('Eingabe Email'!$B:$B),'H2 Originaldaten'!F352,7),2),1)","v":2192.1999999999998},{"$f":"ROUND(MAX(_xlfn.NORM.INV(('Eingabe Email'!$B484+1)/MAX('Eingabe Email'!$B:$B),'H2 Originaldaten'!G352,7),2),1)","v":2},{"$f":"'H2 Originaldaten'!H352","v":81},{"$f":"'H2 Originaldaten'!I352","v":3},{"$f":"'H2 Originaldaten'!J352","v":"honda prelude"}]
[352,{"$f":"ROUND(MAX(_xlfn.NORM.INV(('Eingabe Email'!$B485+1)/MAX('Eingabe Email'!$B:$B),'H2 Originaldaten'!B353,7),2),1)","v":31.6},{"$f":"'H2 Originaldaten'!C353","v":4},{"$f":"ROUND(MAX(_xlfn.NORM.INV(('Eingabe Email'!$B485+1)/MAX('Eingabe Email'!$B:$B),'H2 Originaldaten'!D353,7),2),1)","v":107.2},{"$f":"ROUND(MAX(_xlfn.NORM.INV(('Eingabe Email'!$B485+1)/MAX('Eingabe Email'!$B:$B),'H2 Originaldaten'!E353,7),2),1)","v":74.2},{"$f":"ROUND(MAX(_xlfn.NORM.INV(('Eingabe Email'!$B485+1)/MAX('Eingabe Email'!$B:$B),'H2 Originaldaten'!F353,7),2),1)","v":2349.1999999999998},{"$f":"ROUND(MAX(_xlfn.NORM.INV(('Eingabe Email'!$B485+1)/MAX('Eingabe Email'!$B:$B),'H2 Originaldaten'!G353,7),2),1)","v":16},{"$f":"'H2 Originaldaten'!H353","v":81},{"$f":"'H2 Originaldaten'!I353","v":3},{"$f":"'H2 Originaldaten'!J353","v":"toyota corolla"}]
[353,{"$f":"ROUND(MAX(_xlfn.NORM.INV(('Eingabe Email'!$B486+1)/MAX('Eingabe Email'!$B:$B),'H2 Originaldaten'!B354,7),2),1)","v":31.9},{"$f":"'H2 Originaldaten'!C354","v":4},{"$f":"ROUND(MAX(_xlfn.NORM.INV(('Eingabe Email'!$B486+1)/MAX('Eingabe Email'!$B:$B),'H2 Originaldaten'!D354,7),2),1)","v":118},{"$f":"ROUND(MAX(_xlfn.NORM.INV(('Eingabe Email'!$B486+1)/MAX('Eingabe Email'!$B:$B),'H2 Originaldaten'!E354,7),2),1)","v":99},{"$f":"ROUND(MAX(_xlfn.NORM.INV(('Eingabe Email'!$B486+1)/MAX('Eingabe Email'!$B:$B),'H2 Originaldaten'!F354,7),2),1)","v":2614},{"$f":"ROUND(MAX(_xlfn.NORM.INV(('Eingabe Email'!$B486+1)/MAX('Eingabe Email'!$B:$B),'H2 Originaldaten'!G354,7),2),1)","v":13.8},{"$f":"'H2 Originaldaten'!H354","v":81},{"$f":"'H2 Originaldaten'!I354","v":3},{"$f":"'H2 Originaldaten'!J354","v":"datsun 200sx"}]
[354,{"$f":"ROUND(MAX(_xlfn.NORM.INV(('Eingabe Email'!$B487+1)/MAX('Eingabe Email'!$B:$B),'H2 Originaldaten'!B355,7),2),1)","v":12.8},{"$f":"'H2 Originaldaten'!C355","v":4},{"$f":"ROUND(MAX(_xlfn.NORM.INV(('Eingabe Email'!$B487+1)/MAX('Eingabe Email'!$B:$B),'H2 Originaldaten'!D355,7),2),1)","v":101.2},{"$f":"ROUND(MAX(_xlfn.NORM.INV(('Eingabe Email'!$B487+1)/MAX('Eingabe Email'!$B:$B),'H2 Originaldaten'!E355,7),2),1)","v":55.2},{"$f":"ROUND(MAX(_xlfn.NORM.INV(('Eingabe Email'!$B487+1)/MAX('Eingabe Email'!$B:$B),'H2 Originaldaten'!F355,7),2),1)","v":2616.1999999999998},{"$f":"ROUND(MAX(_xlfn.NORM.INV(('Eingabe Email'!$B487+1)/MAX('Eingabe Email'!$B:$B),'H2 Originaldaten'!G355,7),2),1)","v":2},{"$f":"'H2 Originaldaten'!H355","v":81},{"$f":"'H2 Originaldaten'!I355","v":3},{"$f":"'H2 Originaldaten'!J355","v":"mazda 626"}]
[355,{"$f":"ROUND(MAX(_xlfn.NORM.INV(('Eingabe Email'!$B488+1)/MAX('Eingabe Email'!$B:$B),'H2 Originaldaten'!B356,7),2),1)","v":41},{"$f":"'H2 Originaldaten'!C356","v":4},{"$f":"ROUND(MAX(_xlfn.NORM.INV(('Eingabe Email'!$B488+1)/MAX('Eingabe Email'!$B:$B),'H2 Originaldaten'!D356,7),2),1)","v":153.9},{"$f":"ROUND(MAX(_xlfn.NORM.INV(('Eingabe Email'!$B488+1)/MAX('Eingabe Email'!$B:$B),'H2 Originaldaten'!E356,7),2),1)","v":92.9},{"$f":"ROUND(MAX(_xlfn.NORM.INV(('Eingabe Email'!$B488+1)/MAX('Eingabe Email'!$B:$B),'H2 Originaldaten'!F356,7),2),1)","v":3242.9},{"$f":"ROUND(MAX(_xlfn.NORM.INV(('Eingabe Email'!$B488+1)/MAX('Eingabe Email'!$B:$B),'H2 Originaldaten'!G356,7),2),1)","v":33.299999999999997},{"$f":"'H2 Originaldaten'!H356","v":81},{"$f":"'H2 Originaldaten'!I356","v":2},{"$f":"'H2 Originaldaten'!J356","v":"peugeot 505s turbo diesel"}]
[356,{"$f":"ROUND(MAX(_xlfn.NORM.INV(('Eingabe Email'!$B489+1)/MAX('Eingabe Email'!$B:$B),'H2 Originaldaten'!B357,7),2),1)","v":31.1},{"$f":"'H2 Originaldaten'!C357","v":6},{"$f":"ROUND(MAX(_xlfn.NORM.INV(('Eingabe Email'!$B489+1)/MAX('Eingabe Email'!$B:$B),'H2 Originaldaten'!D357,7),2),1)","v":145.4},{"$f":"ROUND(MAX(_xlfn.NORM.INV(('Eingabe Email'!$B489+1)/MAX('Eingabe Email'!$B:$B),'H2 Originaldaten'!E357,7),2),1)","v":76.400000000000006},{"$f":"ROUND(MAX(_xlfn.NORM.INV(('Eingabe Email'!$B489+1)/MAX('Eingabe Email'!$B:$B),'H2 Originaldaten'!F357,7),2),1)","v":3160.4},{"$f":"ROUND(MAX(_xlfn.NORM.INV(('Eingabe Email'!$B489+1)/MAX('Eingabe Email'!$B:$B),'H2 Originaldaten'!G357,7),2),1)","v":20},{"$f":"'H2 Originaldaten'!H357","v":81},{"$f":"'H2 Originaldaten'!I357","v":2},{"$f":"'H2 Originaldaten'!J357","v":"volvo diesel"}]
[357,{"$f":"ROUND(MAX(_xlfn.NORM.INV(('Eingabe Email'!$B490+1)/MAX('Eingabe Email'!$B:$B),'H2 Originaldaten'!B358,7),2),1)","v":14.2},{"$f":"'H2 Originaldaten'!C358","v":6},{"$f":"ROUND(MAX(_xlfn.NORM.INV(('Eingabe Email'!$B490+1)/MAX('Eingabe Email'!$B:$B),'H2 Originaldaten'!D358,7),2),1)","v":156.80000000000001},{"$f":"ROUND(MAX(_xlfn.NORM.INV(('Eingabe Email'!$B490+1)/MAX('Eingabe Email'!$B:$B),'H2 Originaldaten'!E358,7),2),1)","v":104.8},{"$f":"ROUND(MAX(_xlfn.NORM.INV(('Eingabe Email'!$B490+1)/MAX('Eingabe Email'!$B:$B),'H2 Originaldaten'!F358,7),2),1)","v":2888.8},{"$f":"ROUND(MAX(_xlfn.NORM.INV(('Eingabe Email'!$B490+1)/MAX('Eingabe Email'!$B:$B),'H2 Originaldaten'!G358,7),2),1)","v":2},{"$f":"'H2 Originaldaten'!H358","v":81},{"$f":"'H2 Originaldaten'!I358","v":3},{"$f":"'H2 Originaldaten'!J358","v":"toyota cressida"}]
[358,{"$f":"ROUND(MAX(_xlfn.NORM.INV(('Eingabe Email'!$B491+1)/MAX('Eingabe Email'!$B:$B),'H2 Originaldaten'!B359,7),2),1)","v":18.2},{"$f":"'H2 Originaldaten'!C359","v":6},{"$f":"ROUND(MAX(_xlfn.NORM.INV(('Eingabe Email'!$B491+1)/MAX('Eingabe Email'!$B:$B),'H2 Originaldaten'!D359,7),2),1)","v":140},{"$f":"ROUND(MAX(_xlfn.NORM.INV(('Eingabe Email'!$B491+1)/MAX('Eingabe Email'!$B:$B),'H2 Originaldaten'!E359,7),2),1)","v":114},{"$f":"ROUND(MAX(_xlfn.NORM.INV(('Eingabe Email'!$B491+1)/MAX('Eingabe Email'!$B:$B),'H2 Originaldaten'!F359,7),2),1)","v":2924},{"$f":"ROUND(MAX(_xlfn.NORM.INV(('Eingabe Email'!$B491+1)/MAX('Eingabe Email'!$B:$B),'H2 Originaldaten'!G359,7),2),1)","v":7.8},{"$f":"'H2 Originaldaten'!H359","v":81},{"$f":"'H2 Originaldaten'!I359","v":3},{"$f":"'H2 Originaldaten'!J359","v":"datsun 810 maxima"}]
[359,{"$f":"ROUND(MAX(_xlfn.NORM.INV(('Eingabe Email'!$B492+1)/MAX('Eingabe Email'!$B:$B),'H2 Originaldaten'!B360,7),2),1)","v":17.399999999999999},{"$f":"'H2 Originaldaten'!C360","v":6},{"$f":"ROUND(MAX(_xlfn.NORM.INV(('Eingabe Email'!$B492+1)/MAX('Eingabe Email'!$B:$B),'H2 Originaldaten'!D360,7),2),1)","v":226},{"$f":"ROUND(MAX(_xlfn.NORM.INV(('Eingabe Email'!$B492+1)/MAX('Eingabe Email'!$B:$B),'H2 Originaldaten'!E360,7),2),1)","v":105},{"$f":"ROUND(MAX(_xlfn.NORM.INV(('Eingabe Email'!$B492+1)/MAX('Eingabe Email'!$B:$B),'H2 Originaldaten'!F360,7),2),1)","v":3410},{"$f":"ROUND(MAX(_xlfn.NORM.INV(('Eingabe Email'!$B492+1)/MAX('Eingabe Email'!$B:$B),'H2 Originaldaten'!G360,7),2),1)","v":10.8},{"$f":"'H2 Originaldaten'!H360","v":81},{"$f":"'H2 Originaldaten'!I360","v":1},{"$f":"'H2 Originaldaten'!J360","v":"buick century"}]
[360,{"$f":"ROUND(MAX(_xlfn.NORM.INV(('Eingabe Email'!$B493+1)/MAX('Eingabe Email'!$B:$B),'H2 Originaldaten'!B361,7),2),1)","v":20.100000000000001},{"$f":"'H2 Originaldaten'!C361","v":8},{"$f":"ROUND(MAX(_xlfn.NORM.INV(('Eingabe Email'!$B493+1)/MAX('Eingabe Email'!$B:$B),'H2 Originaldaten'!D361,7),2),1)","v":343.5},{"$f":"ROUND(MAX(_xlfn.NORM.INV(('Eingabe Email'!$B493+1)/MAX('Eingabe Email'!$B:$B),'H2 Originaldaten'!E361,7),2),1)","v":98.5},{"$f":"ROUND(MAX(_xlfn.NORM.INV(('Eingabe Email'!$B493+1)/MAX('Eingabe Email'!$B:$B),'H2 Originaldaten'!F361,7),2),1)","v":3718.5},{"$f":"ROUND(MAX(_xlfn.NORM.INV(('Eingabe Email'!$B493+1)/MAX('Eingabe Email'!$B:$B),'H2 Originaldaten'!G361,7),2),1)","v":12.5},{"$f":"'H2 Originaldaten'!H361","v":81},{"$f":"'H2 Originaldaten'!I361","v":1},{"$f":"'H2 Originaldaten'!J361","v":"oldsmobile cutlass ls"}]
[361,{"$f":"ROUND(MAX(_xlfn.NORM.INV(('Eingabe Email'!$B494+1)/MAX('Eingabe Email'!$B:$B),'H2 Originaldaten'!B362,7),2),1)","v":19},{"$f":"'H2 Originaldaten'!C362","v":6},{"$f":"ROUND(MAX(_xlfn.NORM.INV(('Eingabe Email'!$B494+1)/MAX('Eingabe Email'!$B:$B),'H2 Originaldaten'!D362,7),2),1)","v":198.8},{"$f":"ROUND(MAX(_xlfn.NORM.INV(('Eingabe Email'!$B494+1)/MAX('Eingabe Email'!$B:$B),'H2 Originaldaten'!E362,7),2),1)","v":86.8},{"$f":"ROUND(MAX(_xlfn.NORM.INV(('Eingabe Email'!$B494+1)/MAX('Eingabe Email'!$B:$B),'H2 Originaldaten'!F362,7),2),1)","v":3058.8},{"$f":"ROUND(MAX(_xlfn.NORM.INV(('Eingabe Email'!$B494+1)/MAX('Eingabe Email'!$B:$B),'H2 Originaldaten'!G362,7),2),1)","v":15.9},{"$f":"'H2 Originaldaten'!H362","v":81},{"$f":"'H2 Originaldaten'!I362","v":1},{"$f":"'H2 Originaldaten'!J362","v":"ford granada gl"}]
[362,{"$f":"ROUND(MAX(_xlfn.NORM.INV(('Eingabe Email'!$B495+1)/MAX('Eingabe Email'!$B:$B),'H2 Originaldaten'!B363,7),2),1)","v":17.100000000000001},{"$f":"'H2 Originaldaten'!C363","v":6},{"$f":"ROUND(MAX(_xlfn.NORM.INV(('Eingabe Email'!$B495+1)/MAX('Eingabe Email'!$B:$B),'H2 Originaldaten'!D363,7),2),1)","v":224.5},{"$f":"ROUND(MAX(_xlfn.NORM.INV(('Eingabe Email'!$B495+1)/MAX('Eingabe Email'!$B:$B),'H2 Originaldaten'!E363,7),2),1)","v":84.5},{"$f":"ROUND(MAX(_xlfn.NORM.INV(('Eingabe Email'!$B495+1)/MAX('Eingabe Email'!$B:$B),'H2 Originaldaten'!F363,7),2),1)","v":3464.5},{"$f":"ROUND(MAX(_xlfn.NORM.INV(('Eingabe Email'!$B495+1)/MAX('Eingabe Email'!$B:$B),'H2 Originaldaten'!G363,7),2),1)","v":16.100000000000001},{"$f":"'H2 Originaldaten'!H363","v":81},{"$f":"'H2 Originaldaten'!I363","v":1},{"$f":"'H2 Originaldaten'!J363","v":"chrysler lebaron salon"}]
[363,{"$f":"ROUND(MAX(_xlfn.NORM.INV(('Eingabe Email'!$B496+1)/MAX('Eingabe Email'!$B:$B),'H2 Originaldaten'!B364,7),2),1)","v":41.4},{"$f":"'H2 Originaldaten'!C364","v":4},{"$f":"ROUND(MAX(_xlfn.NORM.INV(('Eingabe Email'!$B496+1)/MAX('Eingabe Email'!$B:$B),'H2 Originaldaten'!D364,7),2),1)","v":125.4},{"$f":"ROUND(MAX(_xlfn.NORM.INV(('Eingabe Email'!$B496+1)/MAX('Eingabe Email'!$B:$B),'H2 Originaldaten'!E364,7),2),1)","v":101.4},{"$f":"ROUND(MAX(_xlfn.NORM.INV(('Eingabe Email'!$B496+1)/MAX('Eingabe Email'!$B:$B),'H2 Originaldaten'!F364,7),2),1)","v":2618.4},{"$f":"ROUND(MAX(_xlfn.NORM.INV(('Eingabe Email'!$B496+1)/MAX('Eingabe Email'!$B:$B),'H2 Originaldaten'!G364,7),2),1)","v":33},{"$f":"'H2 Originaldaten'!H364","v":82},{"$f":"'H2 Originaldaten'!I364","v":1},{"$f":"'H2 Originaldaten'!J364","v":"chevrolet cavalier"}]
[364,{"$f":"ROUND(MAX(_xlfn.NORM.INV(('Eingabe Email'!$B497+1)/MAX('Eingabe Email'!$B:$B),'H2 Originaldaten'!B365,7),2),1)","v":30},{"$f":"'H2 Originaldaten'!C365","v":4},{"$f":"ROUND(MAX(_xlfn.NORM.INV(('Eingabe Email'!$B497+1)/MAX('Eingabe Email'!$B:$B),'H2 Originaldaten'!D365,7),2),1)","v":115},{"$f":"ROUND(MAX(_xlfn.NORM.INV(('Eingabe Email'!$B497+1)/MAX('Eingabe Email'!$B:$B),'H2 Originaldaten'!E365,7),2),1)","v":91},{"$f":"ROUND(MAX(_xlfn.NORM.INV(('Eingabe Email'!$B497+1)/MAX('Eingabe Email'!$B:$B),'H2 Originaldaten'!F365,7),2),1)","v":2643},{"$f":"ROUND(MAX(_xlfn.NORM.INV(('Eingabe Email'!$B497+1)/MAX('Eingabe Email'!$B:$B),'H2 Originaldaten'!G365,7),2),1)","v":21.6},{"$f":"'H2 Originaldaten'!H365","v":82},{"$f":"'H2 Originaldaten'!I365","v":1},{"$f":"'H2 Originaldaten'!J365","v":"chevrolet cavalier wagon"}]
[365,{"$f":"ROUND(MAX(_xlfn.NORM.INV(('Eingabe Email'!$B498+1)/MAX('Eingabe Email'!$B:$B),'H2 Originaldaten'!B366,7),2),1)","v":39.5},{"$f":"'H2 Originaldaten'!C366","v":4},{"$f":"ROUND(MAX(_xlfn.NORM.INV(('Eingabe Email'!$B498+1)/MAX('Eingabe Email'!$B:$B),'H2 Originaldaten'!D366,7),2),1)","v":117.5},{"$f":"ROUND(MAX(_xlfn.NORM.INV(('Eingabe Email'!$B498+1)/MAX('Eingabe Email'!$B:$B),'H2 Originaldaten'!E366,7),2),1)","v":93.5},{"$f":"ROUND(MAX(_xlfn.NORM.INV(('Eingabe Email'!$B498+1)/MAX('Eingabe Email'!$B:$B),'H2 Originaldaten'!F366,7),2),1)","v":2400.5},{"$f":"ROUND(MAX(_xlfn.NORM.INV(('Eingabe Email'!$B498+1)/MAX('Eingabe Email'!$B:$B),'H2 Originaldaten'!G366,7),2),1)","v":23.5},{"$f":"'H2 Originaldaten'!H366","v":82},{"$f":"'H2 Originaldaten'!I366","v":1},{"$f":"'H2 Originaldaten'!J366","v":"chevrolet cavalier 2-door"}]
[366,{"$f":"ROUND(MAX(_xlfn.NORM.INV(('Eingabe Email'!$B499+1)/MAX('Eingabe Email'!$B:$B),'H2 Originaldaten'!B367,7),2),1)","v":26},{"$f":"'H2 Originaldaten'!C367","v":4},{"$f":"ROUND(MAX(_xlfn.NORM.INV(('Eingabe Email'!$B499+1)/MAX('Eingabe Email'!$B:$B),'H2 Originaldaten'!D367,7),2),1)","v":107},{"$f":"ROUND(MAX(_xlfn.NORM.INV(('Eingabe Email'!$B499+1)/MAX('Eingabe Email'!$B:$B),'H2 Originaldaten'!E367,7),2),1)","v":80},{"$f":"ROUND(MAX(_xlfn.NORM.INV(('Eingabe Email'!$B499+1)/MAX('Eingabe Email'!$B:$B),'H2 Originaldaten'!F367,7),2),1)","v":2570},{"$f":"ROUND(MAX(_xlfn.NORM.INV(('Eingabe Email'!$B499+1)/MAX('Eingabe Email'!$B:$B),'H2 Originaldaten'!G367,7),2),1)","v":11.2},{"$f":"'H2 Originaldaten'!H367","v":82},{"$f":"'H2 Originaldaten'!I367","v":1},{"$f":"'H2 Originaldaten'!J367","v":"pontiac j2000 se hatchback"}]
[367,{"$f":"ROUND(MAX(_xlfn.NORM.INV(('Eingabe Email'!$B500+1)/MAX('Eingabe Email'!$B:$B),'H2 Originaldaten'!B368,7),2),1)","v":20.3},{"$f":"'H2 Originaldaten'!C368","v":4},{"$f":"ROUND(MAX(_xlfn.NORM.INV(('Eingabe Email'!$B500+1)/MAX('Eingabe Email'!$B:$B),'H2 Originaldaten'!D368,7),2),1)","v":126.3},{"$f":"ROUND(MAX(_xlfn.NORM.INV(('Eingabe Email'!$B500+1)/MAX('Eingabe Email'!$B:$B),'H2 Originaldaten'!E368,7),2),1)","v":75.3},{"$f":"ROUND(MAX(_xlfn.NORM.INV(('Eingabe Email'!$B500+1)/MAX('Eingabe Email'!$B:$B),'H2 Originaldaten'!F368,7),2),1)","v":2516.3000000000002},{"$f":"ROUND(MAX(_xlfn.NORM.INV(('Eingabe Email'!$B500+1)/MAX('Eingabe Email'!$B:$B),'H2 Originaldaten'!G368,7),2),1)","v":7.3},{"$f":"'H2 Originaldaten'!H368","v":82},{"$f":"'H2 Originaldaten'!I368","v":1},{"$f":"'H2 Originaldaten'!J368","v":"dodge aries se"}]
[368,{"$f":"ROUND(MAX(_xlfn.NORM.INV(('Eingabe Email'!$B501+1)/MAX('Eingabe Email'!$B:$B),'H2 Originaldaten'!B369,7),2),1)","v":38.4},{"$f":"'H2 Originaldaten'!C369","v":4},{"$f":"ROUND(MAX(_xlfn.NORM.INV(('Eingabe Email'!$B501+1)/MAX('Eingabe Email'!$B:$B),'H2 Originaldaten'!D369,7),2),1)","v":162.4},{"$f":"ROUND(MAX(_xlfn.NORM.INV(('Eingabe Email'!$B501+1)/MAX('Eingabe Email'!$B:$B),'H2 Originaldaten'!E369,7),2),1)","v":101.4},{"$f":"ROUND(MAX(_xlfn.NORM.INV(('Eingabe Email'!$B501+1)/MAX('Eingabe Email'!$B:$B),'H2 Originaldaten'!F369,7),2),1)","v":2746.4},{"$f":"ROUND(MAX(_xlfn.NORM.INV(('Eingabe Email'!$B501+1)/MAX('Eingabe Email'!$B:$B),'H2 Originaldaten'!G369,7),2),1)","v":29.4},{"$f":"'H2 Originaldaten'!H369","v":82},{"$f":"'H2 Originaldaten'!I369","v":1},{"$f":"'H2 Originaldaten'!J369","v":"pontiac phoenix"}]
[369,{"$f":"ROUND(MAX(_xlfn.NORM.INV(('Eingabe Email'!$B502+1)/MAX('Eingabe Email'!$B:$B),'H2 Originaldaten'!B370,7),2),1)","v":19.8},{"$f":"'H2 Originaldaten'!C370","v":4},{"$f":"ROUND(MAX(_xlfn.NORM.INV(('Eingabe Email'!$B502+1)/MAX('Eingabe Email'!$B:$B),'H2 Originaldaten'!D370,7),2),1)","v":135.80000000000001},{"$f":"ROUND(MAX(_xlfn.NORM.INV(('Eingabe Email'!$B502+1)/MAX('Eingabe Email'!$B:$B),'H2 Originaldaten'!E370,7),2),1)","v":87.8},{"$f":"ROUND(MAX(_xlfn.NORM.INV(('Eingabe Email'!$B502+1)/MAX('Eingabe Email'!$B:$B),'H2 Originaldaten'!F370,7),2),1)","v":2860.8},{"$f":"ROUND(MAX(_xlfn.NORM.INV(('Eingabe Email'!$B502+1)/MAX('Eingabe Email'!$B:$B),'H2 Originaldaten'!G370,7),2),1)","v":12.2},{"$f":"'H2 Originaldaten'!H370","v":82},{"$f":"'H2 Originaldaten'!I370","v":1},{"$f":"'H2 Originaldaten'!J370","v":"ford fairmont futura"}]
[370,{"$f":"ROUND(MAX(_xlfn.NORM.INV(('Eingabe Email'!$B503+1)/MAX('Eingabe Email'!$B:$B),'H2 Originaldaten'!B371,7),2),1)","v":33.6},{"$f":"'H2 Originaldaten'!C371","v":4},{"$f":"ROUND(MAX(_xlfn.NORM.INV(('Eingabe Email'!$B503+1)/MAX('Eingabe Email'!$B:$B),'H2 Originaldaten'!D371,7),2),1)","v":102.6},{"$f":"ROUND(MAX(_xlfn.NORM.INV(('Eingabe Email'!$B503+1)/MAX('Eingabe Email'!$B:$B),'H2 Originaldaten'!E371,7),2),1)","v":71.599999999999994},{"$f":"ROUND(MAX(_xlfn.NORM.INV(('Eingabe Email'!$B503+1)/MAX('Eingabe Email'!$B:$B),'H2 Originaldaten'!F371,7),2),1)","v":1977.6},{"$f":"ROUND(MAX(_xlfn.NORM.INV(('Eingabe Email'!$B503+1)/MAX('Eingabe Email'!$B:$B),'H2 Originaldaten'!G371,7),2),1)","v":12.9},{"$f":"'H2 Originaldaten'!H371","v":82},{"$f":"'H2 Originaldaten'!I371","v":2},{"$f":"'H2 Originaldaten'!J371","v":"volkswagen rabbit l"}]
[371,{"$f":"ROUND(MAX(_xlfn.NORM.INV(('Eingabe Email'!$B504+1)/MAX('Eingabe Email'!$B:$B),'H2 Originaldaten'!B372,7),2),1)","v":30.9},{"$f":"'H2 Originaldaten'!C372","v":4},{"$f":"ROUND(MAX(_xlfn.NORM.INV(('Eingabe Email'!$B504+1)/MAX('Eingabe Email'!$B:$B),'H2 Originaldaten'!D372,7),2),1)","v":84.9},{"$f":"ROUND(MAX(_xlfn.NORM.INV(('Eingabe Email'!$B504+1)/MAX('Eingabe Email'!$B:$B),'H2 Originaldaten'!E372,7),2),1)","v":61.9},{"$f":"ROUND(MAX(_xlfn.NORM.INV(('Eingabe Email'!$B504+1)/MAX('Eingabe Email'!$B:$B),'H2 Originaldaten'!F372,7),2),1)","v":2018.9},{"$f":"ROUND(MAX(_xlfn.NORM.INV(('Eingabe Email'!$B504+1)/MAX('Eingabe Email'!$B:$B),'H2 Originaldaten'!G372,7),2),1)","v":12.1},{"$f":"'H2 Originaldaten'!H372","v":82},{"$f":"'H2 Originaldaten'!I372","v":3},{"$f":"'H2 Originaldaten'!J372","v":"mazda glc custom l"}]
[372,{"$f":"ROUND(MAX(_xlfn.NORM.INV(('Eingabe Email'!$B505+1)/MAX('Eingabe Email'!$B:$B),'H2 Originaldaten'!B373,7),2),1)","v":28.8},{"$f":"'H2 Originaldaten'!C373","v":4},{"$f":"ROUND(MAX(_xlfn.NORM.INV(('Eingabe Email'!$B505+1)/MAX('Eingabe Email'!$B:$B),'H2 Originaldaten'!D373,7),2),1)","v":88.8},{"$f":"ROUND(MAX(_xlfn.NORM.INV(('Eingabe Email'!$B505+1)/MAX('Eingabe Email'!$B:$B),'H2 Originaldaten'!E373,7),2),1)","v":65.8},{"$f":"ROUND(MAX(_xlfn.NORM.INV(('Eingabe Email'!$B505+1)/MAX('Eingabe Email'!$B:$B),'H2 Originaldaten'!F373,7),2),1)","v":1967.8},{"$f":"ROUND(MAX(_xlfn.NORM.INV(('Eingabe Email'!$B505+1)/MAX('Eingabe Email'!$B:$B),'H2 Originaldaten'!G373,7),2),1)","v":15.4},{"$f":"'H2 Originaldaten'!H373","v":82},{"$f":"'H2 Originaldaten'!I373","v":3},{"$f":"'H2 Originaldaten'!J373","v":"mazda glc custom"}]
[373,{"$f":"ROUND(MAX(_xlfn.NORM.INV(('Eingabe Email'!$B506+1)/MAX('Eingabe Email'!$B:$B),'H2 Originaldaten'!B374,7),2),1)","v":35.1},{"$f":"'H2 Originaldaten'!C374","v":4},{"$f":"ROUND(MAX(_xlfn.NORM.INV(('Eingabe Email'!$B506+1)/MAX('Eingabe Email'!$B:$B),'H2 Originaldaten'!D374,7),2),1)","v":102.1},{"$f":"ROUND(MAX(_xlfn.NORM.INV(('Eingabe Email'!$B506+1)/MAX('Eingabe Email'!$B:$B),'H2 Originaldaten'!E374,7),2),1)","v":60.1},{"$f":"ROUND(MAX(_xlfn.NORM.INV(('Eingabe Email'!$B506+1)/MAX('Eingabe Email'!$B:$B),'H2 Originaldaten'!F374,7),2),1)","v":2122.1},{"$f":"ROUND(MAX(_xlfn.NORM.INV(('Eingabe Email'!$B506+1)/MAX('Eingabe Email'!$B:$B),'H2 Originaldaten'!G374,7),2),1)","v":11.8},{"$f":"'H2 Originaldaten'!H374","v":82},{"$f":"'H2 Originaldaten'!I374","v":1},{"$f":"'H2 Originaldaten'!J374","v":"plymouth horizon miser"}]
[374,{"$f":"ROUND(MAX(_xlfn.NORM.INV(('Eingabe Email'!$B507+1)/MAX('Eingabe Email'!$B:$B),'H2 Originaldaten'!B375,7),2),1)","v":31.8},{"$f":"'H2 Originaldaten'!C375","v":4},{"$f":"ROUND(MAX(_xlfn.NORM.INV(('Eingabe Email'!$B507+1)/MAX('Eingabe Email'!$B:$B),'H2 Originaldaten'!D375,7),2),1)","v":93.8},{"$f":"ROUND(MAX(_xlfn.NORM.INV(('Eingabe Email'!$B507+1)/MAX('Eingabe Email'!$B:$B),'H2 Originaldaten'!E375,7),2),1)","v":65.8},{"$f":"ROUND(MAX(_xlfn.NORM.INV(('Eingabe Email'!$B507+1)/MAX('Eingabe Email'!$B:$B),'H2 Originaldaten'!F375,7),2),1)","v":2120.8000000000002},{"$f":"ROUND(MAX(_xlfn.NORM.INV(('Eingabe Email'!$B507+1)/MAX('Eingabe Email'!$B:$B),'H2 Originaldaten'!G375,7),2),1)","v":13.1},{"$f":"'H2 Originaldaten'!H375","v":82},{"$f":"'H2 Originaldaten'!I375","v":1},{"$f":"'H2 Originaldaten'!J375","v":"mercury lynx l"}]
[375,{"$f":"ROUND(MAX(_xlfn.NORM.INV(('Eingabe Email'!$B508+1)/MAX('Eingabe Email'!$B:$B),'H2 Originaldaten'!B376,7),2),1)","v":39.9},{"$f":"'H2 Originaldaten'!C376","v":4},{"$f":"ROUND(MAX(_xlfn.NORM.INV(('Eingabe Email'!$B508+1)/MAX('Eingabe Email'!$B:$B),'H2 Originaldaten'!D376,7),2),1)","v":123.9},{"$f":"ROUND(MAX(_xlfn.NORM.INV(('Eingabe Email'!$B508+1)/MAX('Eingabe Email'!$B:$B),'H2 Originaldaten'!E376,7),2),1)","v":91.9},{"$f":"ROUND(MAX(_xlfn.NORM.INV(('Eingabe Email'!$B508+1)/MAX('Eingabe Email'!$B:$B),'H2 Originaldaten'!F376,7),2),1)","v":2163.9},{"$f":"ROUND(MAX(_xlfn.NORM.INV(('Eingabe Email'!$B508+1)/MAX('Eingabe Email'!$B:$B),'H2 Originaldaten'!G376,7),2),1)","v":18.399999999999999},{"$f":"'H2 Originaldaten'!H376","v":82},{"$f":"'H2 Originaldaten'!I376","v":3},{"$f":"'H2 Originaldaten'!J376","v":"nissan stanza xe"}]
[376,{"$f":"ROUND(MAX(_xlfn.NORM.INV(('Eingabe Email'!$B509+1)/MAX('Eingabe Email'!$B:$B),'H2 Originaldaten'!B377,7),2),1)","v":50.8},{"$f":"'H2 Originaldaten'!C377","v":4},{"$f":"ROUND(MAX(_xlfn.NORM.INV(('Eingabe Email'!$B509+1)/MAX('Eingabe Email'!$B:$B),'H2 Originaldaten'!D377,7),2),1)","v":121.8},{"$f":"ROUND(MAX(_xlfn.NORM.INV(('Eingabe Email'!$B509+1)/MAX('Eingabe Email'!$B:$B),'H2 Originaldaten'!E377,7),2),1)","v":89.8},{"$f":"ROUND(MAX(_xlfn.NORM.INV(('Eingabe Email'!$B509+1)/MAX('Eingabe Email'!$B:$B),'H2 Originaldaten'!F377,7),2),1)","v":2219.8000000000002},{"$f":"ROUND(MAX(_xlfn.NORM.INV(('Eingabe Email'!$B509+1)/MAX('Eingabe Email'!$B:$B),'H2 Originaldaten'!G377,7),2),1)","v":29.3},{"$f":"'H2 Originaldaten'!H377","v":82},{"$f":"'H2 Originaldaten'!I377","v":3},{"$f":"'H2 Originaldaten'!J377","v":"honda accord"}]
[377,{"$f":"ROUND(MAX(_xlfn.NORM.INV(('Eingabe Email'!$B510+1)/MAX('Eingabe Email'!$B:$B),'H2 Originaldaten'!B378,7),2),1)","v":32.5},{"$f":"'H2 Originaldaten'!C378","v":4},{"$f":"ROUND(MAX(_xlfn.NORM.INV(('Eingabe Email'!$B510+1)/MAX('Eingabe Email'!$B:$B),'H2 Originaldaten'!D378,7),2),1)","v":106.5},{"$f":"ROUND(MAX(_xlfn.NORM.INV(('Eingabe Email'!$B510+1)/MAX('Eingabe Email'!$B:$B),'H2 Originaldaten'!E378,7),2),1)","v":68.5},{"$f":"ROUND(MAX(_xlfn.NORM.INV(('Eingabe Email'!$B510+1)/MAX('Eingabe Email'!$B:$B),'H2 Originaldaten'!F378,7),2),1)","v":2243.5},{"$f":"ROUND(MAX(_xlfn.NORM.INV(('Eingabe Email'!$B510+1)/MAX('Eingabe Email'!$B:$B),'H2 Originaldaten'!G378,7),2),1)","v":15.4},{"$f":"'H2 Originaldaten'!H378","v":82},{"$f":"'H2 Originaldaten'!I378","v":3},{"$f":"'H2 Originaldaten'!J378","v":"toyota corolla"}]
[378,{"$f":"ROUND(MAX(_xlfn.NORM.INV(('Eingabe Email'!$B511+1)/MAX('Eingabe Email'!$B:$B),'H2 Originaldaten'!B379,7),2),1)","v":37.1},{"$f":"'H2 Originaldaten'!C379","v":4},{"$f":"ROUND(MAX(_xlfn.NORM.INV(('Eingabe Email'!$B511+1)/MAX('Eingabe Email'!$B:$B),'H2 Originaldaten'!D379,7),2),1)","v":90.1},{"$f":"ROUND(MAX(_xlfn.NORM.INV(('Eingabe Email'!$B511+1)/MAX('Eingabe Email'!$B:$B),'H2 Originaldaten'!E379,7),2),1)","v":66.099999999999994},{"$f":"ROUND(MAX(_xlfn.NORM.INV(('Eingabe Email'!$B511+1)/MAX('Eingabe Email'!$B:$B),'H2 Originaldaten'!F379,7),2),1)","v":1964.1},{"$f":"ROUND(MAX(_xlfn.NORM.INV(('Eingabe Email'!$B511+1)/MAX('Eingabe Email'!$B:$B),'H2 Originaldaten'!G379,7),2),1)","v":14.1},{"$f":"'H2 Originaldaten'!H379","v":82},{"$f":"'H2 Originaldaten'!I379","v":3},{"$f":"'H2 Originaldaten'!J379","v":"honda civic"}]
[379,{"$f":"ROUND(MAX(_xlfn.NORM.INV(('Eingabe Email'!$B512+1)/MAX('Eingabe Email'!$B:$B),'H2 Originaldaten'!B380,7),2),1)","v":44.5},{"$f":"'H2 Originaldaten'!C380","v":4},{"$f":"ROUND(MAX(_xlfn.NORM.INV(('Eingabe Email'!$B512+1)/MAX('Eingabe Email'!$B:$B),'H2 Originaldaten'!D380,7),2),1)","v":103.5},{"$f":"ROUND(MAX(_xlfn.NORM.INV(('Eingabe Email'!$B512+1)/MAX('Eingabe Email'!$B:$B),'H2 Originaldaten'!E380,7),2),1)","v":79.5},{"$f":"ROUND(MAX(_xlfn.NORM.INV(('Eingabe Email'!$B512+1)/MAX('Eingabe Email'!$B:$B),'H2 Originaldaten'!F380,7),2),1)","v":1977.5},{"$f":"ROUND(MAX(_xlfn.NORM.INV(('Eingabe Email'!$B512+1)/MAX('Eingabe Email'!$B:$B),'H2 Originaldaten'!G380,7),2),1)","v":28.2},{"$f":"'H2 Originaldaten'!H380","v":82},{"$f":"'H2 Originaldaten'!I380","v":3},{"$f":"'H2 Originaldaten'!J380","v":"honda civic (auto)"}]
[380,{"$f":"ROUND(MAX(_xlfn.NORM.INV(('Eingabe Email'!$B513+1)/MAX('Eingabe Email'!$B:$B),'H2 Originaldaten'!B381,7),2),1)","v":34},{"$f":"'H2 Originaldaten'!C381","v":4},{"$f":"ROUND(MAX(_xlfn.NORM.INV(('Eingabe Email'!$B513+1)/MAX('Eingabe Email'!$B:$B),'H2 Originaldaten'!D381,7),2),1)","v":87},{"$f":"ROUND(MAX(_xlfn.NORM.INV(('Eingabe Email'!$B513+1)/MAX('Eingabe Email'!$B:$B),'H2 Originaldaten'!E381,7),2),1)","v":63},{"$f":"ROUND(MAX(_xlfn.NORM.INV(('Eingabe Email'!$B513+1)/MAX('Eingabe Email'!$B:$B),'H2 Originaldaten'!F381,7),2),1)","v":1991},{"$f":"ROUND(MAX(_xlfn.NORM.INV(('Eingabe Email'!$B513+1)/MAX('Eingabe Email'!$B:$B),'H2 Originaldaten'!G381,7),2),1)","v":12.2},{"$f":"'H2 Originaldaten'!H381","v":82},{"$f":"'H2 Originaldaten'!I381","v":3},{"$f":"'H2 Originaldaten'!J381","v":"datsun 310 gx"}]
[381,{"$f":"ROUND(MAX(_xlfn.NORM.INV(('Eingabe Email'!$B514+1)/MAX('Eingabe Email'!$B:$B),'H2 Originaldaten'!B382,7),2),1)","v":21.1},{"$f":"'H2 Originaldaten'!C382","v":6},{"$f":"ROUND(MAX(_xlfn.NORM.INV(('Eingabe Email'!$B514+1)/MAX('Eingabe Email'!$B:$B),'H2 Originaldaten'!D382,7),2),1)","v":177.1},{"$f":"ROUND(MAX(_xlfn.NORM.INV(('Eingabe Email'!$B514+1)/MAX('Eingabe Email'!$B:$B),'H2 Originaldaten'!E382,7),2),1)","v":106.1},{"$f":"ROUND(MAX(_xlfn.NORM.INV(('Eingabe Email'!$B514+1)/MAX('Eingabe Email'!$B:$B),'H2 Originaldaten'!F382,7),2),1)","v":2941.1},{"$f":"ROUND(MAX(_xlfn.NORM.INV(('Eingabe Email'!$B514+1)/MAX('Eingabe Email'!$B:$B),'H2 Originaldaten'!G382,7),2),1)","v":12.5},{"$f":"'H2 Originaldaten'!H382","v":82},{"$f":"'H2 Originaldaten'!I382","v":1},{"$f":"'H2 Originaldaten'!J382","v":"buick century limited"}]
[382,{"$f":"ROUND(MAX(_xlfn.NORM.INV(('Eingabe Email'!$B515+1)/MAX('Eingabe Email'!$B:$B),'H2 Originaldaten'!B383,7),2),1)","v":28},{"$f":"'H2 Originaldaten'!C383","v":6},{"$f":"ROUND(MAX(_xlfn.NORM.INV(('Eingabe Email'!$B515+1)/MAX('Eingabe Email'!$B:$B),'H2 Originaldaten'!D383,7),2),1)","v":252},{"$f":"ROUND(MAX(_xlfn.NORM.INV(('Eingabe Email'!$B515+1)/MAX('Eingabe Email'!$B:$B),'H2 Originaldaten'!E383,7),2),1)","v":75},{"$f":"ROUND(MAX(_xlfn.NORM.INV(('Eingabe Email'!$B515+1)/MAX('Eingabe Email'!$B:$B),'H2 Originaldaten'!F383,7),2),1)","v":3005},{"$f":"ROUND(MAX(_xlfn.NORM.INV(('Eingabe Email'!$B515+1)/MAX('Eingabe Email'!$B:$B),'H2 Originaldaten'!G383,7),2),1)","v":7},{"$f":"'H2 Originaldaten'!H383","v":82},{"$f":"'H2 Originaldaten'!I383","v":1},{"$f":"'H2 Originaldaten'!J383","v":"oldsmobile cutlass ciera (diesel)"}]
[383,{"$f":"ROUND(MAX(_xlfn.NORM.INV(('Eingabe Email'!$B516+1)/MAX('Eingabe Email'!$B:$B),'H2 Originaldaten'!B384,7),2),1)","v":12.1},{"$f":"'H2 Originaldaten'!C384","v":4},{"$f":"ROUND(MAX(_xlfn.NORM.INV(('Eingabe Email'!$B516+1)/MAX('Eingabe Email'!$B:$B),'H2 Originaldaten'!D384,7),2),1)","v":142.1},{"$f":"ROUND(MAX(_xlfn.NORM.INV(('Eingabe Email'!$B516+1)/MAX('Eingabe Email'!$B:$B),'H2 Originaldaten'!E384,7),2),1)","v":78.099999999999994},{"$f":"ROUND(MAX(_xlfn.NORM.INV(('Eingabe Email'!$B516+1)/MAX('Eingabe Email'!$B:$B),'H2 Originaldaten'!F384,7),2),1)","v":2571.1},{"$f":"ROUND(MAX(_xlfn.NORM.INV(('Eingabe Email'!$B516+1)/MAX('Eingabe Email'!$B:$B),'H2 Originaldaten'!G384,7),2),1)","v":2},{"$f":"'H2 Originaldaten'!H384","v":82},{"$f":"'H2 Originaldaten'!I384","v":1},{"$f":"'H2 Originaldaten'!J384","v":"chrysler lebaron medallion"}]
[384,{"$f":"ROUND(MAX(_xlfn.NORM.INV(('Eingabe Email'!$B517+1)/MAX('Eingabe Email'!$B:$B),'H2 Originaldaten'!B385,7),2),1)","v":15.9},{"$f":"'H2 Originaldaten'!C385","v":6},{"$f":"ROUND(MAX(_xlfn.NORM.INV(('Eingabe Email'!$B517+1)/MAX('Eingabe Email'!$B:$B),'H2 Originaldaten'!D385,7),2),1)","v":225.9},{"$f":"ROUND(MAX(_xlfn.NORM.INV(('Eingabe Email'!$B517+1)/MAX('Eingabe Email'!$B:$B),'H2 Originaldaten'!E385,7),2),1)","v":105.9},{"$f":"ROUND(MAX(_xlfn.NORM.INV(('Eingabe Email'!$B517+1)/MAX('Eingabe Email'!$B:$B),'H2 Originaldaten'!F385,7),2),1)","v":2828.9},{"$f":"ROUND(MAX(_xlfn.NORM.INV(('Eingabe Email'!$B517+1)/MAX('Eingabe Email'!$B:$B),'H2 Originaldaten'!G385,7),2),1)","v":8.6},{"$f":"'H2 Originaldaten'!H385","v":82},{"$f":"'H2 Originaldaten'!I385","v":1},{"$f":"'H2 Originaldaten'!J385","v":"ford granada l"}]
[385,{"$f":"ROUND(MAX(_xlfn.NORM.INV(('Eingabe Email'!$B518+1)/MAX('Eingabe Email'!$B:$B),'H2 Originaldaten'!B386,7),2),1)","v":30.2},{"$f":"'H2 Originaldaten'!C386","v":4},{"$f":"ROUND(MAX(_xlfn.NORM.INV(('Eingabe Email'!$B518+1)/MAX('Eingabe Email'!$B:$B),'H2 Originaldaten'!D386,7),2),1)","v":142.19999999999999},{"$f":"ROUND(MAX(_xlfn.NORM.INV(('Eingabe Email'!$B518+1)/MAX('Eingabe Email'!$B:$B),'H2 Originaldaten'!E386,7),2),1)","v":94.2},{"$f":"ROUND(MAX(_xlfn.NORM.INV(('Eingabe Email'!$B518+1)/MAX('Eingabe Email'!$B:$B),'H2 Originaldaten'!F386,7),2),1)","v":2663.2},{"$f":"ROUND(MAX(_xlfn.NORM.INV(('Eingabe Email'!$B518+1)/MAX('Eingabe Email'!$B:$B),'H2 Originaldaten'!G386,7),2),1)","v":12.1},{"$f":"'H2 Originaldaten'!H386","v":82},{"$f":"'H2 Originaldaten'!I386","v":3},{"$f":"'H2 Originaldaten'!J386","v":"toyota celica gt"}]
[386,{"$f":"ROUND(MAX(_xlfn.NORM.INV(('Eingabe Email'!$B519+1)/MAX('Eingabe Email'!$B:$B),'H2 Originaldaten'!B387,7),2),1)","v":52.9},{"$f":"'H2 Originaldaten'!C387","v":4},{"$f":"ROUND(MAX(_xlfn.NORM.INV(('Eingabe Email'!$B519+1)/MAX('Eingabe Email'!$B:$B),'H2 Originaldaten'!D387,7),2),1)","v":151.9},{"$f":"ROUND(MAX(_xlfn.NORM.INV(('Eingabe Email'!$B519+1)/MAX('Eingabe Email'!$B:$B),'H2 Originaldaten'!E387,7),2),1)","v":100.9},{"$f":"ROUND(MAX(_xlfn.NORM.INV(('Eingabe Email'!$B519+1)/MAX('Eingabe Email'!$B:$B),'H2 Originaldaten'!F387,7),2),1)","v":2386.9},{"$f":"ROUND(MAX(_xlfn.NORM.INV(('Eingabe Email'!$B519+1)/MAX('Eingabe Email'!$B:$B),'H2 Originaldaten'!G387,7),2),1)","v":29.9},{"$f":"'H2 Originaldaten'!H387","v":82},{"$f":"'H2 Originaldaten'!I387","v":1},{"$f":"'H2 Originaldaten'!J387","v":"dodge charger 2.2"}]
[387,{"$f":"ROUND(MAX(_xlfn.NORM.INV(('Eingabe Email'!$B520+1)/MAX('Eingabe Email'!$B:$B),'H2 Originaldaten'!B388,7),2),1)","v":36.4},{"$f":"'H2 Originaldaten'!C388","v":4},{"$f":"ROUND(MAX(_xlfn.NORM.INV(('Eingabe Email'!$B520+1)/MAX('Eingabe Email'!$B:$B),'H2 Originaldaten'!D388,7),2),1)","v":160.4},{"$f":"ROUND(MAX(_xlfn.NORM.INV(('Eingabe Email'!$B520+1)/MAX('Eingabe Email'!$B:$B),'H2 Originaldaten'!E388,7),2),1)","v":99.4},{"$f":"ROUND(MAX(_xlfn.NORM.INV(('Eingabe Email'!$B520+1)/MAX('Eingabe Email'!$B:$B),'H2 Originaldaten'!F388,7),2),1)","v":2959.4},{"$f":"ROUND(MAX(_xlfn.NORM.INV(('Eingabe Email'!$B520+1)/MAX('Eingabe Email'!$B:$B),'H2 Originaldaten'!G388,7),2),1)","v":26.7},{"$f":"'H2 Originaldaten'!H388","v":82},{"$f":"'H2 Originaldaten'!I388","v":1},{"$f":"'H2 Originaldaten'!J388","v":"chevrolet camaro"}]
[388,{"$f":"ROUND(MAX(_xlfn.NORM.INV(('Eingabe Email'!$B521+1)/MAX('Eingabe Email'!$B:$B),'H2 Originaldaten'!B389,7),2),1)","v":22.4},{"$f":"'H2 Originaldaten'!C389","v":4},{"$f":"ROUND(MAX(_xlfn.NORM.INV(('Eingabe Email'!$B521+1)/MAX('Eingabe Email'!$B:$B),'H2 Originaldaten'!D389,7),2),1)","v":135.4},{"$f":"ROUND(MAX(_xlfn.NORM.INV(('Eingabe Email'!$B521+1)/MAX('Eingabe Email'!$B:$B),'H2 Originaldaten'!E389,7),2),1)","v":81.400000000000006},{"$f":"ROUND(MAX(_xlfn.NORM.INV(('Eingabe Email'!$B521+1)/MAX('Eingabe Email'!$B:$B),'H2 Originaldaten'!F389,7),2),1)","v":2785.4},{"$f":"ROUND(MAX(_xlfn.NORM.INV(('Eingabe Email'!$B521+1)/MAX('Eingabe Email'!$B:$B),'H2 Originaldaten'!G389,7),2),1)","v":11},{"$f":"'H2 Originaldaten'!H389","v":82},{"$f":"'H2 Originaldaten'!I389","v":1},{"$f":"'H2 Originaldaten'!J389","v":"ford mustang gl"}]
[389,{"$f":"ROUND(MAX(_xlfn.NORM.INV(('Eingabe Email'!$B522+1)/MAX('Eingabe Email'!$B:$B),'H2 Originaldaten'!B390,7),2),1)","v":32.9},{"$f":"'H2 Originaldaten'!C390","v":4},{"$f":"ROUND(MAX(_xlfn.NORM.INV(('Eingabe Email'!$B522+1)/MAX('Eingabe Email'!$B:$B),'H2 Originaldaten'!D390,7),2),1)","v":85.9},{"$f":"ROUND(MAX(_xlfn.NORM.INV(('Eingabe Email'!$B522+1)/MAX('Eingabe Email'!$B:$B),'H2 Originaldaten'!E390,7),2),1)","v":40.9},{"$f":"ROUND(MAX(_xlfn.NORM.INV(('Eingabe Email'!$B522+1)/MAX('Eingabe Email'!$B:$B),'H2 Originaldaten'!F390,7),2),1)","v":2118.9},{"$f":"ROUND(MAX(_xlfn.NORM.INV(('Eingabe Email'!$B522+1)/MAX('Eingabe Email'!$B:$B),'H2 Originaldaten'!G390,7),2),1)","v":13.5},{"$f":"'H2 Originaldaten'!H390","v":82},{"$f":"'H2 Originaldaten'!I390","v":2},{"$f":"'H2 Originaldaten'!J390","v":"vw pickup"}]
[390,{"$f":"ROUND(MAX(_xlfn.NORM.INV(('Eingabe Email'!$B523+1)/MAX('Eingabe Email'!$B:$B),'H2 Originaldaten'!B391,7),2),1)","v":36.299999999999997},{"$f":"'H2 Originaldaten'!C391","v":4},{"$f":"ROUND(MAX(_xlfn.NORM.INV(('Eingabe Email'!$B523+1)/MAX('Eingabe Email'!$B:$B),'H2 Originaldaten'!D391,7),2),1)","v":139.30000000000001},{"$f":"ROUND(MAX(_xlfn.NORM.INV(('Eingabe Email'!$B523+1)/MAX('Eingabe Email'!$B:$B),'H2 Originaldaten'!E391,7),2),1)","v":88.3},{"$f":"ROUND(MAX(_xlfn.NORM.INV(('Eingabe Email'!$B523+1)/MAX('Eingabe Email'!$B:$B),'H2 Originaldaten'!F391,7),2),1)","v":2299.3000000000002},{"$f":"ROUND(MAX(_xlfn.NORM.INV(('Eingabe Email'!$B523+1)/MAX('Eingabe Email'!$B:$B),'H2 Originaldaten'!G391,7),2),1)","v":15.9},{"$f":"'H2 Originaldaten'!H391","v":82},{"$f":"'H2 Originaldaten'!I391","v":1},{"$f":"'H2 Originaldaten'!J391","v":"dodge rampage"}]
[391,{"$f":"ROUND(MAX(_xlfn.NORM.INV(('Eingabe Email'!$B524+1)/MAX('Eingabe Email'!$B:$B),'H2 Originaldaten'!B392,7),2),1)","v":32.200000000000003},{"$f":"'H2 Originaldaten'!C392","v":4},{"$f":"ROUND(MAX(_xlfn.NORM.INV(('Eingabe Email'!$B524+1)/MAX('Eingabe Email'!$B:$B),'H2 Originaldaten'!D392,7),2),1)","v":124.2},{"$f":"ROUND(MAX(_xlfn.NORM.INV(('Eingabe Email'!$B524+1)/MAX('Eingabe Email'!$B:$B),'H2 Originaldaten'!E392,7),2),1)","v":83.2},{"$f":"ROUND(MAX(_xlfn.NORM.INV(('Eingabe Email'!$B524+1)/MAX('Eingabe Email'!$B:$B),'H2 Originaldaten'!F392,7),2),1)","v":2629.2},{"$f":"ROUND(MAX(_xlfn.NORM.INV(('Eingabe Email'!$B524+1)/MAX('Eingabe Email'!$B:$B),'H2 Originaldaten'!G392,7),2),1)","v":22.8},{"$f":"'H2 Originaldaten'!H392","v":82},{"$f":"'H2 Originaldaten'!I392","v":1},{"$f":"'H2 Originaldaten'!J392","v":"ford ranger"}]
[392,{"$f":"ROUND(MAX(_xlfn.NORM.INV(('Eingabe Email'!$B525+1)/MAX('Eingabe Email'!$B:$B),'H2 Originaldaten'!B393,7),2),1)","v":31.1},{"$f":"'H2 Originaldaten'!C393","v":4},{"$f":"ROUND(MAX(_xlfn.NORM.INV(('Eingabe Email'!$B525+1)/MAX('Eingabe Email'!$B:$B),'H2 Originaldaten'!D393,7),2),1)","v":119.1},{"$f":"ROUND(MAX(_xlfn.NORM.INV(('Eingabe Email'!$B525+1)/MAX('Eingabe Email'!$B:$B),'H2 Originaldaten'!E393,7),2),1)","v":82.1},{"$f":"ROUND(MAX(_xlfn.NORM.INV(('Eingabe Email'!$B525+1)/MAX('Eingabe Email'!$B:$B),'H2 Originaldaten'!F393,7),2),1)","v":2720.1},{"$f":"ROUND(MAX(_xlfn.NORM.INV(('Eingabe Email'!$B525+1)/MAX('Eingabe Email'!$B:$B),'H2 Originaldaten'!G393,7),2),1)","v":19.5},{"$f":"'H2 Originaldaten'!H393","v":82},{"$f":"'H2 Originaldaten'!I393","v":1},{"$f":"'H2 Originaldaten'!J393","v":"chevy s-10"}]

{"sheet":"H1 Originaldaten","index":3,"n_rows":147,"n_cols":16,"rows_kept":147,"cut":false,"hidden":false,"merged":[]}
["Column_1-T","education","income","women","prestige","census","type"]
["gov.administrators",13.11,12351,11.16,68.8,1113,"prof"]
["general.managers",12.26,25879,4.0199999999999996,69.099999999999994,1130,"prof"]
["accountants",12.77,9271,15.7,63.4,1171,"prof"]
["purchasing.officers",11.42,8865,9.11,56.8,1175,"prof"]
["chemists",14.62,8403,11.68,73.5,2111,"prof"]
["physicists",15.64,11030,5.13,77.599999999999994,2113,"prof"]
["biologists",15.09,8258,25.65,72.599999999999994,2133,"prof"]
["architects",15.44,14163,2.69,78.099999999999994,2141,"prof"]
["civil.engineers",14.52,11377,1.03,73.099999999999994,2143,"prof"]
["mining.engineers",14.64,11023,0.94,68.8,2153,"prof"]
["surveyors",12.39,5902,1.91,62,2161,"prof"]
["draughtsmen",12.3,7059,7.83,60,2163,"prof"]
["computer.programers",13.83,8425,15.33,53.8,2183,"prof"]
["economists",14.44,8049,57.31,62.2,2311,"prof"]
["psychologists",14.36,7405,48.28,74.900000000000006,2315,"prof"]
["social.workers",14.21,6336,54.77,55.1,2331,"prof"]
["lawyers",15.77,19263,5.13,82.3,2343,"prof"]
["librarians",14.15,6112,77.099999999999994,58.1,2351,"prof"]
["vocational.counsellors",15.22,9593,34.89,58.3,2391,"prof","AUSGABE: ZUSAMMENFASSUNG"]
["ministers",14.5,4686,4.1399999999999997,72.8,2511,"prof"]
["university.teachers",15.97,12480,19.59,84.6,2711,"prof","Regressions-Statistik"]
["primary.school.teachers",13.62,5648,83.78,59.6,2731,"prof","Multipler Korrelationskoeffizient",0.89340779333557707]
["secondary.school.teachers",15.08,8034,46.8,66.099999999999994,2733,"prof","Bestimmtheitsmaß",0.79817748519274512]
["physicians",15.96,25308,10.56,87.2,3111,"prof","Adjustiertes Bestimmtheitsmaß",0.79199924494354346]
["veterinarians",15.94,14558,4.32,66.7,3115,"prof","Standardfehler",7.8464668970405018]
["osteopaths.chiropractors",14.71,17498,6.91,68.400000000000006,3117,"prof","Beobachtungen",102]
["nurses",12.46,4614,96.12,64.7,3131,"prof"]
["nursing.aides",9.4499999999999993,3485,76.14,34.9,3135,"bc","ANOVA"]
["physio.therapsts",13.62,5092,82.66,72.099999999999994,3137,"prof",null,"Freiheitsgrade (df)","Quadratsummen (SS)","Mittlere Quadratsumme (MS)","Prüfgröße (F)","F krit"]
["pharmacists",15.21,10432,24.71,69.3,3151,"prof","Regression",3,23861.856475564124,7953.9521585213743,129.19172013355765,6.2590610290349787E-34]
["medical.technicians",12.79,5180,76.040000000000006,67.5,3156,"wc","Residue",98,6033.5701911025353,61.567042766352401]
["commercial.artists",11.09,6197,21.03,57.2,3314,"prof","Gesamt",101,29895.426666666659]
["radio.tv.announcers",12.71,7562,11.15,57.6,3337,"wc"]
["athletes",11.44,8206,8.1300000000000008,54.1,3373,"NA",null,"Koeffizienten","Standardfehler","t-Statistik","P-Wert","Untere 95%","Obere 95%","Untere 95,0%","Obere 95,0%"]
["secretaries",11.59,4036,97.51,46,4111,"wc","Schnittpunkt",-6.794334202603836,3.2390886463417594,-2.0976067482059766,3.8513055033186035E-2,-13.222200203536982,-0.36646820167069016,-13.222200203536982,-0.36646820167069016]
["typists",11.49,3148,95.97,41.9,4113,"wc","X Variable 1",4.1866372746429263,0.38870126132681371,10.770835320554491,2.5900692918656781E-18,3.4152722720134694,4.9580022772723833,3.4152722720134694,4.9580022772723833]
["bookkeepers",11.32,4348,68.239999999999995,49.4,4131,"wc","X Variable 2",1.3135604282513557E-3,2.7778119838236869E-4,4.7287593109279706,7.5793719380382523E-6,7.6231268058718168E-4,1.8648081759155297E-3,7.6231268058718168E-4,1.8648081759155297E-3]
["tellers.cashiers",10.64,2448,91.76,42.3,4133,"wc","X Variable 3",-8.9051567424734204E-3,3.0407057643533717E-2,-0.29286479628742268,0.77024470488264951,-6.9246973023429359E-2,5.1436659538482518E-2,-6.9246973023429359E-2,5.1436659538482518E-2]
["computer.operators",11.36,4330,75.92,47.7,4143,"wc"]
["shipping.clerks",9.17,4761,11.37,30.9,4153,"wc"]
["file.clerks",12.09,3016,83.19,32.700000000000003,4161,"wc"]
["receptionsts",11.04,2901,92.86,38.700000000000003,4171,"wc","AUSGABE: RESIDUENPLOT"]
["mail.carriers",9.2200000000000006,5511,7.62,36.1,4172,"wc"]
["postal.clerks",10.07,3739,52.27,37.200000000000003,4173,"wc","Beobachtung","Schätzung für Y","Residuen"]
["telephone.operators",10.51,3161,96.14,38.1,4175,"wc",1,64.216883768051417,4.5831162319485799]
["collectors",11.2,4741,47.06,29.4,4191,"wc",2,78.491670377130532,-9.3916703771305379]
["claim.adjustors",11.13,5052,56.1,51.1,4192,"wc",3,58.707231564047817,4.692768435952182]
["travel.clerks",11.43,6259,39.17,35.700000000000003,4193,"wc",4,52.580650692342715,4.2193493076572821]
["office.clerks",11,4075,63.23,35.6,4197,"wc",5,65.348138800519791,8.1518611994802086]
["sales.supervisors",9.84,7482,17.04,41.5,5130,"wc",6,73.1275608423351,4.4724391576648941]
["commercial.travellers",11.13,8780,3.16,40.200000000000003,5133,"wc",7,67.000987017813188,5.5990129821868067]
["sales.clerks",10.050000000000001,2594,67.819999999999993,26.5,5137,"wc",8,76.427346791569633,1.6726532084303614]
["newsboys",9.6199999999999992,918,7,14.8,5143,"NA",9,68.930843705982383,4.1691562940176112]
["service.station.attendant",9.93,2370,3.69,23.3,5145,"bc",10,68.969041251445375,-0.16904125144537829]
["insurance.agents",11.6,8131,13.09,47.3,5171,"wc",11,52.813726428383404,9.1862735716165957]
["real.estate.salesmen",11.09,6992,24.44,47.1,5172,"wc",12,53.903999961236913,6.096000038763087]
["buyers",11.03,7956,23.88,51.1,5191,"wc",13,62.037089860863389,-8.2370898608633922]
["firefighters",9.4700000000000006,8895,0,43.5,6111,"bc",14,63.723201397324033,-1.5232013973240299]
["policemen",10.93,8891,1.65,51.6,6112,"bc",15,62.622751064943252,12.277248935056754]
["cooks",7.74,3116,52,29.7,6121,"bc",16,60.532764908687469,-5.4327649086874672]
["bartenders",8.5,3930,15.51,20.2,6123,"bc",17,84.486366693832082,-2.1863666938320847]
["funeral.directors",10.57,7869,6.01,54.9,6141,"bc",18,59.788476986221156,-1.6884769862211542]
["babysitters",9.4600000000000009,611,96.53,25.9,6147,"NA",19,69.216569386931852,-10.916569386931855]
["launderers",7.33,3000,69.31,20.8,6162,"bc",20,60.030383097590608,12.769616902409389]
["janitors",7.11,3472,33.57,17.3,6191,"bc",21,76.285045197435579,8.3149548025644151]
["elevator.operators",7.58,3582,30.08,20.100000000000001,6193,"bc",22,56.900580744912048,2.6994192550879532]
["farmers",6.84,3643,3.6,44.1,7112,"NA",23,66.476539044035121,-0.37653904403512684]
["farm.workers",8.6,1656,27.75,21.5,7182,"bc",24,93.173945563682054,-5.9739455636820509]
["rotary.well.drillers",8.8800000000000008,6860,0,35.299999999999997,7711,"bc",25,79.025006392560158,-12.325006392560155]
["bakers",7.54,4199,33.299999999999997,38.9,8213,"bc",26,77.714245847845348,-9.314245847845342]
["slaughterers.1",7.64,5134,17.260000000000002,25.2,8215,"bc",27,50.575970389312239,14.124029610687764]
["slaughterers.2",7.64,5134,17.260000000000002,34.799999999999997,8215,"bc",28,36.669107500855866,-1.769107500855867]
["canners",7.42,1890,72.239999999999995,23.2,8221,"bc",29,56.180214922355866,15.919785077644129]
["textile.weavers",6.69,4443,31.36,33.299999999999997,8267,"bc",30,70.367434709126698,-1.0674347091267009]
["textile.labourers",6.74,3485,39.479999999999997,28.8,8278,"bc",31,52.879851439723531,14.620148560276469]
["tool.die.makers",10.09,8043,1.5,42.5,8311,"bc",32,47.588331700765657,9.6116682992343456]
["machinists",8.81,6686,4.28,44.2,8313,"bc",33,56.251677018865941,1.3483229811340607]
["sheet.metal.workers",8.4,6565,2.2999999999999998,35.9,8333,"bc",34,51.807474169225557,2.2925258307744443]
["welders",7.92,6477,5.17,41.8,8335,"bc",35,46.16197986497157,-0.16197986497157046]
["auto.workers",8.43,5811,13.62,35.9,8513,"bc",36,44.590588418603481,-2.6905884186034825]
["aircraft.workers",8.7799999999999994,6573,5.78,43.7,8515,"bc",37,45.702072592284601,3.6979274077153974]
["electronic.workers",8.76,3942,74.540000000000006,50.8,8534,"bc",38,40.149945145266869,2.1500548547331277]
["radio.tv.repairmen",10.29,5449,2.92,37.200000000000003,8537,"bc",39,45.777502391779592,1.9224976082204108]
["sewing.mach.operators",6.38,2847,90.67,28.2,8563,"bc",40,37.749739172614575,-6.8497391726145764]
["auto.repairmen",8.1,5795,0.81,38.1,8581,"bc",41,47.042988710028872,-14.34298871002887]
["aircraft.repairmen",10.1,7716,0.78,50.3,8582,"bc",42,42.40984725670517,-3.7098472567051672]
["railway.sectionmen",6.67,4696,0,27.3,8715,"bc",43,38.97763569531952,-2.877635695319519]
["electrical.linemen",9.0500000000000007,8316,1.34,40.9,8731,"bc",44,39.811033051353171,-2.6110330513531679]
["electricians",9.93,7147,0.99,50.2,8733,"bc",45,40.503246298374464,-2.4032462983744622]
["construction.foremen",8.24,8880,0.65,51.1,8780,"bc",46,45.904516587435815,-16.504516587435816]
["carpenters",6.92,5299,0.56000000000000005,38.9,8781,"bc",47,45.939466654445035,5.1605333455549669]
["masons",6.6,5959,0.52,36.200000000000003,8782,"bc",48,48.93168957738736,-13.231689577387357]
["house.painters",7.81,4549,2.46,29.9,8785,"bc",49,44.048361502766035,-8.4483615027660335]
["plumbers",8.33,6928,0.61,42.9,8791,"bc",50,44.078491833167448,-2.5784918331674476]
["construction.labourers",7.52,3910,1.0900000000000001,26.5,8798,"bc",51,51.307858928912623,-11.10785892891262]
["pilots",12.27,14032,0.57999999999999996,66.099999999999994,9111,"prof",52,38.084798428167041,-11.584798428167041]
["train.engineers",8.49,8845,0,48.9,9131,"bc",53,34.62462875539854,-19.824628755398539]
["bus.drivers",7.58,5562,9.4700000000000006,35.9,9171,"bc",54,37.859252121176404,-14.559252121176403]
["taxi.drivers",7.93,4224,3.59,25.1,9173,"bc",55,52.334649523606899,-5.0346495236069018]
["longshoremen",8.3699999999999992,4753,0,26.1,9313,"bc",56,48.602245656733643,-1.502245656733642]
["typesetters",10,6462,13.58,42.2,9511,"bc",57,49.622306560865162,1.4776934391348391]
["bookbinders",8.5500000000000007,3617,70.87,35.200000000000003,9517,"bc",58,44.537240797560493,-1.0372407975604929]
[null,null,null,null,null,null,null,59,50.629783468201076,0.97021653179892553]
[null,null,null,null,null,null,null,60,29.240224446955022,0.45977555304497741]
[null,null,null,null,null,null,null,61,33.816256133813098,-13.616256133813099]
[null,null,null,null,null,null,null,62,47.741308808259554,7.158691191740445]
[null,null,null,null,null,null,null,63,32.754225056828865,-6.8542250568288665]
[null,null,null,null,null,null,null,64,27.217181891462047,-6.4171818914620467]
[null,null,null,null,null,null,null,65,27.234392515151246,-9.9343925151512451]
[null,null,null,null,null,null,null,66,29.377682678372302,-9.277682678372301]
[null,null,null,null,null,null,null,67,26.595506831800567,17.504493168199435]
[null,null,null,null,null,null,null,68,31.138884328905934,-9.6388843289059345]
[null,null,null,null,null,null,null,69,39.394029334029653,-4.0940293340296563]
[null,null,null,null,null,null,null,70,29.992009366906906,8.9079906330930925]
[null,null,null,null,null,null,null,71,31.781690808935487,-6.5816908089354875]
[null,null,null,null,null,null,null,72,31.781690808935487,3.0183091910645103]
[null,null,null,null,null,null,null,73,26.109835061565462,-2.9098350615654631]
[null,null,null,null,null,null,null,74,26.77115243203415,6.5288475679658475]
[null,null,null,null,null,null,null,75,25.649783532752615,3.150216467247386]
[null,null,null,null,null,null,null,76,46.000444687855243,-3.5004446878552429]
[null,null,null,null,null,null,null,77,38.83429113943113,5.3657088605688728]
[null,null,null,null,null,null,null,78,36.976461255359212,-1.076461255359213]
[null,null,null,null,null,null,null,79,34.825724245993584,6.9742757540064133]
[null,null,null,null,null,null,null,80,36.010829436372163,-0.11082943637216403]
[null,null,null,null,null,null,null,81,38.546901957685726,5.1530980423142765]
[null,null,null,null,null,null,null,82,34.394873147851072,16.405126852148925]
[null,null,null,null,null,null,null,83,43.417751069325483,-6.2177510693254803]
[null,null,null,null,null,null,null,84,22.848687587009579,5.3513124129904206]
[null,null,null,null,null,null,null,85,34.722297226759075,3.3777027732409266]
[null,null,null,null,null,null,null,86,45.619188513418052,4.6808114865819448]
[null,null,null,null,null,null,null,87,27.29901619033285,9.8380966715083673E-4]
[null,null,null,null,null,null,null,88,42.006368744218008,-1.1063687442180097]
[null,null,null,null,null,null,null,89,44.158174210137808,6.0418257898621945]
[null,null,null,null,null,null,null,90,39.362185191443309,11.737814808556692]
[null,null,null,null,null,null,null,91,29.132765559453361,9.7672344405466376]
[null,null,null,null,null,null,null,92,28.66034772048322,7.5396522795167833]
[null,null,null,null,null,null,null,93,31.856782614886352,-1.9567826148863539]
[null,null,null,null,null,null,null,94,37.175268796484225,5.7247312035157734]
[null,null,null,null,null,null,null,95,29.81549275632447,-3.3154927563244705]
[null,null,null,null,null,null,null,96,63.002420095577257,3.0975799044227372]
[null,null,null,null,null,null,null,97,40.368658246997853,8.5313417530021454]
[null,null,null,null,null,null,null,98,32.162067606772361,3.7379323932276378]
[null,null,null,null,null,null,null,99,31.922209121542817,-6.8222091215428158]
[null,null,null,null,null,null,null,100,34.49117250163615,-8.3911725016361487]
[null,null,null,null,null,null,null,101,43.4393340026229,-1.2393340026228969]
[null,null,null,null,null,null,null,102,33.121454106239248,2.0785458937607544]

{"sheet":"H2 Originaldaten","index":4,"n_rows":393,"n_cols":19,"rows_kept":393,"cut":false,"hidden":false,"merged":[]}
["Column_1","mpg","cylinders","displacement","horsepower","weight","acceleration","year","origin","name",null,null,null,null,null,"horsepower","mpg",null,"mpg"]
[1,18,8,307,130,3504,12,70,1,"chevrolet chevelle malibu",null,null,null,null,null,130,18,{"$f":"LN(P2)","v":4.8675344504555822},18]
[2,15,8,350,165,3693,11.5,70,1,"buick skylark 320",null,null,null,null,null,165,15,{"$f":"LN(P3)","v":5.1059454739005803},15]
[3,18,8,318,150,3436,11,70,1,"plymouth satellite",null,null,null,null,null,150,18,5.0106352940962555,18]
[4,16,8,304,150,3433,12,70,1,"amc rebel sst",null,null,null,null,null,150,16,5.0106352940962555,16]
[5,17,8,302,140,3449,10.5,70,1,"ford torino",null,null,null,null,null,140,17,4.9416424226093039,17]
[6,15,8,429,198,4341,10,70,1,"ford galaxie 500",null,null,null,null,null,198,15,5.2882670306945352,15]
[7,14,8,454,220,4354,9,70,1,"chevrolet impala",null,null,null,null,null,220,14,5.393627546352362,14]
[8,14,8,440,215,4312,8.5,70,1,"plymouth fury iii",null,null,null,null,null,215,14,5.3706380281276624,14]
[9,14,8,455,225,4425,10,70,1,"pontiac catalina",null,null,null,null,null,225,14,5.4161004022044201,14]
[10,15,8,390,190,3850,8.5,70,1,"amc ambassador dpl",null,null,null,null,null,190,15,5.2470240721604862,15]
[11,15,8,383,170,3563,10,70,1,"dodge challenger se",null,null,null,null,null,170,15,5.1357984370502621,15]
[12,14,8,340,160,3609,8,70,1,"plymouth 'cuda 340",null,null,null,null,null,160,14,5.0751738152338266,14]
[13,15,8,400,150,3761,9.5,70,1,"chevrolet monte carlo",null,null,null,null,null,150,15,5.0106352940962555,15]
[14,14,8,455,225,3086,10,70,1,"buick estate wagon (sw)",null,null,null,null,null,225,14,5.4161004022044201,14]
[15,24,4,113,95,2372,15,70,3,"toyota corona mark ii",null,null,null,null,null,95,24,4.5538768916005408,24]
[16,22,6,198,95,2833,15.5,70,1,"plymouth duster",null,null,null,null,null,95,22,4.5538768916005408,22]
[17,18,6,199,97,2774,15.5,70,1,"amc hornet",null,null,null,null,null,97,18,4.5747109785033828,18]
[18,21,6,200,85,2587,16,70,1,"ford maverick",null,null,null,null,null,85,21,4.4426512564903167,21]
[19,27,4,97,88,2130,14.5,70,3,"datsun pl510",null,null,null,null,null,88,27,4.4773368144782069,27]
[20,26,4,97,46,1835,20.5,70,2,"volkswagen 1131 deluxe sedan",null,null,null,null,null,46,26,3.8286413964890951,26]
[21,25,4,110,87,2672,17.5,70,2,"peugeot 504",null,null,null,null,null,87,25,4.4659081186545837,25]
[22,24,4,107,90,2430,14.5,70,2,"audi 100 ls",null,null,null,null,null,90,24,4.499809670330265,24]
[23,25,4,104,95,2375,17.5,70,2,"saab 99e",null,null,null,null,null,95,25,4.5538768916005408,25]
[24,26,4,121,113,2234,12.5,70,2,"bmw 2002",null,null,null,null,null,113,26,4.7273878187123408,26]
[25,21,6,199,90,2648,15,70,1,"amc gremlin",null,null,null,null,null,90,21,4.499809670330265,21]
[26,10,8,360,215,4615,14,70,1,"ford f250",null,null,null,null,null,215,10,5.3706380281276624,10]
[27,10,8,307,200,4376,15,70,1,"chevy c20",null,null,null,null,null,200,10,5.2983173665480363,10]
[28,11,8,318,210,4382,13.5,70,1,"dodge d200",null,null,null,null,null,210,11,5.3471075307174685,11]
[29,9,8,304,193,4732,18.5,70,1,"hi 1200d",null,null,null,null,null,193,9,5.2626901889048856,9]
[30,27,4,97,88,2130,14.5,71,3,"datsun pl510",null,null,null,null,null,88,27,4.4773368144782069,27]
[31,28,4,140,90,2264,15.5,71,1,"chevrolet vega 2300",null,null,null,null,null,90,28,4.499809670330265,28]
[32,25,4,113,95,2228,14,71,3,"toyota corona",null,null,null,null,null,95,25,4.5538768916005408,25]
[34,19,6,232,100,2634,13,71,1,"amc gremlin",null,null,null,null,null,100,19,4.6051701859880918,19]
[35,16,6,225,105,3439,15.5,71,1,"plymouth satellite custom",null,null,null,null,null,105,16,4.6539603501575231,16]
[36,17,6,250,100,3329,15.5,71,1,"chevrolet chevelle malibu",null,null,null,null,null,100,17,4.6051701859880918,17]
[37,19,6,250,88,3302,15.5,71,1,"ford torino 500",null,null,null,null,null,88,19,4.4773368144782069,19]
[38,18,6,232,100,3288,15.5,71,1,"amc matador",null,null,null,null,null,100,18,4.6051701859880918,18]
[39,14,8,350,165,4209,12,71,1,"chevrolet impala",null,null,null,null,null,165,14,5.1059454739005803,14]
[40,14,8,400,175,4464,11.5,71,1,"pontiac catalina brougham",null,null,null,null,null,175,14,5.1647859739235145,14]
[41,14,8,351,153,4154,13.5,71,1,"ford galaxie 500",null,null,null,null,null,153,14,5.0304379213924353,14]
[42,14,8,318,150,4096,13,71,1,"plymouth fury iii",null,null,null,null,null,150,14,5.0106352940962555,14]
[43,12,8,383,180,4955,11.5,71,1,"dodge monaco (sw)",null,null,null,null,null,180,12,5.1929568508902104,12]
[44,13,8,400,170,4746,12,71,1,"ford country squire (sw)",null,null,null,null,null,170,13,5.1357984370502621,13]
[45,13,8,400,175,5140,12,71,1,"pontiac safari (sw)",null,null,null,null,null,175,13,5.1647859739235145,13]
[46,18,6,258,110,2962,13.5,71,1,"amc hornet sportabout (sw)",null,null,null,null,null,110,18,4.7004803657924166,18]
[47,22,4,140,72,2408,19,71,1,"chevrolet vega (sw)",null,null,null,null,null,72,22,4.2766661190160553,22]
[48,19,6,250,100,3282,15,71,1,"pontiac firebird",null,null,null,null,null,100,19,4.6051701859880918,19]
[49,18,6,250,88,3139,14.5,71,1,"ford mustang",null,null,null,null,null,88,18,4.4773368144782069,18]
[50,23,4,122,86,2220,14,71,1,"mercury capri 2000",null,null,null,null,null,86,23,4.4543472962535073,23]
[51,28,4,116,90,2123,14,71,2,"opel 1900",null,null,null,null,null,90,28,4.499809670330265,28]
[52,30,4,79,70,2074,19.5,71,2,"peugeot 304",null,null,null,null,null,70,30,4.2484952420493594,30]
[53,30,4,88,76,2065,14.5,71,2,"fiat 124b",null,null,null,null,null,76,30,4.3307333402863311,30]
[54,31,4,71,65,1773,19,71,3,"toyota corolla 1200",null,null,null,null,null,65,31,4.1743872698956368,31]
[55,35,4,72,69,1613,18,71,3,"datsun 1200",null,null,null,null,null,69,35,4.2341065045972597,35]
[56,27,4,97,60,1834,19,71,2,"volkswagen model 111",null,null,null,null,null,60,27,4.0943445622221004,27]
[57,26,4,91,70,1955,20.5,71,1,"plymouth cricket",null,null,null,null,null,70,26,4.2484952420493594,26]
[58,24,4,113,95,2278,15.5,72,3,"toyota corona hardtop",null,null,null,null,null,95,24,4.5538768916005408,24]
[59,25,4,97.5,80,2126,17,72,1,"dodge colt hardtop",null,null,null,null,null,80,25,4.3820266346738812,25]
[60,23,4,97,54,2254,23.5,72,2,"volkswagen type 3",null,null,null,null,null,54,23,3.9889840465642745,23]
[61,20,4,140,90,2408,19.5,72,1,"chevrolet vega",null,null,null,null,null,90,20,4.499809670330265,20]
[62,21,4,122,86,2226,16.5,72,1,"ford pinto runabout",null,null,null,null,null,86,21,4.4543472962535073,21]
[63,13,8,350,165,4274,12,72,1,"chevrolet impala",null,null,null,null,null,165,13,5.1059454739005803,13]
[64,14,8,400,175,4385,12,72,1,"pontiac catalina",null,null,null,null,null,175,14,5.1647859739235145,14]
[65,15,8,318,150,4135,13.5,72,1,"plymouth fury iii",null,null,null,null,null,150,15,5.0106352940962555,15]
[66,14,8,351,153,4129,13,72,1,"ford galaxie 500",null,null,null,null,null,153,14,5.0304379213924353,14]
[67,17,8,304,150,3672,11.5,72,1,"amc ambassador sst",null,null,null,null,null,150,17,{"$f":"LN(P67)","v":5.0106352940962555},17]
[68,11,8,429,208,4633,11,72,1,"mercury marquis",null,null,null,null,null,208,11,5.3375380797013179,11]
[69,13,8,350,155,4502,13.5,72,1,"buick lesabre custom",null,null,null,null,null,155,13,5.0434251169192468,13]
[70,12,8,350,160,4456,13.5,72,1,"oldsmobile delta 88 royale",null,null,null,null,null,160,12,5.0751738152338266,12]
[71,13,8,400,190,4422,12.5,72,1,"chrysler newport royal",null,null,null,null,null,190,13,5.2470240721604862,13]
[72,19,3,70,97,2330,13.5,72,3,"mazda rx2 coupe",null,null,null,null,null,97,19,4.5747109785033828,19]
[73,15,8,304,150,3892,12.5,72,1,"amc matador (sw)",null,null,null,null,null,150,15,5.0106352940962555,15]
[74,13,8,307,130,4098,14,72,1,"chevrolet chevelle concours (sw)",null,null,null,null,null,130,13,4.8675344504555822,13]
[75,13,8,302,140,4294,16,72,1,"ford gran torino (sw)",null,null,null,null,null,140,13,4.9416424226093039,13]
[76,14,8,318,150,4077,14,72,1,"plymouth satellite custom (sw)",null,null,null,null,null,150,14,5.0106352940962555,14]
[77,18,4,121,112,2933,14.5,72,2,"volvo 145e (sw)",null,null,null,null,null,112,18,4.7184988712950942,18]
[78,22,4,121,76,2511,18,72,2,"volkswagen 411 (sw)",null,null,null,null,null,76,22,4.3307333402863311,22]
[79,21,4,120,87,2979,19.5,72,2,"peugeot 504 (sw)",null,null,null,null,null,87,21,4.4659081186545837,21]
[80,26,4,96,69,2189,18,72,2,"renault 12 (sw)",null,null,null,null,null,69,26,4.2341065045972597,26]
[81,22,4,122,86,2395,16,72,1,"ford pinto (sw)",null,null,null,null,null,86,22,4.4543472962535073,22]
[82,28,4,97,92,2288,17,72,3,"datsun 510 (sw)",null,null,null,null,null,92,28,4.5217885770490405,28]
[83,23,4,120,97,2506,14.5,72,3,"toyouta corona mark ii (sw)",null,null,null,null,null,97,23,4.5747109785033828,23]
[84,28,4,98,80,2164,15,72,1,"dodge colt (sw)",null,null,null,null,null,80,28,4.3820266346738812,28]
[85,27,4,97,88,2100,16.5,72,3,"toyota corolla 1600 (sw)",null,null,null,null,null,88,27,4.4773368144782069,27]
[86,13,8,350,175,4100,13,73,1,"buick century 350",null,null,null,null,null,175,13,5.1647859739235145,13]
[87,14,8,304,150,3672,11.5,73,1,"amc matador",null,null,null,null,null,150,14,5.0106352940962555,14]
[88,13,8,350,145,3988,13,73,1,"chevrolet malibu",null,null,null,null,null,145,13,4.9767337424205742,13]
[89,14,8,302,137,4042,14.5,73,1,"ford gran torino",null,null,null,null,null,137,14,4.9199809258281251,14]
[90,15,8,318,150,3777,12.5,73,1,"dodge coronet custom",null,null,null,null,null,150,15,5.0106352940962555,15]
[91,12,8,429,198,4952,11.5,73,1,"mercury marquis brougham",null,null,null,null,null,198,12,5.2882670306945352,12]
[92,13,8,400,150,4464,12,73,1,"chevrolet caprice classic",null,null,null,null,null,150,13,5.0106352940962555,13]
[93,13,8,351,158,4363,13,73,1,"ford ltd",null,null,null,null,null,158,13,5.0625950330269669,13]
[94,14,8,318,150,4237,14.5,73,1,"plymouth fury gran sedan",null,null,null,null,null,150,14,5.0106352940962555,14]
[95,13,8,440,215,4735,11,73,1,"chrysler new yorker brougham",null,null,null,null,null,215,13,5.3706380281276624,13]
[96,12,8,455,225,4951,11,73,1,"buick electra 225 custom",null,null,null,null,null,225,12,5.4161004022044201,12]
[97,13,8,360,175,3821,11,73,1,"amc ambassador brougham",null,null,null,null,null,175,13,5.1647859739235145,13]
[98,18,6,225,105,3121,16.5,73,1,"plymouth valiant",null,null,null,null,null,105,18,4.6539603501575231,18]
[99,16,6,250,100,3278,18,73,1,"chevrolet nova custom",null,null,null,null,null,100,16,4.6051701859880918,16]
[100,18,6,232,100,2945,16,73,1,"amc hornet",null,null,null,null,null,100,18,4.6051701859880918,18]
[101,18,6,250,88,3021,16.5,73,1,"ford maverick",null,null,null,null,null,88,18,4.4773368144782069,18]
[102,23,6,198,95,2904,16,73,1,"plymouth duster",null,null,null,null,null,95,23,4.5538768916005408,23]
[103,26,4,97,46,1950,21,73,2,"volkswagen super beetle",null,null,null,null,null,46,26,3.8286413964890951,26]
[104,11,8,400,150,4997,14,73,1,"chevrolet impala",null,null,null,null,null,150,11,5.0106352940962555,11]
[105,12,8,400,167,4906,12.5,73,1,"ford country",null,null,null,null,null,167,12,5.1179938124167554,12]
[106,13,8,360,170,4654,13,73,1,"plymouth custom suburb",null,null,null,null,null,170,13,5.1357984370502621,13]
[107,12,8,350,180,4499,12.5,73,1,"oldsmobile vista cruiser",null,null,null,null,null,180,12,5.1929568508902104,12]
[108,18,6,232,100,2789,15,73,1,"amc gremlin",null,null,null,null,null,100,18,4.6051701859880918,18]
[109,20,4,97,88,2279,19,73,3,"toyota carina",null,null,null,null,null,88,20,4.4773368144782069,20]
[110,21,4,140,72,2401,19.5,73,1,"chevrolet vega",null,null,null,null,null,72,21,4.2766661190160553,21]
[111,22,4,108,94,2379,16.5,73,3,"datsun 610",null,null,null,null,null,94,22,4.5432947822700038,22]
[112,18,3,70,90,2124,13.5,73,3,"maxda rx3",null,null,null,null,null,90,18,4.499809670330265,18]
[113,19,4,122,85,2310,18.5,73,1,"ford pinto",null,null,null,null,null,85,19,4.4426512564903167,19]
[114,21,6,155,107,2472,14,73,1,"mercury capri v6",null,null,null,null,null,107,21,4.6728288344619058,21]
[115,26,4,98,90,2265,15.5,73,2,"fiat 124 sport coupe",null,null,null,null,null,90,26,4.499809670330265,26]
[116,15,8,350,145,4082,13,73,1,"chevrolet monte carlo s",null,null,null,null,null,145,15,4.9767337424205742,15]
[117,16,8,400,230,4278,9.5,73,1,"pontiac grand prix",null,null,null,null,null,230,16,5.4380793089231956,16]
[118,29,4,68,49,1867,19.5,73,2,"fiat 128",null,null,null,null,null,49,29,3.8918202981106265,29]
[119,24,4,116,75,2158,15.5,73,2,"opel manta",null,null,null,null,null,75,24,4.3174881135363101,24]
[120,20,4,114,91,2582,14,73,2,"audi 100ls",null,null,null,null,null,91,20,4.5108595065168497,20]
[121,19,4,121,112,2868,15.5,73,2,"volvo 144ea",null,null,null,null,null,112,19,4.7184988712950942,19]
[122,15,8,318,150,3399,11,73,1,"dodge dart custom",null,null,null,null,null,150,15,5.0106352940962555,15]
[123,24,4,121,110,2660,14,73,2,"saab 99le",null,null,null,null,null,110,24,4.7004803657924166,24]
[124,20,6,156,122,2807,13.5,73,3,"toyota mark ii",null,null,null,null,null,122,20,4.8040210447332568,20]
[125,11,8,350,180,3664,11,73,1,"oldsmobile omega",null,null,null,null,null,180,11,5.1929568508902104,11]
[126,20,6,198,95,3102,16.5,74,1,"plymouth duster",null,null,null,null,null,95,20,4.5538768916005408,20]
[128,19,6,232,100,2901,16,74,1,"amc hornet",null,null,null,null,null,100,19,4.6051701859880918,19]
[129,15,6,250,100,3336,17,74,1,"chevrolet nova",null,null,null,null,null,100,15,4.6051701859880918,15]
[130,31,4,79,67,1950,19,74,3,"datsun b210",null,null,null,null,null,67,31,4.2046926193909657,31]
[131,26,4,122,80,2451,16.5,74,1,"ford pinto",null,null,null,null,null,80,26,4.3820266346738812,26]
[132,32,4,71,65,1836,21,74,3,"toyota corolla 1200",null,null,null,null,null,65,32,{"$f":"LN(P131)","v":4.1743872698956368},32]
[133,25,4,140,75,2542,17,74,1,"chevrolet vega",null,null,null,null,null,75,25,4.3174881135363101,25]
[134,16,6,250,100,3781,17,74,1,"chevrolet chevelle malibu classic",null,null,null,null,null,100,16,4.6051701859880918,16]
[135,16,6,258,110,3632,18,74,1,"amc matador",null,null,null,null,null,110,16,4.7004803657924166,16]
[136,18,6,225,105,3613,16.5,74,1,"plymouth satellite sebring",null,null,null,null,null,105,18,4.6539603501575231,18]
[137,16,8,302,140,4141,14,74,1,"ford gran torino",null,null,null,null,null,140,16,4.9416424226093039,16]
[138,13,8,350,150,4699,14.5,74,1,"buick century luxus (sw)",null,null,null,null,null,150,13,5.0106352940962555,13]
[139,14,8,318,150,4457,13.5,74,1,"dodge coronet custom (sw)",null,null,null,null,null,150,14,5.0106352940962555,14]
[140,14,8,302,140,4638,16,74,1,"ford gran torino (sw)",null,null,null,null,null,140,14,4.9416424226093039,14]
[141,14,8,304,150,4257,15.5,74,1,"amc matador (sw)",null,null,null,null,null,150,14,5.0106352940962555,14]
[142,29,4,98,83,2219,16.5,74,2,"audi fox",null,null,null,null,null,83,29,4.4188406077965983,29]
[143,26,4,79,67,1963,15.5,74,2,"volkswagen dasher",null,null,null,null,null,67,26,4.2046926193909657,26]
[144,26,4,97,78,2300,14.5,74,2,"opel manta",null,null,null,null,null,78,26,4.3567088266895917,26]
[145,31,4,76,52,1649,16.5,74,3,"toyota corona",null,null,null,null,null,52,31,3.9512437185814275,31]
[146,32,4,83,61,2003,19,74,3,"datsun 710",null,null,null,null,null,61,32,4.1108738641733114,32]
[147,28,4,90,75,2125,14.5,74,1,"dodge colt",null,null,null,null,null,75,28,4.3174881135363101,28]
[148,24,4,90,75,2108,15.5,74,2,"fiat 128",null,null,null,null,null,75,24,4.3174881135363101,24]
[149,26,4,116,75,2246,14,74,2,"fiat 124 tc",null,null,null,null,null,75,26,4.3174881135363101,26]
[150,24,4,120,97,2489,15,74,3,"honda civic",null,null,null,null,null,97,24,4.5747109785033828,24]
[151,26,4,108,93,2391,15.5,74,3,"subaru",null,null,null,null,null,93,26,4.5325994931532563,26]
[152,31,4,79,67,2000,16,74,2,"fiat x1.9",null,null,null,null,null,67,31,4.2046926193909657,31]
[153,19,6,225,95,3264,16,75,1,"plymouth valiant custom",null,null,null,null,null,95,19,4.5538768916005408,19]
[154,18,6,250,105,3459,16,75,1,"chevrolet nova",null,null,null,null,null,105,18,4.6539603501575231,18]
[155,15,6,250,72,3432,21,75,1,"mercury monarch",null,null,null,null,null,72,15,4.2766661190160553,15]
[156,15,6,250,72,3158,19.5,75,1,"ford maverick",null,null,null,null,null,72,15,4.2766661190160553,15]
[157,16,8,400,170,4668,11.5,75,1,"pontiac catalina",null,null,null,null,null,170,16,5.1357984370502621,16]
[158,15,8,350,145,4440,14,75,1,"chevrolet bel air",null,null,null,null,null,145,15,4.9767337424205742,15]
[159,16,8,318,150,4498,14.5,75,1,"plymouth grand fury",null,null,null,null,null,150,16,5.0106352940962555,16]
[160,14,8,351,148,4657,13.5,75,1,"ford ltd",null,null,null,null,null,148,14,4.9972122737641147,14]
[161,17,6,231,110,3907,21,75,1,"buick century",null,null,null,null,null,110,17,4.7004803657924166,17]
[162,16,6,250,105,3897,18.5,75,1,"chevroelt chevelle malibu",null,null,null,null,null,105,16,4.6539603501575231,16]
[163,15,6,258,110,3730,19,75,1,"amc matador",null,null,null,null,null,110,15,4.7004803657924166,15]
[164,18,6,225,95,3785,19,75,1,"plymouth fury",null,null,null,null,null,95,18,4.5538768916005408,18]
[165,21,6,231,110,3039,15,75,1,"buick skyhawk",null,null,null,null,null,110,21,4.7004803657924166,21]
[166,20,8,262,110,3221,13.5,75,1,"chevrolet monza 2+2",null,null,null,null,null,110,20,4.7004803657924166,20]
[167,13,8,302,129,3169,12,75,1,"ford mustang ii",null,null,null,null,null,129,13,4.8598124043616719,13]
[168,29,4,97,75,2171,16,75,3,"toyota corolla",null,null,null,null,null,75,29,4.3174881135363101,29]
[169,23,4,140,83,2639,17,75,1,"ford pinto",null,null,null,null,null,83,23,4.4188406077965983,23]
[170,20,6,232,100,2914,16,75,1,"amc gremlin",null,null,null,null,null,100,20,4.6051701859880918,20]
[171,23,4,140,78,2592,18.5,75,1,"pontiac astro",null,null,null,null,null,78,23,4.3567088266895917,23]
[172,24,4,134,96,2702,13.5,75,3,"toyota corona",null,null,null,null,null,96,24,4.5643481914678361,24]
[173,25,4,90,71,2223,16.5,75,2,"volkswagen dasher",null,null,null,null,null,71,25,4.2626798770413155,25]
[174,24,4,119,97,2545,17,75,3,"datsun 710",null,null,null,null,null,97,24,4.5747109785033828,24]
[175,18,6,171,97,2984,14.5,75,1,"ford pinto",null,null,null,null,null,97,18,4.5747109785033828,18]
[176,29,4,90,70,1937,14,75,2,"volkswagen rabbit",null,null,null,null,null,70,29,4.2484952420493594,29]
[177,19,6,232,90,3211,17,75,1,"amc pacer",null,null,null,null,null,90,19,4.499809670330265,19]
[178,23,4,115,95,2694,15,75,2,"audi 100ls",null,null,null,null,null,95,23,4.5538768916005408,23]
[179,23,4,120,88,2957,17,75,2,"peugeot 504",null,null,null,null,null,88,23,4.4773368144782069,23]
[180,22,4,121,98,2945,14.5,75,2,"volvo 244dl",null,null,null,null,null,98,22,4.5849674786705723,22]
[181,25,4,121,115,2671,13.5,75,2,"saab 99le",null,null,null,null,null,115,25,4.7449321283632502,25]
[182,33,4,91,53,1795,17.5,75,3,"honda civic cvcc",null,null,null,null,null,53,33,3.970291913552122,33]
[183,28,4,107,86,2464,15.5,76,2,"fiat 131",null,null,null,null,null,86,28,4.4543472962535073,28]
[184,25,4,116,81,2220,16.899999999999999,76,2,"opel 1900",null,null,null,null,null,81,25,4.3944491546724391,25]
[185,25,4,140,92,2572,14.9,76,1,"capri ii",null,null,null,null,null,92,25,4.5217885770490405,25]
[186,26,4,98,79,2255,17.7,76,1,"dodge colt",null,null,null,null,null,79,26,4.3694478524670215,26]
[187,27,4,101,83,2202,15.3,76,2,"renault 12tl",null,null,null,null,null,83,27,4.4188406077965983,27]
[188,17.5,8,305,140,4215,13,76,1,"chevrolet chevelle malibu classic",null,null,null,null,null,140,17.5,4.9416424226093039,17.5]
[189,16,8,318,150,4190,13,76,1,"dodge coronet brougham",null,null,null,null,null,150,16,5.0106352940962555,16]
[190,15.5,8,304,120,3962,13.9,76,1,"amc matador",null,null,null,null,null,120,15.5,4.7874917427820458,15.5]
[191,14.5,8,351,152,4215,12.8,76,1,"ford gran torino",null,null,null,null,null,152,14.5,5.0238805208462765,14.5]
[192,22,6,225,100,3233,15.4,76,1,"plymouth valiant",null,null,null,null,null,100,22,4.6051701859880918,22]
[193,22,6,250,105,3353,14.5,76,1,"chevrolet nova",null,null,null,null,null,105,22,4.6539603501575231,22]
[194,24,6,200,81,3012,17.600000000000001,76,1,"ford maverick",null,null,null,null,null,81,24,4.3944491546724391,24]
[195,22.5,6,232,90,3085,17.600000000000001,76,1,"amc hornet",null,null,null,null,null,90,22.5,4.499809670330265,22.5]
[196,29,4,85,52,2035,22.2,76,1,"chevrolet chevette",null,null,null,null,null,52,29,{"$f":"LN(P195)","v":3.9512437185814275},29]
[197,24.5,4,98,60,2164,22.1,76,1,"chevrolet woody",null,null,null,null,null,60,24.5,4.0943445622221004,24.5]
[198,29,4,90,70,1937,14.2,76,2,"vw rabbit",null,null,null,null,null,70,29,4.2484952420493594,29]
[199,33,4,91,53,1795,17.399999999999999,76,3,"honda civic",null,null,null,null,null,53,33,3.970291913552122,33]
[200,20,6,225,100,3651,17.7,76,1,"dodge aspen se",null,null,null,null,null,100,20,4.6051701859880918,20]
[201,18,6,250,78,3574,21,76,1,"ford granada ghia",null,null,null,null,null,78,18,4.3567088266895917,18]
[202,18.5,6,250,110,3645,16.2,76,1,"pontiac ventura sj",null,null,null,null,null,110,18.5,4.7004803657924166,18.5]
[203,17.5,6,258,95,3193,17.8,76,1,"amc pacer d/l",null,null,null,null,null,95,17.5,4.5538768916005408,17.5]
[204,29.5,4,97,71,1825,12.2,76,2,"volkswagen rabbit",null,null,null,null,null,71,29.5,4.2626798770413155,29.5]
[205,32,4,85,70,1990,17,76,3,"datsun b-210",null,null,null,null,null,70,32,4.2484952420493594,32]
[206,28,4,97,75,2155,16.399999999999999,76,3,"toyota corolla",null,null,null,null,null,75,28,4.3174881135363101,28]
[207,26.5,4,140,72,2565,13.6,76,1,"ford pinto",null,null,null,null,null,72,26.5,4.2766661190160553,26.5]
[208,20,4,130,102,3150,15.7,76,2,"volvo 245",null,null,null,null,null,102,20,4.6249728132842707,20]
[209,13,8,318,150,3940,13.2,76,1,"plymouth volare premier v8",null,null,null,null,null,150,13,5.0106352940962555,13]
[210,19,4,120,88,3270,21.9,76,2,"peugeot 504",null,null,null,null,null,88,19,4.4773368144782069,19]
[211,19,6,156,108,2930,15.5,76,3,"toyota mark ii",null,null,null,null,null,108,19,4.6821312271242199,19]
[212,16.5,6,168,120,3820,16.7,76,2,"mercedes-benz 280s",null,null,null,null,null,120,16.5,4.7874917427820458,16.5]
[213,16.5,8,350,180,4380,12.1,76,1,"cadillac seville",null,null,null,null,null,180,16.5,5.1929568508902104,16.5]
[214,13,8,350,145,4055,12,76,1,"chevy c10",null,null,null,null,null,145,13,4.9767337424205742,13]
[215,13,8,302,130,3870,15,76,1,"ford f108",null,null,null,null,null,130,13,4.8675344504555822,13]
[216,13,8,318,150,3755,14,76,1,"dodge d100",null,null,null,null,null,150,13,5.0106352940962555,13]
[217,31.5,4,98,68,2045,18.5,77,3,"honda accord cvcc",null,null,null,null,null,68,31.5,4.219507705176107,31.5]
[218,30,4,111,80,2155,14.8,77,1,"buick opel isuzu deluxe",null,null,null,null,null,80,30,4.3820266346738812,30]
[219,36,4,79,58,1825,18.600000000000001,77,2,"renault 5 gtl",null,null,null,null,null,58,36,4.0604430105464191,36]
[220,25.5,4,122,96,2300,15.5,77,1,"plymouth arrow gs",null,null,null,null,null,96,25.5,4.5643481914678361,25.5]
[221,33.5,4,85,70,1945,16.8,77,3,"datsun f-10 hatchback",null,null,null,null,null,70,33.5,4.2484952420493594,33.5]
[222,17.5,8,305,145,3880,12.5,77,1,"chevrolet caprice classic",null,null,null,null,null,145,17.5,4.9767337424205742,17.5]
[223,17,8,260,110,4060,19,77,1,"oldsmobile cutlass supreme",null,null,null,null,null,110,17,4.7004803657924166,17]
[224,15.5,8,318,145,4140,13.7,77,1,"dodge monaco brougham",null,null,null,null,null,145,15.5,4.9767337424205742,15.5]
[225,15,8,302,130,4295,14.9,77,1,"mercury cougar brougham",null,null,null,null,null,130,15,4.8675344504555822,15]
[226,17.5,6,250,110,3520,16.399999999999999,77,1,"chevrolet concours",null,null,null,null,null,110,17.5,4.7004803657924166,17.5]
[227,20.5,6,231,105,3425,16.899999999999999,77,1,"buick skylark",null,null,null,null,null,105,20.5,4.6539603501575231,20.5]
[228,19,6,225,100,3630,17.7,77,1,"plymouth volare custom",null,null,null,null,null,100,19,4.6051701859880918,19]
[229,18.5,6,250,98,3525,19,77,1,"ford granada",null,null,null,null,null,98,18.5,4.5849674786705723,18.5]
[230,16,8,400,180,4220,11.1,77,1,"pontiac grand prix lj",null,null,null,null,null,180,16,5.1929568508902104,16]
[231,15.5,8,350,170,4165,11.4,77,1,"chevrolet monte carlo landau",null,null,null,null,null,170,15.5,5.1357984370502621,15.5]
[232,15.5,8,400,190,4325,12.2,77,1,"chrysler cordoba",null,null,null,null,null,190,15.5,5.2470240721604862,15.5]
[233,16,8,351,149,4335,14.5,77,1,"ford thunderbird",null,null,null,null,null,149,16,5.0039463059454592,16]
[234,29,4,97,78,1940,14.5,77,2,"volkswagen rabbit custom",null,null,null,null,null,78,29,4.3567088266895917,29]
[235,24.5,4,151,88,2740,16,77,1,"pontiac sunbird coupe",null,null,null,null,null,88,24.5,4.4773368144782069,24.5]
[236,26,4,97,75,2265,18.2,77,3,"toyota corolla liftback",null,null,null,null,null,75,26,4.3174881135363101,26]
[237,25.5,4,140,89,2755,15.8,77,1,"ford mustang ii 2+2",null,null,null,null,null,89,25.5,4.4886363697321396,25.5]
[238,30.5,4,98,63,2051,17,77,1,"chevrolet chevette",null,null,null,null,null,63,30.5,4.1431347263915326,30.5]
[239,33.5,4,98,83,2075,15.9,77,1,"dodge colt m/m",null,null,null,null,null,83,33.5,4.4188406077965983,33.5]
[240,30,4,97,67,1985,16.399999999999999,77,3,"subaru dl",null,null,null,null,null,67,30,4.2046926193909657,30]
[241,30.5,4,97,78,2190,14.1,77,2,"volkswagen dasher",null,null,null,null,null,78,30.5,4.3567088266895917,30.5]
[242,22,6,146,97,2815,14.5,77,3,"datsun 810",null,null,null,null,null,97,22,4.5747109785033828,22]
[243,21.5,4,121,110,2600,12.8,77,2,"bmw 320i",null,null,null,null,null,110,21.5,4.7004803657924166,21.5]
[244,21.5,3,80,110,2720,13.5,77,3,"mazda rx-4",null,null,null,null,null,110,21.5,4.7004803657924166,21.5]
[245,43.1,4,90,48,1985,21.5,78,2,"volkswagen rabbit custom diesel",null,null,null,null,null,48,43.1,3.8712010109078911,43.1]
[246,36.1,4,98,66,1800,14.4,78,1,"ford fiesta",null,null,null,null,null,66,36.1,4.1896547420264252,36.1]
[247,32.799999999999997,4,78,52,1985,19.399999999999999,78,3,"mazda glc deluxe",null,null,null,null,null,52,32.799999999999997,3.9512437185814275,32.799999999999997]
[248,39.4,4,85,70,2070,18.600000000000001,78,3,"datsun b210 gx",null,null,null,null,null,70,39.4,4.2484952420493594,39.4]
[249,36.1,4,91,60,1800,16.399999999999999,78,3,"honda civic cvcc",null,null,null,null,null,60,36.1,4.0943445622221004,36.1]
[250,19.899999999999999,8,260,110,3365,15.5,78,1,"oldsmobile cutlass salon brougham",null,null,null,null,null,110,19.899999999999999,4.7004803657924166,19.899999999999999]
[251,19.399999999999999,8,318,140,3735,13.2,78,1,"dodge diplomat",null,null,null,null,null,140,19.399999999999999,4.9416424226093039,19.399999999999999]
[252,20.2,8,302,139,3570,12.8,78,1,"mercury monarch ghia",null,null,null,null,null,139,20.2,4.9344739331306915,20.2]
[253,19.2,6,231,105,3535,19.2,78,1,"pontiac phoenix lj",null,null,null,null,null,105,19.2,4.6539603501575231,19.2]
[254,20.5,6,200,95,3155,18.2,78,1,"chevrolet malibu",null,null,null,null,null,95,20.5,4.5538768916005408,20.5]
[255,20.2,6,200,85,2965,15.8,78,1,"ford fairmont (auto)",null,null,null,null,null,85,20.2,4.4426512564903167,20.2]
[256,25.1,4,140,88,2720,15.4,78,1,"ford fairmont (man)",null,null,null,null,null,88,25.1,4.4773368144782069,25.1]
[257,20.5,6,225,100,3430,17.2,78,1,"plymouth volare",null,null,null,null,null,100,20.5,4.6051701859880918,20.5]
[258,19.399999999999999,6,232,90,3210,17.2,78,1,"amc concord",null,null,null,null,null,90,19.399999999999999,4.499809670330265,19.399999999999999]
[259,20.6,6,231,105,3380,15.8,78,1,"buick century special",null,null,null,null,null,105,20.6,4.6539603501575231,20.6]
[260,20.8,6,200,85,3070,16.7,78,1,"mercury zephyr",null,null,null,null,null,85,20.8,{"$f":"LN(P259)","v":4.4426512564903167},20.8]
[261,18.600000000000001,6,225,110,3620,18.7,78,1,"dodge aspen",null,null,null,null,null,110,18.600000000000001,4.7004803657924166,18.600000000000001]
[262,18.100000000000001,6,258,120,3410,15.1,78,1,"amc concord d/l",null,null,null,null,null,120,18.100000000000001,4.7874917427820458,18.100000000000001]
[263,19.2,8,305,145,3425,13.2,78,1,"chevrolet monte carlo landau",null,null,null,null,null,145,19.2,4.9767337424205742,19.2]
[264,17.7,6,231,165,3445,13.4,78,1,"buick regal sport coupe (turbo)",null,null,null,null,null,165,17.7,5.1059454739005803,17.7]
[265,18.100000000000001,8,302,139,3205,11.2,78,1,"ford futura",null,null,null,null,null,139,18.100000000000001,4.9344739331306915,18.100000000000001]
[266,17.5,8,318,140,4080,13.7,78,1,"dodge magnum xe",null,null,null,null,null,140,17.5,4.9416424226093039,17.5]
[267,30,4,98,68,2155,16.5,78,1,"chevrolet chevette",null,null,null,null,null,68,30,4.219507705176107,30]
[268,27.5,4,134,95,2560,14.2,78,3,"toyota corona",null,null,null,null,null,95,27.5,4.5538768916005408,27.5]
[269,27.2,4,119,97,2300,14.7,78,3,"datsun 510",null,null,null,null,null,97,27.2,4.5747109785033828,27.2]
[270,30.9,4,105,75,2230,14.5,78,1,"dodge omni",null,null,null,null,null,75,30.9,4.3174881135363101,30.9]
[271,21.1,4,134,95,2515,14.8,78,3,"toyota celica gt liftback",null,null,null,null,null,95,21.1,4.5538768916005408,21.1]
[272,23.2,4,156,105,2745,16.7,78,1,"plymouth sapporo",null,null,null,null,null,105,23.2,4.6539603501575231,23.2]
[273,23.8,4,151,85,2855,17.600000000000001,78,1,"oldsmobile starfire sx",null,null,null,null,null,85,23.8,4.4426512564903167,23.8]
[274,23.9,4,119,97,2405,14.9,78,3,"datsun 200-sx",null,null,null,null,null,97,23.9,4.5747109785033828,23.9]
[275,20.3,5,131,103,2830,15.9,78,2,"audi 5000",null,null,null,null,null,103,20.3,4.6347289882296359,20.3]
[276,17,6,163,125,3140,13.6,78,2,"volvo 264gl",null,null,null,null,null,125,17,4.8283137373023015,17]
[277,21.6,4,121,115,2795,15.7,78,2,"saab 99gle",null,null,null,null,null,115,21.6,4.7449321283632502,21.6]
[278,16.2,6,163,133,3410,15.8,78,2,"peugeot 604sl",null,null,null,null,null,133,16.2,4.8903491282217537,16.2]
[279,31.5,4,89,71,1990,14.9,78,2,"volkswagen scirocco",null,null,null,null,null,71,31.5,4.2626798770413155,31.5]
[280,29.5,4,98,68,2135,16.600000000000001,78,3,"honda accord lx",null,null,null,null,null,68,29.5,4.219507705176107,29.5]
[281,21.5,6,231,115,3245,15.4,79,1,"pontiac lemans v6",null,null,null,null,null,115,21.5,4.7449321283632502,21.5]
[282,19.8,6,200,85,2990,18.2,79,1,"mercury zephyr 6",null,null,null,null,null,85,19.8,4.4426512564903167,19.8]
[283,22.3,4,140,88,2890,17.3,79,1,"ford fairmont 4",null,null,null,null,null,88,22.3,4.4773368144782069,22.3]
[284,20.2,6,232,90,3265,18.2,79,1,"amc concord dl 6",null,null,null,null,null,90,20.2,4.499809670330265,20.2]
[285,20.6,6,225,110,3360,16.600000000000001,79,1,"dodge aspen 6",null,null,null,null,null,110,20.6,4.7004803657924166,20.6]
[286,17,8,305,130,3840,15.4,79,1,"chevrolet caprice classic",null,null,null,null,null,130,17,4.8675344504555822,17]
[287,17.600000000000001,8,302,129,3725,13.4,79,1,"ford ltd landau",null,null,null,null,null,129,17.600000000000001,4.8598124043616719,17.600000000000001]
[288,16.5,8,351,138,3955,13.2,79,1,"mercury grand marquis",null,null,null,null,null,138,16.5,4.9272536851572051,16.5]
[289,18.2,8,318,135,3830,15.2,79,1,"dodge st. regis",null,null,null,null,null,135,18.2,4.9052747784384296,18.2]
[290,16.899999999999999,8,350,155,4360,14.9,79,1,"buick estate wagon (sw)",null,null,null,null,null,155,16.899999999999999,5.0434251169192468,16.899999999999999]
[291,15.5,8,351,142,4054,14.3,79,1,"ford country squire (sw)",null,null,null,null,null,142,15.5,4.9558270576012609,15.5]
[292,19.2,8,267,125,3605,15,79,1,"chevrolet malibu classic (sw)",null,null,null,null,null,125,19.2,4.8283137373023015,19.2]
[293,18.5,8,360,150,3940,13,79,1,"chrysler lebaron town @ country (sw)",null,null,null,null,null,150,18.5,5.0106352940962555,18.5]
[294,31.9,4,89,71,1925,14,79,2,"vw rabbit custom",null,null,null,null,null,71,31.9,4.2626798770413155,31.9]
[295,34.1,4,86,65,1975,15.2,79,3,"maxda glc deluxe",null,null,null,null,null,65,34.1,4.1743872698956368,34.1]
[296,35.700000000000003,4,98,80,1915,14.4,79,1,"dodge colt hatchback custom",null,null,null,null,null,80,35.700000000000003,4.3820266346738812,35.700000000000003]
[297,27.4,4,121,80,2670,15,79,1,"amc spirit dl",null,null,null,null,null,80,27.4,4.3820266346738812,27.4]
[298,25.4,5,183,77,3530,20.100000000000001,79,2,"mercedes benz 300d",null,null,null,null,null,77,25.4,4.3438054218536841,25.4]
[299,23,8,350,125,3900,17.399999999999999,79,1,"cadillac eldorado",null,null,null,null,null,125,23,4.8283137373023015,23]
[300,27.2,4,141,71,3190,24.8,79,2,"peugeot 504",null,null,null,null,null,71,27.2,4.2626798770413155,27.2]
[301,23.9,8,260,90,3420,22.2,79,1,"oldsmobile cutlass salon brougham",null,null,null,null,null,90,23.9,4.499809670330265,23.9]
[302,34.200000000000003,4,105,70,2200,13.2,79,1,"plymouth horizon",null,null,null,null,null,70,34.200000000000003,4.2484952420493594,34.200000000000003]
[303,34.5,4,105,70,2150,14.9,79,1,"plymouth horizon tc3",null,null,null,null,null,70,34.5,4.2484952420493594,34.5]
[304,31.8,4,85,65,2020,19.2,79,3,"datsun 210",null,null,null,null,null,65,31.8,4.1743872698956368,31.8]
[305,37.299999999999997,4,91,69,2130,14.7,79,2,"fiat strada custom",null,null,null,null,null,69,37.299999999999997,4.2341065045972597,37.299999999999997]
[306,28.4,4,151,90,2670,16,79,1,"buick skylark limited",null,null,null,null,null,90,28.4,4.499809670330265,28.4]
[307,28.8,6,173,115,2595,11.3,79,1,"chevrolet citation",null,null,null,null,null,115,28.8,4.7449321283632502,28.8]
[308,26.8,6,173,115,2700,12.9,79,1,"oldsmobile omega brougham",null,null,null,null,null,115,26.8,4.7449321283632502,26.8]
[309,33.5,4,151,90,2556,13.2,79,1,"pontiac phoenix",null,null,null,null,null,90,33.5,4.499809670330265,33.5]
[310,41.5,4,98,76,2144,14.7,80,2,"vw rabbit",null,null,null,null,null,76,41.5,4.3307333402863311,41.5]
[311,38.1,4,89,60,1968,18.8,80,3,"toyota corolla tercel",null,null,null,null,null,60,38.1,4.0943445622221004,38.1]
[312,32.1,4,98,70,2120,15.5,80,1,"chevrolet chevette",null,null,null,null,null,70,32.1,4.2484952420493594,32.1]
[313,37.200000000000003,4,86,65,2019,16.399999999999999,80,3,"datsun 310",null,null,null,null,null,65,37.200000000000003,4.1743872698956368,37.200000000000003]
[314,28,4,151,90,2678,16.5,80,1,"chevrolet citation",null,null,null,null,null,90,28,4.499809670330265,28]
[315,26.4,4,140,88,2870,18.100000000000001,80,1,"ford fairmont",null,null,null,null,null,88,26.4,4.4773368144782069,26.4]
[316,24.3,4,151,90,3003,20.100000000000001,80,1,"amc concord",null,null,null,null,null,90,24.3,4.499809670330265,24.3]
[317,19.100000000000001,6,225,90,3381,18.7,80,1,"dodge aspen",null,null,null,null,null,90,19.100000000000001,4.499809670330265,19.100000000000001]
[318,34.299999999999997,4,97,78,2188,15.8,80,2,"audi 4000",null,null,null,null,null,78,34.299999999999997,4.3567088266895917,34.299999999999997]
[319,29.8,4,134,90,2711,15.5,80,3,"toyota corona liftback",null,null,null,null,null,90,29.8,4.499809670330265,29.8]
[320,31.3,4,120,75,2542,17.5,80,3,"mazda 626",null,null,null,null,null,75,31.3,4.3174881135363101,31.3]
[321,37,4,119,92,2434,15,80,3,"datsun 510 hatchback",null,null,null,null,null,92,37,4.5217885770490405,37]
[322,32.200000000000003,4,108,75,2265,15.2,80,3,"toyota corolla",null,null,null,null,null,75,32.200000000000003,4.3174881135363101,32.200000000000003]
[323,46.6,4,86,65,2110,17.899999999999999,80,3,"mazda glc",null,null,null,null,null,65,46.6,4.1743872698956368,46.6]
[324,27.9,4,156,105,2800,14.4,80,1,"dodge colt",null,null,null,null,null,105,27.9,{"$f":"LN(P323)","v":4.6539603501575231},27.9]
[325,40.799999999999997,4,85,65,2110,19.2,80,3,"datsun 210",null,null,null,null,null,65,40.799999999999997,4.1743872698956368,40.799999999999997]
[326,44.3,4,90,48,2085,21.7,80,2,"vw rabbit c (diesel)",null,null,null,null,null,48,44.3,3.8712010109078911,44.3]
[327,43.4,4,90,48,2335,23.7,80,2,"vw dasher (diesel)",null,null,null,null,null,48,43.4,3.8712010109078911,43.4]
[328,36.4,5,121,67,2950,19.899999999999999,80,2,"audi 5000s (diesel)",null,null,null,null,null,67,36.4,4.2046926193909657,36.4]
[329,30,4,146,67,3250,21.8,80,2,"mercedes-benz 240d",null,null,null,null,null,67,30,4.2046926193909657,30]
[330,44.6,4,91,67,1850,13.8,80,3,"honda civic 1500 gl",null,null,null,null,null,67,44.6,4.2046926193909657,44.6]
[332,33.799999999999997,4,97,67,2145,18,80,3,"subaru dl",null,null,null,null,null,67,33.799999999999997,4.2046926193909657,33.799999999999997]
[333,29.8,4,89,62,1845,15.3,80,2,"vokswagen rabbit",null,null,null,null,null,62,29.8,4.1271343850450917,29.8]
[334,32.700000000000003,6,168,132,2910,11.4,80,3,"datsun 280-zx",null,null,null,null,null,132,32.700000000000003,4.8828019225863706,32.700000000000003]
[335,23.7,3,70,100,2420,12.5,80,3,"mazda rx-7 gs",null,null,null,null,null,100,23.7,4.6051701859880918,23.7]
[336,35,4,122,88,2500,15.1,80,2,"triumph tr7 coupe",null,null,null,null,null,88,35,4.4773368144782069,35]
[338,32.4,4,107,72,2290,17,80,3,"honda accord",null,null,null,null,null,72,32.4,4.2766661190160553,32.4]
[339,27.2,4,135,84,2490,15.7,81,1,"plymouth reliant",null,null,null,null,null,84,27.2,4.4308167988433134,27.2]
[340,26.6,4,151,84,2635,16.399999999999999,81,1,"buick skylark",null,null,null,null,null,84,26.6,4.4308167988433134,26.6]
[341,25.8,4,156,92,2620,14.4,81,1,"dodge aries wagon (sw)",null,null,null,null,null,92,25.8,4.5217885770490405,25.8]
[342,23.5,6,173,110,2725,12.6,81,1,"chevrolet citation",null,null,null,null,null,110,23.5,4.7004803657924166,23.5]
[343,30,4,135,84,2385,12.9,81,1,"plymouth reliant",null,null,null,null,null,84,30,4.4308167988433134,30]
[344,39.1,4,79,58,1755,16.899999999999999,81,3,"toyota starlet",null,null,null,null,null,58,39.1,4.0604430105464191,39.1]
[345,39,4,86,64,1875,16.399999999999999,81,1,"plymouth champ",null,null,null,null,null,64,39,4.1588830833596715,39]
[346,35.1,4,81,60,1760,16.100000000000001,81,3,"honda civic 1300",null,null,null,null,null,60,35.1,4.0943445622221004,35.1]
[347,32.299999999999997,4,97,67,2065,17.8,81,3,"subaru",null,null,null,null,null,67,32.299999999999997,4.2046926193909657,32.299999999999997]
[348,37,4,85,65,1975,19.399999999999999,81,3,"datsun 210 mpg",null,null,null,null,null,65,37,4.1743872698956368,37]
[349,37.700000000000003,4,89,62,2050,17.3,81,3,"toyota tercel",null,null,null,null,null,62,37.700000000000003,4.1271343850450917,37.700000000000003]
[350,34.1,4,91,68,1985,16,81,3,"mazda glc 4",null,null,null,null,null,68,34.1,4.219507705176107,34.1]
[351,34.700000000000003,4,105,63,2215,14.9,81,1,"plymouth horizon 4",null,null,null,null,null,63,34.700000000000003,4.1431347263915326,34.700000000000003]
[352,34.4,4,98,65,2045,16.2,81,1,"ford escort 4w",null,null,null,null,null,65,34.4,4.1743872698956368,34.4]
[353,29.9,4,98,65,2380,20.7,81,1,"ford escort 2h",null,null,null,null,null,65,29.9,4.1743872698956368,29.9]
[354,33,4,105,74,2190,14.2,81,2,"volkswagen jetta",null,null,null,null,null,74,33,4.3040650932041702,33]
[356,33.700000000000003,4,107,75,2210,14.4,81,3,"honda prelude",null,null,null,null,null,75,33.700000000000003,4.3174881135363101,33.700000000000003]
[357,32.4,4,108,75,2350,16.8,81,3,"toyota corolla",null,null,null,null,null,75,32.4,4.3174881135363101,32.4]
[358,32.9,4,119,100,2615,14.8,81,3,"datsun 200sx",null,null,null,null,null,100,32.9,4.6051701859880918,32.9]
[359,31.6,4,120,74,2635,18.3,81,3,"mazda 626",null,null,null,null,null,74,31.6,4.3040650932041702,31.6]
[360,28.1,4,141,80,3230,20.399999999999999,81,2,"peugeot 505s turbo diesel",null,null,null,null,null,80,28.1,4.3820266346738812,28.1]
[361,30.7,6,145,76,3160,19.600000000000001,81,2,"volvo diesel",null,null,null,null,null,76,30.7,4.3307333402863311,30.7]
[362,25.4,6,168,116,2900,12.6,81,3,"toyota cressida",null,null,null,null,null,116,25.4,4.7535901911063645,25.4]
[363,24.2,6,146,120,2930,13.8,81,3,"datsun 810 maxima",null,null,null,null,null,120,24.2,4.7874917427820458,24.2]
[364,22.4,6,231,110,3415,15.8,81,1,"buick century",null,null,null,null,null,110,22.4,4.7004803657924166,22.4]
[365,26.6,8,350,105,3725,19,81,1,"oldsmobile cutlass ls",null,null,null,null,null,105,26.6,4.6539603501575231,26.6]
[366,20.2,6,200,88,3060,17.100000000000001,81,1,"ford granada gl",null,null,null,null,null,88,20.2,4.4773368144782069,20.2]
[367,17.600000000000001,6,225,85,3465,16.600000000000001,81,1,"chrysler lebaron salon",null,null,null,null,null,85,17.600000000000001,4.4426512564903167,17.600000000000001]
[368,28,4,112,88,2605,19.600000000000001,82,1,"chevrolet cavalier",null,null,null,null,null,88,28,4.4773368144782069,28]
[369,27,4,112,88,2640,18.600000000000001,82,1,"chevrolet cavalier wagon",null,null,null,null,null,88,27,4.4773368144782069,27]
[370,34,4,112,88,2395,18,82,1,"chevrolet cavalier 2-door",null,null,null,null,null,88,34,4.4773368144782069,34]
[371,31,4,112,85,2575,16.2,82,1,"pontiac j2000 se hatchback",null,null,null,null,null,85,31,4.4426512564903167,31]
[372,29,4,135,84,2525,16,82,1,"dodge aries se",null,null,null,null,null,84,29,4.4308167988433134,29]
[373,27,4,151,90,2735,18,82,1,"pontiac phoenix",null,null,null,null,null,90,27,4.499809670330265,27]
[374,24,4,140,92,2865,16.399999999999999,82,1,"ford fairmont futura",null,null,null,null,null,92,24,4.5217885770490405,24]
[375,36,4,105,74,1980,15.3,82,2,"volkswagen rabbit l",null,null,null,null,null,74,36,4.3040650932041702,36]
[376,37,4,91,68,2025,18.2,82,3,"mazda glc custom l",null,null,null,null,null,68,37,4.219507705176107,37]
[377,31,4,91,68,1970,17.600000000000001,82,3,"mazda glc custom",null,null,null,null,null,68,31,4.219507705176107,31]
[378,38,4,105,63,2125,14.7,82,1,"plymouth horizon miser",null,null,null,null,null,63,38,4.1431347263915326,38]
[379,36,4,98,70,2125,17.3,82,1,"mercury lynx l",null,null,null,null,null,70,36,4.2484952420493594,36]
[380,36,4,120,88,2160,14.5,82,3,"nissan stanza xe",null,null,null,null,null,88,36,4.4773368144782069,36]
[381,36,4,107,75,2205,14.5,82,3,"honda accord",null,null,null,null,null,75,36,4.3174881135363101,36]
[382,34,4,108,70,2245,16.899999999999999,82,3,"toyota corolla",null,null,null,null,null,70,34,4.2484952420493594,34]
[383,38,4,91,67,1965,15,82,3,"honda civic",null,null,null,null,null,67,38,4.2046926193909657,38]
[384,32,4,91,67,1965,15.7,82,3,"honda civic (auto)",null,null,null,null,null,67,32,4.2046926193909657,32]
[385,38,4,91,67,1995,16.2,82,3,"datsun 310 gx",null,null,null,null,null,67,38,4.2046926193909657,38]
[386,25,6,181,110,2945,16.399999999999999,82,1,"buick century limited",null,null,null,null,null,110,25,4.7004803657924166,25]
[387,38,6,262,85,3015,17,82,1,"oldsmobile cutlass ciera (diesel)",null,null,null,null,null,85,38,4.4426512564903167,38]
[388,26,4,156,92,2585,14.5,82,1,"chrysler lebaron medallion",null,null,null,null,null,92,26,4.5217885770490405,26]
[389,22,6,232,112,2835,14.7,82,1,"ford granada l",null,null,null,null,null,112,22,4.7184988712950942,22]
[390,32,4,144,96,2665,13.9,82,3,"toyota celica gt",null,null,null,null,null,96,32,4.5643481914678361,32]
[391,36,4,135,84,2370,13,82,1,"dodge charger 2.2",null,null,null,null,null,84,36,{"$f":"LN(P387)","v":4.4308167988433134},36]
[392,27,4,151,90,2950,17.3,82,1,"chevrolet camaro",null,null,null,null,null,90,27,4.499809670330265,27]
[393,27,4,140,86,2790,15.6,82,1,"ford mustang gl",null,null,null,null,null,86,27,4.4543472962535073,27]
[394,44,4,97,52,2130,24.6,82,2,"vw pickup",null,null,null,null,null,52,44,3.9512437185814275,44]
[395,32,4,135,84,2295,11.6,82,1,"dodge rampage",null,null,null,null,null,84,32,4.4308167988433134,32]
[396,28,4,120,79,2625,18.600000000000001,82,1,"ford ranger",null,null,null,null,null,79,28,4.3694478524670215,28]
[397,31,4,119,82,2720,19.399999999999999,82,1,"chevy s-10",null,null,null,null,null,82,31,4.4067192472642533,31]

{"sheet":"H1 Originaldaten (2)","index":5,"n_rows":149,"n_cols":16,"rows_kept":149,"cut":false,"hidden":false,"merged":[]}
["Column_1-T","education","income","prestige","census","type"]
["gov.administrators",13.11,12351,68.8,1113,"prof"]
["general.managers",12.26,25879,69.099999999999994,1130,"prof"]
["accountants",12.77,9271,63.4,1171,"prof"]
["purchasing.officers",11.42,8865,56.8,1175,"prof"]
["chemists",14.62,8403,73.5,2111,"prof"]
["physicists",15.64,11030,77.599999999999994,2113,"prof"]
["biologists",15.09,8258,72.599999999999994,2133,"prof"]
["architects",15.44,14163,78.099999999999994,2141,"prof"]
["civil.engineers",14.52,11377,73.099999999999994,2143,"prof"]
["mining.engineers",14.64,11023,68.8,2153,"prof"]
["surveyors",12.39,5902,62,2161,"prof"]
["draughtsmen",12.3,7059,60,2163,"prof"]
["computer.programers",13.83,8425,53.8,2183,"prof"]
["economists",14.44,8049,62.2,2311,"prof"]
["psychologists",14.36,7405,74.900000000000006,2315,"prof"]
["social.workers",14.21,6336,55.1,2331,"prof"]
["lawyers",15.77,19263,82.3,2343,"prof"]
["librarians",14.15,6112,58.1,2351,"prof"]
["vocational.counsellors",15.22,9593,58.3,2391,"prof"]
["ministers",14.5,4686,72.8,2511,"prof"]
["university.teachers",15.97,12480,84.6,2711,"prof"]
["primary.school.teachers",13.62,5648,59.6,2731,"prof",null,"AUSGABE: ZUSAMMENFASSUNG"]
["secondary.school.teachers",15.08,8034,66.099999999999994,2733,"prof"]
["physicians",15.96,25308,87.2,3111,"prof",null,"Regressions-Statistik"]
["veterinarians",15.94,14558,66.7,3115,"prof",null,"Multipler Korrelationskoeffizient",0.89330893297825764]
["osteopaths.chiropractors",14.71,17498,68.400000000000006,3117,"prof",null,"Bestimmtheitsmaß",0.79800084973875329]
["nurses",12.46,4614,64.7,3131,"prof",null,"Adjustiertes Bestimmtheitsmaß",0.79392005882438466]
["nursing.aides",9.4499999999999993,3485,34.9,3135,"bc",null,"Standardfehler",7.8101531842373833]
["physio.therapsts",13.62,5092,72.099999999999994,3137,"prof",null,"Beobachtungen",102]
["pharmacists",15.21,10432,69.3,3151,"prof"]
["medical.technicians",12.79,5180,67.5,3156,"wc",null,"ANOVA"]
["commercial.artists",11.09,6197,57.2,3314,"prof",null,null,"Freiheitsgrade (df)","Quadratsummen (SS)","Mittlere Quadratsumme (MS)","Prüfgröße (F)","F krit"]
["radio.tv.announcers",12.71,7562,57.6,3337,"wc",null,"Regression",2,23856.575883302579,11928.28794165129,195.55053578681571,4.1191001859365591E-35]
["athletes",11.44,8206,54.1,3373,"NA",null,"Residue",99,6038.8507833640797,60.998492761253331]
["secretaries",11.59,4036,46,4111,"wc",null,"Gesamt",101,29895.426666666659]
["typists",11.49,3148,41.9,4113,"wc"]
["bookkeepers",11.32,4348,49.4,4131,"wc",null,null,"Koeffizienten","Standardfehler","t-Statistik","P-Wert","Untere 95%","Obere 95%","Untere 95,0%","Obere 95,0%"]
["tellers.cashiers",10.64,2448,42.3,4133,"wc",null,"Schnittpunkt",-6.847778719813391,3.2189770962533482,-2.127315142373551,3.5878400237752142E-2,-13.234927640967705,-0.46062979865907749,-13.234927640967705,-0.46062979865907749]
["computer.operators",11.36,4330,47.7,4143,"wc",null,"X Variable 1",4.1374443836549926,0.34891202326185566,11.858130725835933,1.0322019188060307E-20,3.4451272324865045,4.829761534823481,3.4451272324865045,4.829761534823481]
["shipping.clerks",9.17,4761,30.9,4153,"wc",null,"X Variable 2",1.3611658511872553E-3,2.2421206774152875E-4,6.0708857685412578,2.3551957665415727E-8,9.16280465624272E-4,1.8060512367502387E-3,9.16280465624272E-4,1.8060512367502387E-3]
["file.clerks",12.09,3016,32.700000000000003,4161,"wc"]
["receptionsts",11.04,2901,38.700000000000003,4171,"wc"]
["mail.carriers",9.2200000000000006,5511,36.1,4172,"wc"]
["postal.clerks",10.07,3739,37.200000000000003,4173,"wc",null,"AUSGABE: RESIDUENPLOT"]
["telephone.operators",10.51,3161,38.1,4175,"wc"]
["collectors",11.2,4741,29.4,4191,"wc",null,"Beobachtung","Schätzung für Y","Residuen"]
["claim.adjustors",11.13,5052,51.1,4192,"wc",null,1,64.205876577917351,4.5941234220826459]
["travel.clerks",11.43,6259,35.700000000000003,4193,"wc",null,2,79.1029004866718,-10.002900486671805]
["office.clerks",11,4075,35.6,4197,"wc",null,3,58.606754665817903,4.793245334182096]
["sales.supervisors",9.84,7482,41.5,5130,"wc",null,4,52.468571412301642,4.3314285876983547]
["commercial.travellers",11.13,8780,40.200000000000003,5133,"wc",null,5,65.079534816749103,8.4204651832508972]
["sales.clerks",10.050000000000001,2594,26.5,5137,"wc",null,6,72.875510779146126,4.7244892208538687]
["newsboys",9.6199999999999992,918,14.8,5143,"NA",null,7,66.82676462864481,5.7732353713551845]
["service.station.attendant",9.93,2370,23.3,5145,"bc",null,8,76.312554514184797,1.7874454858151978]
["insurance.agents",11.6,8131,47.3,5171,"wc",null,9,68.713897619814503,4.3861023801854913]
["real.estate.salesmen",11.09,6992,47.1,5172,"wc",null,10,68.72853823453282,7.1461765467176974E-2]
["buyers",11.03,7956,51.1,5191,"wc",null,11,52.448758047379144,9.5512419526208561]
["firefighters",9.4700000000000006,8895,43.5,6111,"bc",null,12,53.651256942673854,6.3487430573261463]
["policemen",10.93,8891,51.6,6112,"bc",null,13,61.840899402387784,-8.0408994023877867]
["cooks",7.74,3116,29.7,6121,"bc",null,14,63.852942116370912,-1.6529421163709088]
["bartenders",8.5,3930,20.2,6123,"bc",null,15,62.645355757513926,12.25464424248608]
["funeral.directors",10.57,7869,54.9,6141,"bc",null,16,60.569652805046509,-5.4696528050465076]
["babysitters",9.4600000000000009,611,25.9,6147,"NA",null,17,84.619857001845944,-2.3198570018459463]
["launderers",7.33,3000,20.8,6162,"bc",null,18,60.016504991361259,-1.9165049913612577]
["janitors",7.11,3472,17.3,6191,"bc",null,19,69.181788809854936,-10.881788809854939]
["elevator.operators",7.58,3582,20.100000000000001,6193,"bc",null,20,59.523588021847473,13.276411978152524]
["farmers",6.84,3643,44.1,7112,"NA",null,21,76.214557909973792,8.3854420900262028]
["farm.workers",8.6,1656,21.5,7182,"bc",null,22,57.192078513073227,2.4079214869267744]
["rotary.well.drillers",8.8800000000000008,6860,35.299999999999997,7711,"bc",null,23,66.480489034142309,-0.38048903414231461]
["bakers",7.54,4199,38.9,8213,"bc",null,24,93.634219005167353,-6.4342190051673498]
["slaughterers.1",7.64,5134,25.2,8215,"bc",null,25,78.918937217231246,-12.218937217231243]
["slaughterers.2",7.64,5134,34.799999999999997,8215,"bc",null,26,77.831708227826141,-9.4317082278261353]
["canners",7.42,1890,23.2,8221,"bc",null,27,50.985197537905819,13.714802462094184]
["textile.weavers",6.69,4443,33.299999999999997,8267,"bc",null,28,36.994733697113872,-2.0947336971138739]
["textile.labourers",6.74,3485,28.8,8278,"bc",null,29,56.435270299813112,15.664729700186882]
["tool.die.makers",10.09,8043,42.5,8311,"bc",null,30,70.282432515164501,-0.98243251516450414]
["machinists",8.81,6686,44.2,8313,"bc",null,31,53.120974056283941,14.379025943716059]
["sheet.metal.workers",8.4,6565,35.9,8333,"bc",null,32,47.471624274727901,9.7283757252721017]
["welders",7.92,6477,41.8,8335,"bc",null,33,56.03227556311959,1.5677244368804111]
["auto.workers",8.43,5811,35.9,8513,"bc",null,34,51.654312004042339,2.4456879959576625]
["aircraft.workers",8.7799999999999994,6573,43.7,8515,"bc",null,35,46.598867062139739,-0.59886706213973895]
["electronic.workers",8.76,3942,50.8,8534,"bc",null,36,44.97640734791996,-3.076407347919961]
["radio.tv.repairmen",10.29,5449,37.200000000000003,8537,"bc",null,37,45.906440824123308,3.4935591758766904]
["sewing.mach.operators",6.38,2847,28.2,8563,"bc",null,38,40.50676352598213,1.793236474017867]
["auto.repairmen",8.1,5795,38.1,8581,"bc",null,39,46.047437614148137,1.6525623858518657]
["aircraft.repairmen",10.1,7716,50.3,8582,"bc",null,40,37.573096895805413,-6.6730968958054149]
["railway.sectionmen",6.67,4696,27.3,8715,"bc",null,41,47.27920008575623,-14.579200085756227]
["electrical.linemen",9.0500000000000007,8316,40.9,8731,"bc",null,42,42.77834941003195,-4.0783494100319473]
["electricians",9.93,7147,50.2,8733,"bc",null,43,38.800843503378609,-2.7008435033786071]
["construction.foremen",8.24,8880,51.1,8780,"bc",null,44,39.905685341181531,-2.7056853411815283]
["carpenters",6.92,5299,38.9,8781,"bc",null,45,40.939407008003492,-2.8394070080034908]
["masons",6.6,5959,36.200000000000003,8782,"bc",null,46,45.944885677601299,-16.5448856776013]
["house.painters",7.81,4549,29.9,8785,"bc",null,47,46.078587150464699,5.0214128495353023]
["plumbers",8.33,6928,42.9,8791,"bc",null,48,48.962747647944205,-13.262747647944202]
["construction.labourers",7.52,3910,26.5,8798,"bc",null,49,44.21086034397959,-8.6108603439795885]
["pilots",12.27,14032,66.099999999999994,9111,"prof",null,50,44.048916913934782,-2.5489169139347823]
["train.engineers",8.49,8845,48.9,9131,"bc",null,51,51.153013443690782,-10.953013443690779]
["bus.drivers",7.58,5562,35.9,9171,"bc",null,52,38.264401553899027,-11.764401553899027]
["taxi.drivers",7.93,4224,25.1,9173,"bc",null,53,34.203986502337536,-19.403986502337535]
["longshoremen",8.3699999999999992,4753,26.1,9313,"bc",null,54,37.463007077194476,-14.163007077194475]
["typesetters",10,6462,42.2,9511,"bc",null,55,52.214215666588096,-4.9142156665880989]
["bookbinders",8.5500000000000007,3617,35.200000000000003,9517,"bc",null,56,48.553751126421766,-1.4537511264217642]
[null,null,null,null,null,null,null,57,49.617668343946981,1.4823316560530202]
[null,null,null,null,null,null,null,58,44.441389839710027,-0.94138983971002688]
[null,null,null,null,null,null,null,59,50.47661397644157,1.1233860235584316]
[null,null,null,null,null,null,null,60,29.417433601975738,0.28256639802426164]
[null,null,null,null,null,null,null,61,33.669880336419958,-13.469880336419958]
[null,null,null,null,null,null,null,62,47.596022498412395,7.3039775015876032]
[null,null,null,null,null,null,null,63,33.124117484638255,-7.2241174846382563]
[null,null,null,null,null,null,null,64,27.56318616593947,-6.7631861659394694]
[null,null,null,null,null,null,null,65,27.295418683295757,-9.9954186832957568]
[null,null,null,null,null,null,null,66,29.389745787244202,-9.2897457872442004]
[null,null,null,null,null,null,null,67,26.411068060261929,17.688931939738072]
[null,null,null,null,null,null,null,68,30.988333629185639,-9.4883336291856395]
[null,null,null,null,null,null,null,69,39.230325146187518,-3.9303251461875206]
[null,null,null,null,null,null,null,70,30.064087342080537,8.8359126579194616]
[null,null,null,null,null,null,null,71,31.750521851306118,-6.5505218513061187]
[null,null,null,null,null,null,null,72,31.750521851306118,3.0494781486938791]
[null,null,null,null,null,null,null,73,26.424662065650566,-3.2246620656505662]
[null,null,null,null,null,null,null,74,26.879384083663489,6.4206159163365086]
[null,null,null,null,null,null,null,75,25.782259417408845,3.0177405825911556]
[null,null,null,null,null,null,null,76,45.846892052364581,-3.3468920523645806]
[null,null,null,null,null,null,null,77,38.703861181225079,5.4961388187749236]
[null,null,null,null,null,null,null,78,36.84280791593288,-0.94280791593288171]
[null,null,null,null,null,null,null,79,34.737052016874003,7.0629479831259943]
[null,null,null,null,null,null,null,80,35.940612195647333,-4.0612195647334204E-2]
[null,null,null,null,null,null,null,81,38.425926108531272,5.2740738914687313]
[null,null,null,null,null,null,null,82,34.761949866384505,16.038050133615492]
[null,null,null,null,null,null,null,83,43.143516711115836,-5.9435167111158336]
[null,null,null,null,null,null,null,84,23.424355626235577,4.7756443737644219]
[null,null,null,null,null,null,null,85,34.553476895422193,3.5465231045778083]
[null,null,null,null,null,null,null,86,45.443165262862891,4.8568347371371061]
[null,null,null,null,null,null,null,87,27.141010156340762,0.15898984365923852]
[null,null,null,null,null,null,null,88,41.915548170737509,-1.0155481707375102]
[null,null,null,null,null,null,null,89,43.965296348316002,6.2347036516840006]
[null,null,null,null,null,null,null,90,39.331915760046577,11.768084239953424]
[null,null,null,null,null,null,null,91,28.996154260520424,9.9038457394795749]
[null,null,null,null,null,null,null,92,28.570541519534416,7.6294584804655869]
[null,null,null,null,null,null,null,93,31.657605373582925,-1.7576053735829262]
[null,null,null,null,null,null,null,94,37.047290013058003,5.8527099869419956]
[null,null,null,null,null,null,null,95,29.587961523414318,-3.0879615234143181]
[null,null,null,null,null,null,null,96,63.01854309149293,3.0814569085070644]
[null,null,null,null,null,null,null,97,40.318636051168767,8.5813639488312319]
[null,null,null,null,null,null,null,98,32.084854172594966,3.8151458274050327]
[null,null,null,null,null,null,null,99,31.711719797985669,-6.6117197979856677]
[null,null,null,null,null,null,null,100,34.252252062071918,-8.1522520620719163]
[null,null,null,null,null,null,null,101,43.322518847108583,-1.1225188471085801]
[null,null,null,null,null,null,null,102,33.450707644181101,1.749292355818902]